{"text_format":"1","workbook":"xlsx","n_sheets":10,"sheets":["Control_Sheet","Output","Data_1","Data_2","Data_4","Reserve","Data_Sunday","HTML","ARES21 File production","CompetittorIDmasslistForCOunt"],"not_rendered":{"charts":0,"images":2,"macros":1,"external_links":0,"defined_names":2,"comments":0,"pivot_tables":0},"unopened":[],"bounds":{"document_bytes":16777216,"sheet_cells":100000,"rows_first":2000,"rows_last":500,"rows_between":2000,"halvings":0,"cell_chars":16384,"cell_head_chars":4096},"cells_cut":0,"cells_raw":0,"read":"whole","date_system":"1900"}

{"sheet":"Control_Sheet","index":0,"n_rows":191,"n_cols":45,"rows_kept":191,"cut":false,"hidden":false,"merged":[[0,3,0,5],[4,6,4,7],[4,8,4,9],[0,6,0,9],[0,10,0,13],[15,16,15,21],[15,24,15,29],[15,32,15,37],[15,40,15,44],[2,14,2,18]]}
[null,"Single Event/Lane",null,"Order Of Events",null,null,"Whole Champs",null,null,null,"Events Data"]
[null,null,null,null,null,null,null,null,null,null,null,null,null,null,"Name:",null,null,null,null,null,null,null,"Clubs",{"$f":"CompetittorIDmasslistForCOunt!P2-2","v":20}]
[null,"Event (Champs Event) \nto Print",null,"No. Events",{"$f":"MAX(D:D)","v":22},null,null,null,null,null,"Event Code","Event Name","No. Competitors",null,"#StudentSpeeds16\n@BULSCA",null,null,null,null,null,null,null,"Unique Competittiors",{"$f":"SUM(IF(FREQUENCY(CompIDTotal,CompIDTotal)>0,1))-1","v":148}]
[null,null,null,"Age Groups",{"$f":"IF(COUNTIF(E6:E111,\"JG\")>0,1,0)+IF(COUNTIF(E6:E111,\"JB\")>0,1,0)+IF(COUNTIF(E6:E111,\"SG\")>0,1,0)+IF(COUNTIF(E6:E111,\"SB\")>0,1,0)+IF(COUNTIF(E6:E111,\"F\")>0,1,0)+IF(COUNTIF(E6:E111,\"M\")>0,1,0)+IF(COUNTIF(E6:E111,\"RG9\")>0,1,0)+IF(COUNTIF(E6:E111,\"RB9\")>0,1,0)+IF(COUNTIF(E6:E111,\"RG11\")>0,1,0)+IF(COUNTIF(E6:E111,\"Rb11\")>0,1,0)+IF(COUNTIF(E6:E111,\"MaF\")>0,1,0)+IF(COUNTIF(E6:E111,\"MaM\")>0,1,0)","v":2},null,"inc ARES",null,null,null,1,"200m Obstacle Swim",1,null,null,null,null,null,null,null,null,null,"Indervidual Swims",{"$f":"Data_1!O1","v":310}]
["Produce Output to Excel","Save As PDF","Send To Printer","Event Numbers\n(Must be Continuous)","Sex","Event \nCode","Save as PDF",null,"Send to Printer",null,2,"50m Manikin Carry",1,null,"Year:",2016,null,"Draw\nVersion","Final v1",null,null,null,"Rope Throws",{"$f":"Data_2!R1","v":59}]
[null,null,null,1,"F",21,null,null,null,null,3,"100m Rescue Medley",1,null,null,null,null,null,null,null,null,null,"Relays",{"$f":"Data_4!W1","v":87}]
[null,null,null,{"$f":"IF(E7<>\"\",D6+1,\"\")","v":2},"M",21,null,null,null,null,4,"100m Manikin Carry with Fins",1,null,"Fill in the below to establish which set of records we are using"]
[null,null,null,{"$f":"IF(E8<>\"\",D7+1,\"\")","v":3},"F",22,null,null,null,null,5,"100m Manikin Tow with Fins",1,null,"NGB","BULSCA"]
[null,null,null,4,"M",22,null,null,null,null,6," 200m Super Lifesaver",1,null,null,null,null,null,"Key People for Programme"]
[null,null,null,5,"F",1,null,null,null,null,7,"12m Speeds Line Throw",2,null,"Course",50,null,null,"Organiser","Jamie R and Commmitee",null,null,"Ref","Alan Sutherland",null,"Comp Liason","Oliver Coleman"]
[null,null,null,6,"M",1,null,null,null,null,8,"4x25m Manikin Carry Relay",4,null,null,null,null,null,"Host","BULSCA",null,null,"Dep-Ref","Felix Ng and Chrissie Butcher"]
[null,null,null,7,"F",9,null,null,null,null,9,"4x50m Obstacle Relay",4,null,null,null,null,null,"Scorers","Oli C and Team",null,null,"Starter","TBC"]
[null,null,null,8,"M",9,null,null,null,null,10,"4x50m Medley Relay",4,null,null,null,null,null,"warm up"," 8:15",null,null,"Strart Time"," 8:45"]
[null,null,null,9,"F",2,null,null,null,null,11,"4x12m Line Throw Relay",4,null,"CurrentReords"]
[null,null,null,10,"M",2,null,null,null,null,12,"100m Obstacle Swim",1]
[null,null,null,11,"F",4,null,null,null,null,13,"25m Manikin Carry",1,null,null,null,"BULSCA LONG COURSE (March 16 before rlss speeds)",null,null,null,null,null,null,null,"BULSCA ShortCOURSE",null,null,null,null,null,null,null,"RLSS UK Long (August 2015)",null,null,null,null,null,null,null,"RLSS UK Short"]
[null,null,null,12,"M",4,null,null,null,null,14,"50m Rescue Medley",1,null,"Event Code","Sex","Name","Club","Comp","Location","Date","Time",{"$f":"$O17","v":"Event Code"},{"$f":"$P17","v":"Sex"},"Name","Club","Comp","Location","Date","Time",{"$f":"$O17","v":"Event Code"},{"$f":"$P17","v":"Sex"},"Name","Club","Comp","Location","Date","Time",{"$f":"$O17","v":"Event Code"},{"$f":"$P17","v":"Sex"},"Club","Comp","Location","Date","Time"]
[null,null,null,13,"F",3,null,null,null,null,15,"50m Manikin Carry with Fins",1,null,1,"M","Paul Ellard","Loughborough Students","RLSS Speeds","Ponde Forge","March 2013",131.6,1,"M",null,null,null,null,null,null,1,"M","P. John","Pen-Y-Bont","SLSGB","Milfield","March 2004",122.7,1,"M"]
[null,null,null,14,"M",3,null,null,null,null,16,"50m Manikin Tow with Fins",1,null,2,"M","Sam Lawman","University of Sheffield","BULSCA Speeds","Hengrove","march 15",34.5,2,"M",null,null,null,null,null,null,2,"M","C. Haynes","GB & NI","Europeans","Swansea","August 2015",30.54,2,"M"]
[null,null,null,15,"F",6,null,null,null,null,17,"100m Super Lifesaver",1,null,3,"M","A. Kane","Teeside University","European Championships National Teams","Swansea","August 15",69.790000000000006,3,"M",null,null,null,null,null,null,3,"M","J. Purvis","Blyth Lifeguard & Swimming Clubb","RLSS Speeds","Ponde Forge","March 2013",66.39,3,"M"]
[null,null,null,16,"M",6,null,null,null,null,18,"4x12.5m Manikin Carry Relay",4,null,4,"M","George Hopkinson","Swansea University","European Championships","Tenerife","May 07",54.85,4,"M",null,null,null,null,null,null,4,"M","S. Worne","Crawley Town","RLSS Speeds","London","March 15",48.62,4,"M"]
[null,null,null,17,"F",8,null,null,null,null,19,"4x25m Obstacle Relay",4,null,5,"M","A. Kane","Teeside University","BULSCA Speeds","Hengrove","march 15",57,5,"M",null,null,null,null,null,null,5,"M","S. Worne","Crawley Town","Europeans","Swansea","August 15",54.29,5,"M"]
[null,null,null,18,"M",8,null,null,null,null,20,"4x25m Medley Relay",4,null,6,"M","Paul Ellard","Loughborough Students","BULSCA Speeds","Bath","March 13",148.22999999999999,6,"M",null,null,null,null,null,null,6,"M","A. Kane","Blyth Lifeguard & Swimming Club","RLSS Speeds","Ponde Forge","March 12",149.32,6,"M"]
[null,null,null,19,"F",5,null,null,null,null,21,"12.5m Line Throw",2,null,7,"M","Rhys Clements","University of Southampton","BULSCA Speeds","Burgess Hill","March 09",9.8699999999999992,7,"M",null,null,null,null,null,null,7,"M",null,null,null,null,null,null,7,"M"]
[null,null,null,20,"M",5,null,null,null,null,22,"4x12.5 m Line Throw Relay",4,null,8,"M","Thompson,Perry,Phillipson,Power","Loughborough Students","BULSCA Speeds","Hengrove","March 15",94.8,8,"M",null,null,null,null,null,null,8,"M","R Jagger, A Kane, S Lawman & S Worne","Crawley Town","RLSS Speeds","London","March 2015",71.489999999999995,8,"M"]
[null,null,null,21,"F",10,null,null,null,null,23,"50m Obstacle Swim",1,null,9,"M","Hallum,Peacock,Mason,Stoney","Loughborough Students","British Still Water","Millfield","Feb 09",112.8,9,"M",null,null,null,null,null,null,9,"M","Jagger,Kane,Lawman,Seagrove-Castle","England Team","Commonweaths","Australia","Sept 2013",104.88,9,"M"]
[null,null,null,22,"M",10,null,null,null,null,24,"N/A Multi event",null,null,10,"M","Mason,Foley,Malloy,Cox","Loughborough Students","BULSCA Speeds","University of Bath","March 12",101.67,10,"M",null,null,null,null,null,null,10,"M","R Jagger, A Kane, S Lawman & S Worne","Crawley Town","RLSS Speeds","London","March 15",95.7,10,"M"]
[null,null,null,"",null,null,null,null,null,null,25,"N/A Multi event",null,null,11,"M","Chamberlain,Clements,Morrison,Scurrah","University of Southampton","BULSCA Speeds","Millfield","March 10",63.56,11,"M",null,null,null,null,null,null,11,"M",null,null,null,null,null,null,11,"M"]
[null,null,null,"",null,null,null,null,null,null,26,"N/A Multi event",null,null,12,"M",null,null,null,null,null,null,12,"M",null,null,null,null,null,null,12,"M",null,null,null,null,null,null,12,"M"]
[null,null,null,"",null,null,null,null,null,null,27,"4 x 25 Free Relay",4,null,13,"M",null,null,null,null,null,null,13,"M",null,null,null,null,null,null,13,"M",null,null,null,null,null,null,13,"M"]
[null,null,null,"",null,null,null,null,null,null,28,"10m Line Throw",2,null,14,"M",null,null,null,null,null,null,14,"M",null,null,null,null,null,null,14,"M",null,null,null,null,null,null,14,"M"]
[null,null,null,"",null,null,null,null,null,null,29,"4 x 10m Line Throw",4,null,15,"M",null,null,null,null,null,null,15,"M",null,null,null,null,null,null,15,"M",null,null,null,null,null,null,15,"M"]
[null,null,null,"",null,null,null,null,null,null,30,"6 x 50 Obstacle Relay",1,null,16,"M",null,null,null,null,null,null,16,"M",null,null,null,null,null,null,16,"M",null,null,null,null,null,null,16,"M"]
[null,null,null,"",null,null,null,null,null,null,31,"6 x 50 Freestyle with Fins",1,null,17,"M",null,null,null,null,null,null,17,"M",null,null,null,null,null,null,17,"M",null,null,null,null,null,null,17,"M"]
[null,null,null,"",null,null,null,null,null,null,32,"N/A Multi event",1,null,18,"M",null,null,null,null,null,null,18,"M",null,null,null,null,null,null,18,"M",null,null,null,null,null,null,18,"M"]
[null,null,null,"",null,null,null,null,null,null,33,"25m Obstacle Swim",1,null,19,"M",null,null,null,null,null,null,19,"M",null,null,null,null,null,null,19,"M",null,null,null,null,null,null,19,"M"]
[null,null,null,"",null,null,null,null,null,null,34,"25m Boogie Board",1,null,20,"M",null,null,null,null,null,null,20,"M",null,null,null,null,null,null,20,"M",null,null,null,null,null,null,20,"M"]
[null,null,null,"",null,null,null,null,null,null,35,"25m Flippers",1,null,21,"M","B Prime","University of Warwick","BULSCA Speeds","Hengrove","March 15",12.81,21,"M",null,null,null,null,null,null,21,"M","J. Miller & Tweeddale","East Killbride ","RLSS Speeds","Sheffield","March 14",9.7200000000000006,21,"M"]
[null,null,null,"",null,null,null,null,null,null,36,"4 x 25 Boogie Board",4,null,22,"M","TBC","University of Birmingham","BULSCA Speeds","Bath","March 14",89.75,22,"M",null,null,null,null,null,null,22,"M",null,null,null,null,null,null,22,"M"]
[null,null,null,"",null,null,null,null,null,null,null,null,null,null,23,"M",null,null,null,null,null,null,23,"M",null,null,null,null,null,null,23,"M",null,null,null,null,null,null,23,"M"]
[null,null,null,"",null,null,null,null,null,null,null,null,null,null,24,"M",null,null,null,null,null,null,24,"M",null,null,null,null,null,null,24,"M",null,null,null,null,null,null,24,"M"]
[null,null,null,"",null,null,null,null,null,null,null,null,null,null,25,"M",null,null,null,null,null,null,25,"M",null,null,null,null,null,null,25,"M",null,null,null,null,null,null,25,"M"]
[null,null,null,"",null,null,null,null,null,null,null,null,null,null,26,"M",null,null,null,null,null,null,26,"M",null,null,null,null,null,null,26,"M",null,null,null,null,null,null,26,"M"]
[null,null,null,"",null,null,null,null,null,null,null,null,null,null,27,"M",null,null,null,null,null,null,27,"M",null,null,null,null,null,null,27,"M",null,null,null,null,null,null,27,"M"]
[null,null,null,"",null,null,null,null,null,null,null,null,null,null,28,"M",null,null,null,null,null,null,28,"M",null,null,null,null,null,null,28,"M",null,null,null,null,null,null,28,"M"]
[null,null,null,"",null,null,null,null,null,null,null,null,null,null,29,"M",null,null,null,null,null,null,29,"M",null,null,null,null,null,null,29,"M",null,null,null,null,null,null,29,"M"]
[null,null,null,"",null,null,null,null,null,null,null,null,null,null,1,"F","Rhian Thomas","Swansea University","BULSCA Speeds","Cardiff","March 11",142.46,1,"F",null,null,null,null,null,null,1,"F","Z. Williams","GB & NI","Europeans","Swansea","August 15",134.24,1,"F"]
[null,null,null,"",null,null,null,null,null,null,null,null,null,null,2,"F","B.Harris","Loughborough Students","Commonwealth Champs","Durban","Sept 12",39,2,"F",null,null,null,null,null,null,2,"F","Z. Williams","GB & NI","Europeans","Swansea","August 15",34.299999999999997,2,"F"]
[null,null,null,"",null,null,null,null,null,null,null,null,null,null,3,"F","Helen Smale","Swansea University","SLSA Still Water","University of Bath","March 08",84.27,3,"F",null,null,null,null,null,null,3,"F","Z. Williams","Crawley Town","Europeans","Swansea","August 15",59.48,3,"F"]
[null,null,null,"",null,null,null,null,null,null,null,null,null,null,4,"F","R.Rowe","Loughborough Students","British Still Water","Millfield","March 03",62.11,4,"F",null,null,null,null,null,null,4,"F","D.Amos","GB & NI","Europeans","Swansea","August 15",58.68,4,"F"]
[null,null,null,"",null,null,null,null,null,null,null,null,null,null,5,"F","Dani Perks","Swansea University","SLSA Still Water","University of Bath","March 08",65.41,5,"F",null,null,null,null,null,null,5,"F","D.Amos","Crawley Town","RLSS Speeds","London","March 15",60.87,5,"F"]
[null,null,null,"",null,null,null,null,null,null,null,null,null,null,6,"F","Dani Perks","Swansea University","SLSA Still Water","University of Bath","March 08",162.59,6,"F",null,null,null,null,null,null,6,"F","SARAH HENDERSON ","UNION L.C. ","RLSS Speeds","Sheffield","March 14",152.56,6,"F"]
[null,null,null,"",null,null,null,null,null,null,null,null,null,null,7,"F","Polly Scurrah","Loughborough Students","BULSCA Speeds","Millfield","March 10",12.69,7,"F",null,null,null,null,null,null,7,"F",null,null,null,null,null,null,7,"F"]
[null,null,null,"",null,null,null,null,null,null,null,null,null,null,8,"F","Sanco,Simmonds,Herring,Seddon","Loughborough Students","BULSCA Speeds","Bath","March 13",109.69,8,"F",null,null,null,null,null,null,8,"F","Gourley,Harris,Williams,Williams","England Team","Commonweaths","Austrailia","Sept 13",91.43,8,"F"]
[null,null,null,"",null,null,null,null,null,null,null,null,null,null,9,"F","Brown,Cardwell,Goulding, Huxtable","Loughborough Students","RLSS Speeds","Ponde Forge","March 06",131.31,9,"F",null,null,null,null,null,null,9,"F","Amos,Harris,Williams,Williams","England Team","Commonweaths","Austrailia","Sept 13",116.72,9,"F"]
[null,null,null,"",null,null,null,null,null,null,null,null,null,null,10,"F","Brown,Goulding,Tye,Whitlow","Loughborough Students","RLSS Speeds","Ponde Forge","March 05",117.23,10,"F",null,null,null,null,null,null,10,"F","Williams, Z; Amos, Howes, L; Harris, B","Crawley Town","RLSS Speeds","London","March 15",104.78,10,"F"]
[null,null,null,"",null,null,null,null,null,null,null,null,null,null,11,"F","Bowles,Dyson,Wade,Walker","University of Southampton","BULSCA Speeds","Burgess Hill","March 08",89,11,"F",null,null,null,null,null,null,11,"F",null,null,null,null,null,null,11,"F"]
[null,null,null,"",null,null,null,null,null,null,null,null,null,null,12,"F",null,null,null,null,null,null,12,"F",null,null,null,null,null,null,12,"F",null,null,null,null,null,null,12,"F"]
[null,null,null,"",null,null,null,null,null,null,null,null,null,null,13,"F",null,null,null,null,null,null,13,"F",null,null,null,null,null,null,13,"F",null,null,null,null,null,null,13,"F"]
[null,null,null,"",null,null,null,null,null,null,null,null,null,null,14,"F",null,null,null,null,null,null,14,"F",null,null,null,null,null,null,14,"F",null,null,null,null,null,null,14,"F"]
[null,null,null,"",null,null,null,null,null,null,null,null,null,null,15,"F",null,null,null,null,null,null,15,"F",null,null,null,null,null,null,15,"F",null,null,null,null,null,null,15,"F"]
[null,null,null,"",null,null,null,null,null,null,null,null,null,null,16,"F",null,null,null,null,null,null,16,"F",null,null,null,null,null,null,16,"F",null,null,null,null,null,null,16,"F"]
[null,null,null,"",null,null,null,null,null,null,null,null,null,null,17,"F",null,null,null,null,null,null,17,"F",null,null,null,null,null,null,17,"F",null,null,null,null,null,null,17,"F"]
[null,null,null,"",null,null,null,null,null,null,null,null,null,null,18,"F",null,null,null,null,null,null,18,"F",null,null,null,null,null,null,18,"F",null,null,null,null,null,null,18,"F"]
[null,null,null,"",null,null,null,null,null,null,null,null,null,null,19,"F",null,null,null,null,null,null,19,"F",null,null,null,null,null,null,19,"F",null,null,null,null,null,null,19,"F"]
[null,null,null,"",null,null,null,null,null,null,null,null,null,null,20,"F",null,null,null,null,null,null,20,"F",null,null,null,null,null,null,20,"F",null,null,null,null,null,null,20,"F"]
[null,null,null,"",null,null,null,null,null,null,null,null,null,null,21,"F","j Roberts","University of Warwick","BULSCA Speeds","Hengrove","March 15",15.4,21,"F",null,null,null,null,null,null,21,"F"," L. Nicholas & Z. Williams","SLSGB","Unknown","Warendorf","Nov 14",12.26,21,"F"]
[null,null,null,"",null,null,null,null,null,null,null,null,null,null,22,"F",null,null,null,null,null,null,22,"F",null,null,null,null,null,null,22,"F",null,null,null,null,null,null,22,"F"]
[null,null,null,"",null,null,null,null,null,null,null,null,null,null,23,"F",null,null,null,null,null,null,23,"F",null,null,null,null,null,null,23,"F",null,null,null,null,null,null,23,"F"]
[null,null,null,"",null,null,null,null,null,null,null,null,null,null,24,"F",null,null,null,null,null,null,24,"F",null,null,null,null,null,null,null,null,null,null,null,null,null,null,24,"F"]
[null,null,null,"",null,null,null,null,null,null,null,null,null,null,25,"F",null,null,null,null,null,null,25,"F",null,null,null,null,null,null,null,null,null,null,null,null,null,null,25,"F"]
[null,null,null,{"$f":"IF(E72<>\"\",D71+1,\"\")","v":""},null,null,null,null,null,null,null,null,null,null,26,"F",null,null,null,null,null,null,26,"F",null,null,null,null,null,null,null,null,null,null,null,null,null,null,26,"F"]
[null,null,null,"",null,null,null,null,null,null,null,null,null,null,27,"F",null,null,null,null,null,null,27,"F",null,null,null,null,null,null,null,null,null,null,null,null,null,null,27,"F"]
[null,null,null,"",null,null,null,null,null,null,null,null,null,null,28,"F",null,null,null,null,null,null,28,"F",null,null,null,null,null,null,null,null,null,null,null,null,null,null,28,"F"]
[null,null,null,"",null,null,null,null,null,null,null,null,null,null,29,"F",null,null,null,null,null,null,29,"F",null,null,null,null,null,null,null,null,null,null,null,null,null,null,29,"F"]
[null,null,null,"",null,null,null,null,null,null,null,null,null,null,1,"SB",null,null,null,null,null,null,1,"SB",null,null,null,null,null,null,1,"SB","C.Haynes","GB & NI","Worlds","France","Sept 14",125.28,1,"SB"]
[null,null,null,"",null,null,null,null,null,null,null,null,null,null,2,"SB",null,null,null,null,null,null,2,"SB",null,null,null,null,null,null,2,"SB","J. Purvis","RLSS UK","Unknown","Germany","Feb 11",32.51,2,"SB"]
[null,null,null,"",null,null,null,null,null,null,null,null,null,null,3,"SB",null,null,null,null,null,null,3,"SB",null,null,null,null,null,null,3,"SB","J. Purvis","Unknown","Unknown","Unknown","Unknown",69.099999999999994,3,"SB"]
[null,null,null,{"$f":"IF(E79<>\"\",D78+1,\"\")","v":""},null,null,null,null,null,null,null,null,null,null,4,"SB",null,null,null,null,null,null,4,"SB",null,null,null,null,null,null,4,"SB","J. Power","Blyth Lifeguard & Swimming Club","Welsh Still Waters","Cardiff","March 14",53.1,4,"SB"]
[null,null,null,"",null,null,null,null,null,null,null,null,null,null,5,"SB",null,null,null,null,null,null,5,"SB",null,null,null,null,null,null,5,"SB","J.Power","Blyth Lifeguard & Swimming Club","Welsh Still Waters","Cardiff","March 15",59.55,5,"SB"]
[null,null,null,"",null,null,null,null,null,null,null,null,null,null,6,"SB",null,null,null,null,null,null,6,"SB",null,null,null,null,null,null,6,"SB",null,null,null,null,null,null,6,"SB"]
[null,null,null,"",null,null,null,null,null,null,null,null,null,null,7,"SB",null,null,null,null,null,null,7,"SB",null,null,null,null,null,null,7,"SB",null,null,null,null,null,null,7,"SB"]
[null,null,null,"",null,null,null,null,null,null,null,null,null,null,8,"SB",null,null,null,null,null,null,8,"SB",null,null,null,null,null,null,8,"SB","Weightman,Power,McCallum, McGuire","Blyth Lifeguard & Swimming Club","RLSS Speeds","Sheffield","March 13",83.31,8,"SB"]
[null,null,null,"",null,null,null,null,null,null,null,null,null,null,9,"SB",null,null,null,null,null,null,9,"SB",null,null,null,null,null,null,9,"SB","Purvis,McGuire,Power,Weightman","Blyth Lifeguard & Swimming Club","RLSS Speeds","Sheffield","March 12",115.53,9,"SB"]
[null,null,null,"",null,null,null,null,null,null,null,null,null,null,10,"SB",null,null,null,null,null,null,10,"SB",null,null,null,null,null,null,10,"SB","McCallum,Power,Weightman, Gourley","Blyth Lifeguard & Swimming Club","RLSS Speeds","Sheffield","March 14",103.77,10,"SB"]
[null,null,null,null,null,null,null,null,null,null,null,null,null,null,11,"SB",null,null,null,null,null,null,11,"SB",null,null,null,null,null,null,11,"SB",null,null,null,null,null,null,11,"SB"]
[null,null,null,null,null,null,null,null,null,null,null,null,null,null,12,"SB",null,null,null,null,null,null,12,"SB",null,null,null,null,null,null,12,"SB","J. Purvis","Blyth Lifeguard & Swimming Club","RLSS Speeds","Sheffield","March 12",58.79,12,"SB"]
[null,null,null,null,null,null,null,null,null,null,null,null,null,null,13,"SB",null,null,null,null,null,null,13,"SB",null,null,null,null,null,null,13,"SB",null,null,null,null,null,null,13,"SB"]
[null,null,null,null,null,null,null,null,null,null,null,null,null,null,14,"SB",null,null,null,null,null,null,14,"SB",null,null,null,null,null,null,14,"SB",null,null,null,null,null,null,14,"SB"]
[null,null,null,null,null,null,null,null,null,null,null,null,null,null,15,"SB",null,null,null,null,null,null,15,"SB",null,null,null,null,null,null,15,"SB",null,null,null,null,null,null,15,"SB"]
[null,null,null,null,null,null,null,null,null,null,null,null,null,null,16,"SB",null,null,null,null,null,null,16,"SB",null,null,null,null,null,null,16,"SB",null,null,null,null,null,null,16,"SB"]
[null,null,null,null,null,null,null,null,null,null,null,null,null,null,17,"SB",null,null,null,null,null,null,17,"SB",null,null,null,null,null,null,17,"SB",null,null,null,null,null,null,17,"SB"]
[null,null,null,null,null,null,null,null,null,null,null,null,null,null,18,"SB",null,null,null,null,null,null,18,"SB",null,null,null,null,null,null,18,"SB",null,null,null,null,null,null,18,"SB"]
[null,null,null,null,null,null,null,null,null,null,null,null,null,null,19,"SB",null,null,null,null,null,null,19,"SB",null,null,null,null,null,null,19,"SB",null,null,null,null,null,null,19,"SB"]
[null,null,null,null,null,null,null,null,null,null,null,null,null,null,20,"SB",null,null,null,null,null,null,{"$f":"$O95","v":20},{"$f":"$P95","v":"SB"},null,null,null,null,null,null,{"$f":"$O95","v":20},{"$f":"$P95","v":"SB"},null,null,null,null,null,null,{"$f":"$O95","v":20},{"$f":"$P95","v":"SB"}]
[null,null,null,null,null,null,null,null,null,null,null,null,null,null,21,"SB",null,null,null,null,null,null,21,"SB",null,null,null,null,null,null,21,"SB","J. Jennings & S. MacFarlane","City of Rochester ","RLSS Speeds","Sheffield","March 14",11.14,21,"SB"]
[null,null,null,null,null,null,null,null,null,null,null,null,null,null,22,"SB",null,null,null,null,null,null,22,"SB",null,null,null,null,null,null,22,"SB",null,null,null,null,null,null,22,"SB"]
[null,null,null,null,null,null,null,null,null,null,null,null,null,null,23,"SB",null,null,null,null,null,null,23,"SB",null,null,null,null,null,null,23,"SB",null,null,null,null,null,null,23,"SB"]
[null,null,null,null,null,null,null,null,null,null,null,null,null,null,24,"SB",null,null,null,null,null,null,24,"SB",null,null,null,null,null,null,24,"SB",null,null,null,null,null,null,24,"SB"]
[null,null,null,null,null,null,null,null,null,null,null,null,null,null,25,"SB",null,null,null,null,null,null,25,"SB",null,null,null,null,null,null,25,"SB",null,null,null,null,null,null,25,"SB"]
[null,null,null,null,null,null,null,null,null,null,null,null,null,null,26,"SB",null,null,null,null,null,null,26,"SB",null,null,null,null,null,null,26,"SB",null,null,null,null,null,null,26,"SB"]
[null,null,null,null,null,null,null,null,null,null,null,null,null,null,27,"SB",null,null,null,null,null,null,27,"SB",null,null,null,null,null,null,27,"SB",null,null,null,null,null,null,27,"SB"]
[null,null,null,null,null,null,null,null,null,null,null,null,null,null,28,"SB",null,null,null,null,null,null,28,"SB",null,null,null,null,null,null,28,"SB",null,null,null,null,null,null,28,"SB"]
[null,null,null,null,null,null,null,null,null,null,null,null,null,null,29,"SB",null,null,null,null,null,null,29,"SB",null,null,null,null,null,null,29,"SB",null,null,null,null,null,null,29,"SB"]
[null,null,null,null,null,null,null,null,null,null,null,null,null,null,1,"SG",null,null,null,null,null,null,1,"SG",null,null,null,null,null,null,1,"SG",null,null,null,null,null,null,1,"SG"]
[null,null,null,null,null,null,null,null,null,null,null,null,null,null,2,"SG",null,null,null,null,null,null,2,"SG",null,null,null,null,null,null,2,"SG","C. Gourley","GB & NI","Unknown","Unknown","August 13",38.51,2,"SG"]
[null,null,null,null,null,null,null,null,null,null,null,null,null,null,3,"SG",null,null,null,null,null,null,3,"SG",null,null,null,null,null,null,3,"SG","E. Henderson","SLSGB","Unknown","Germany","Nov 14",81.93,3,"SG"]
[null,null,null,null,null,null,null,null,null,null,null,null,null,null,4,"SG",null,null,null,null,null,null,4,"SG",null,null,null,null,null,null,4,"SG","R.Carroll","Blyth Lifeguard & Swimming Club","Welsh Still Waters","Swansea","Feb 15",59.48,4,"SG"]
[null,null,null,null,null,null,null,null,null,null,null,null,null,null,5,"SG",null,null,null,null,null,null,5,"SG",null,null,null,null,null,null,5,"SG","R.Carroll","Blyth Lifeguard & Swimming Club","RLSS Speeds","London","March 15",64.09,5,"SG"]
[null,null,null,null,null,null,null,null,null,null,null,null,null,null,6,"SG",null,null,null,null,null,null,6,"SG",null,null,null,null,null,null,6,"SG",null,null,null,null,null,null,6,"SG"]
[null,null,null,null,null,null,null,null,null,null,null,null,null,null,7,"SG",null,null,null,null,null,null,7,"SG",null,null,null,null,null,null,7,"SG",null,null,null,null,null,null,7,"SG"]
[null,null,null,null,null,null,null,null,null,null,null,null,null,null,8,"SG",null,null,null,null,null,null,8,"SG",null,null,null,null,null,null,8,"SG","K Eastwood, E Sanders, C Adams & M Anderton","Leeds Phoenix","RLSS Speeds","London","March 15",83.32,8,"SG"]
[null,null,null,null,null,null,null,null,null,null,null,null,null,null,9,"SG",null,null,null,null,null,null,9,"SG",null,null,null,null,null,null,9,"SG","J Parker, J Lockwood, S Gourley & K Eastwood","Blyth Lifeguard & Swimming Club","Unknown","Eindhoven","Nov 14",128.63999999999999,9,"SG"]
[null,null,null,null,null,null,null,null,null,null,null,null,null,null,10,"SG",null,null,null,null,null,null,10,"SG",null,null,null,null,null,null,10,"SG","R Carroll, R Douglas, J Parker and C Chandler","Blyth Lifeguard & Swimming Club","Welsh Still Waters","Swansea","Feb 15",117.06,10,"SG"]
[null,null,null,null,null,null,null,null,null,null,null,null,null,null,11,"SG",null,null,null,null,null,null,11,"SG",null,null,null,null,null,null,11,"SG",null,null,null,null,null,null,11,"SG"]
[null,null,null,null,null,null,null,null,null,null,null,null,null,null,12,"SG",null,null,null,null,null,null,12,"SG",null,null,null,null,null,null,12,"SG","E. O'Neill","Belfast Royal Academy","RLSS Speeds","Sheffield","March 12",65.06,12,"SG"]
[null,null,null,null,null,null,null,null,null,null,null,null,null,null,13,"SG",null,null,null,null,null,null,13,"SG",null,null,null,null,null,null,13,"SG",null,null,null,null,null,null,13,"SG"]
[null,null,null,null,null,null,null,null,null,null,null,null,null,null,14,"SG",null,null,null,null,null,null,14,"SG",null,null,null,null,null,null,14,"SG",null,null,null,null,null,null,14,"SG"]
[null,null,null,null,null,null,null,null,null,null,null,null,null,null,15,"SG",null,null,null,null,null,null,15,"SG",null,null,null,null,null,null,15,"SG",null,null,null,null,null,null,15,"SG"]
[null,null,null,null,null,null,null,null,null,null,null,null,null,null,16,"SG",null,null,null,null,null,null,16,"SG",null,null,null,null,null,null,16,"SG",null,null,null,null,null,null,16,"SG"]
[null,null,null,null,null,null,null,null,null,null,null,null,null,null,17,"SG",null,null,null,null,null,null,17,"SG",null,null,null,null,null,null,17,"SG",null,null,null,null,null,null,17,"SG"]
[null,null,null,null,null,null,null,null,null,null,null,null,null,null,18,"SG",null,null,null,null,null,null,18,"SG",null,null,null,null,null,null,18,"SG",null,null,null,null,null,null,18,"SG"]
[null,null,null,null,null,null,null,null,null,null,null,null,null,null,19,"SG",null,null,null,null,null,null,19,"SG",null,null,null,null,null,null,19,"SG",null,null,null,null,null,null,19,"SG"]
[null,null,null,null,null,null,null,null,null,null,null,null,null,null,20,"SG",null,null,null,null,null,null,20,"SG",null,null,null,null,null,null,20,"SG",null,null,null,null,null,null,20,"SG"]
[null,null,null,null,null,null,null,null,null,null,null,null,null,null,21,"SG",null,null,null,null,null,null,21,"SG",null,null,null,null,null,null,21,"SG","J. Stallion & V. Threfall","Heanor","RLSS Speeds","Sheffield","March 14",13.34,21,"SG"]
[null,null,null,null,null,null,null,null,null,null,null,null,null,null,22,"SG",null,null,null,null,null,null,22,"SG",null,null,null,null,null,null,22,"SG",null,null,null,null,null,null,22,"SG"]
[null,null,null,null,null,null,null,null,null,null,null,null,null,null,23,"SG",null,null,null,null,null,null,23,"SG",null,null,null,null,null,null,23,"SG",null,null,null,null,null,null,23,"SG"]
[null,null,null,null,null,null,null,null,null,null,null,null,null,null,24,"SG",null,null,null,null,null,null,24,"SG",null,null,null,null,null,null,24,"SG",null,null,null,null,null,null,24,"SG"]
[null,null,null,null,null,null,null,null,null,null,null,null,null,null,25,"SG",null,null,null,null,null,null,25,"SG",null,null,null,null,null,null,25,"SG",null,null,null,null,null,null,25,"SG"]
[null,null,null,null,null,null,null,null,null,null,null,null,null,null,26,"SG",null,null,null,null,null,null,26,"SG",null,null,null,null,null,null,26,"SG",null,null,null,null,null,null,26,"SG"]
[null,null,null,null,null,null,null,null,null,null,null,null,null,null,27,"SG",null,null,null,null,null,null,27,"SG",null,null,null,null,null,null,27,"SG",null,null,null,null,null,null,27,"SG"]
[null,null,null,null,null,null,null,null,null,null,null,null,null,null,28,"SG",null,null,null,null,null,null,28,"SG",null,null,null,null,null,null,28,"SG",null,null,null,null,null,null,28,"SG"]
[null,null,null,null,null,null,null,null,null,null,null,null,null,null,29,"SG",null,null,null,null,null,null,29,"SG",null,null,null,null,null,null,29,"SG",null,null,null,null,null,null,29,"SG"]
[null,null,null,null,null,null,null,null,null,null,null,null,null,null,1,"JB",null,null,null,null,null,null,1,"JB",null,null,null,null,null,null,1,"JB",null,null,null,null,null,null,1,"JB"]
[null,null,null,null,null,null,null,null,null,null,null,null,null,null,2,"JB",null,null,null,null,null,null,2,"JB",null,null,null,null,null,null,2,"JB","A. Hynes","St, John Berchman’s","RLSS Speeds","Sheffield","Feb 10",37.81,2,"JB"]
[null,null,null,null,null,null,null,null,null,null,null,null,null,null,3,"JB",null,null,null,null,null,null,3,"JB",null,null,null,null,null,null,3,"JB","R.Hynes","Unknown","Unknown","Unknown","Unknown",82.66,3,"JB"]
[null,null,null,null,null,null,null,null,null,null,null,null,null,null,4,"JB",null,null,null,null,null,null,4,"JB",null,null,null,null,null,null,4,"JB","T.Jagger","Leeds Phoenix","RLSS Speeds","Sheffield","March 06",62.04,4,"JB"]
[null,null,null,null,null,null,null,null,null,null,null,null,null,null,5,"JB",null,null,null,null,null,null,5,"JB",null,null,null,null,null,null,5,"JB","F. Gunneberg","Unknown","Unknown","Unknown","Unknown",68.89,5,"JB"]
[null,null,null,null,null,null,null,null,null,null,null,null,null,null,6,"JB",null,null,null,null,null,null,6,"JB",null,null,null,null,null,null,6,"JB",null,null,null,null,null,null,6,"JB"]
[null,null,null,null,null,null,null,null,null,null,null,null,null,null,7,"JB",null,null,null,null,null,null,7,"JB",null,null,null,null,null,null,7,"JB",null,null,null,null,null,null,7,"JB"]
[null,null,null,null,null,null,null,null,null,null,null,null,null,null,8,"JB",null,null,null,null,null,null,8,"JB",null,null,null,null,null,null,8,"JB","Hopkins,Hopkins,Scholfield,Wollard","Crawley Town","RLSS Speeds","Sheffield","March 13",87.37,8,"JB"]
[null,null,null,null,null,null,null,null,null,null,null,null,null,null,9,"JB",null,null,null,null,null,null,9,"JB",null,null,null,null,null,null,9,"JB","F Crump, T Eley, G Spendlove, S Wesson ","Crawley Town","RLSS Speeds","Sheffield","March 14",120.82,null,"JB"]
[null,null,null,null,null,null,null,null,null,null,null,null,null,null,10,"JB",null,null,null,null,null,null,10,"JB",null,null,null,null,null,null,10,"JB","Hopkins,Hopkins,Scholfield,Wollard","Crawley Town","RLSS Speeds","Sheffield","March 15",114.92,10,"JB"]
[null,null,null,null,null,null,null,null,null,null,null,null,null,null,11,"JB",null,null,null,null,null,null,11,"JB",null,null,null,null,null,null,11,"JB",null,null,null,null,null,null,11,"JB"]
[null,null,null,null,null,null,null,null,null,null,null,null,null,null,12,"JB",null,null,null,null,null,null,12,"JB",null,null,null,null,null,null,12,"JB","M.Schofield","Crawley Town","RLSS Speeds","Sheffield","March 14",62.93,12,"JB"]
[null,null,null,null,null,null,null,null,null,null,null,null,null,null,13,"JB",null,null,null,null,null,null,13,"JB",null,null,null,null,null,null,13,"JB",null,null,null,null,null,null,13,"JB"]
[null,null,null,null,null,null,null,null,null,null,null,null,null,null,14,"JB",null,null,null,null,null,null,14,"JB",null,null,null,null,null,null,14,"JB",null,null,null,null,null,null,14,"JB"]
[null,null,null,null,null,null,null,null,null,null,null,null,null,null,15,"JB",null,null,null,null,null,null,15,"JB",null,null,null,null,null,null,15,"JB",null,null,null,null,null,null,15,"JB"]
[null,null,null,null,null,null,null,null,null,null,null,null,null,null,16,"JB",null,null,null,null,null,null,16,"JB",null,null,null,null,null,null,16,"JB",null,null,null,null,null,null,16,"JB"]
[null,null,null,null,null,null,null,null,null,null,null,null,null,null,17,"JB",null,null,null,null,null,null,17,"JB",null,null,null,null,null,null,17,"JB",null,null,null,null,null,null,17,"JB"]
[null,null,null,null,null,null,null,null,null,null,null,null,null,null,18,"JB",null,null,null,null,null,null,18,"JB",null,null,null,null,null,null,18,"JB",null,null,null,null,null,null,18,"JB"]
[null,null,null,null,null,null,null,null,null,null,null,null,null,null,19,"JB",null,null,null,null,null,null,19,"JB",null,null,null,null,null,null,19,"JB",null,null,null,null,null,null,19,"JB"]
[null,null,null,null,null,null,null,null,null,null,null,null,null,null,20,"JB",null,null,null,null,null,null,20,"JB",null,null,null,null,null,null,20,"JB",null,null,null,null,null,null,20,"JB"]
[null,null,null,null,null,null,null,null,null,null,null,null,null,null,21,"JB",null,null,null,null,null,null,21,"JB",null,null,null,null,null,null,21,"JB",null,null,null,null,null,null,21,"JB"]
[null,null,null,null,null,null,null,null,null,null,null,null,null,null,22,"JB",null,null,null,null,null,null,22,"JB",null,null,null,null,null,null,22,"JB",null,null,null,null,null,null,22,"JB"]
[null,null,null,null,null,null,null,null,null,null,null,null,null,null,23,"JB",null,null,null,null,null,null,23,"JB",null,null,null,null,null,null,23,"JB",null,null,null,null,null,null,23,"JB"]
[null,null,null,null,null,null,null,null,null,null,null,null,null,null,24,"JB",null,null,null,null,null,null,24,"JB",null,null,null,null,null,null,24,null,null,null,null,null,null,null,24,"JB"]
[null,null,null,null,null,null,null,null,null,null,null,null,null,null,25,"JB",null,null,null,null,null,null,25,"JB",null,null,null,null,null,null,25,null,null,null,null,null,null,null,25,"JB"]
[null,null,null,null,null,null,null,null,null,null,null,null,null,null,26,"JB",null,null,null,null,null,null,26,"JB",null,null,null,null,null,null,26,null,null,null,null,null,null,null,26,"JB"]
[null,null,null,null,null,null,null,null,null,null,null,null,null,null,27,"JB",null,null,null,null,null,null,27,"JB",null,null,null,null,null,null,27,null,null,null,null,null,null,null,27,"JB"]
[null,null,null,null,null,null,null,null,null,null,null,null,null,null,28,"JB",null,null,null,null,null,null,28,"JB",null,null,null,null,null,null,28,null,"R. Barr & Unknown","Belfast Olympia ","RLSS Speeds","Sheffield","March 07",10.6,28,"JB"]
[null,null,null,null,null,null,null,null,null,null,null,null,null,null,29,"JB",null,null,null,null,null,null,29,"JB",null,null,null,null,null,null,29,null,null,null,null,null,null,null,29,"JB"]
[null,null,null,null,null,null,null,null,null,null,null,null,null,null,1,"JG",null,null,null,null,null,null,1,"JG",null,null,null,null,null,null,1,"JG",null,null,null,null,null,null,1,"JG"]
[null,null,null,null,null,null,null,null,null,null,null,null,null,null,2,"JG",null,null,null,null,null,null,2,"JG",null,null,null,null,null,null,2,"JG","C. Gourley","Blyth Lifeguard & Swimming Club","RLSS Speeds","Sheffield","Feb 10",36.79,2,"JG"]
[null,null,null,null,null,null,null,null,null,null,null,null,null,null,3,"JG",null,null,null,null,null,null,3,"JG",null,null,null,null,null,null,3,"JG","C. Gourley","Unknown","Unknown","Unknown","Unknown",80.55,3,"JG"]
[null,null,null,null,null,null,null,null,null,null,null,null,null,null,4,"JG",null,null,null,null,null,null,4,"JG",null,null,null,null,null,null,4,"JG","C. Gourley","Blyth Lifeguard & Swimming Club","RLSS Speeds","Sheffield","2009-02-01",64.61,4,"JG"]
[null,null,null,null,null,null,null,null,null,null,null,null,null,null,5,"JG",null,null,null,null,null,null,5,"JG",null,null,null,null,null,null,5,"JG","P. Pelders","Unknown","Unknown","Unknown","Unknown",75,5,"JG"]
[null,null,null,null,null,null,null,null,null,null,null,null,null,null,6,"JG",null,null,null,null,null,null,6,"JG",null,null,null,null,null,null,6,"JG",null,null,null,null,null,null,6,"JG"]
[null,null,null,null,null,null,null,null,null,null,null,null,null,null,7,"JG",null,null,null,null,null,null,7,"JG",null,null,null,null,null,null,7,"JG",null,null,null,null,null,null,7,"JG"]
[null,null,null,null,null,null,null,null,null,null,null,null,null,null,8,"JG",null,null,null,null,null,null,8,"JG",null,null,null,null,null,null,8,"JG","Wilkinson,Jones,Little, Dougles","Crawley Town","RLSS Speeds","Sheffield","March 14",96.4,8,"JG"]
[null,null,null,null,null,null,null,null,null,null,null,null,null,null,9,"JG",null,null,null,null,null,null,9,"JG",null,null,null,null,null,null,9,"JG","Members of","Belfast Royal Academy","RLSS Speeds","London","March 15",136.5,9,"JG"]
[null,null,null,null,null,null,null,null,null,null,null,null,null,null,10,"JG",null,null,null,null,null,null,10,"JG",null,null,null,null,null,null,10,"JG","Carrol,Parker,Whyman,Price","Blyth Lifeguard & Swimming Club","RLSS Speeds","Sheffield","Feb 09",123.05,10,"JG"]
[null,null,null,null,null,null,null,null,null,null,null,null,null,null,11,"JG",null,null,null,null,null,null,11,"JG",null,null,null,null,null,null,11,"JG",null,null,null,null,null,null,11,"JG"]
[null,null,null,null,null,null,null,null,null,null,null,null,null,null,12,"JG",null,null,null,null,null,null,12,"JG",null,null,null,null,null,null,12,"JG"," J. Hancock ","Ripley","Unknown","Milfield","March 15",67.28,12,"JG"]
[null,null,null,null,null,null,null,null,null,null,null,null,null,null,13,"JG",null,null,null,null,null,null,13,"JG",null,null,null,null,null,null,13,"JG",null,null,null,null,null,null,13,"JG"]
[null,null,null,null,null,null,null,null,null,null,null,null,null,null,14,"JG",null,null,null,null,null,null,14,"JG",null,null,null,null,null,null,14,"JG",null,null,null,null,null,null,14,"JG"]
[null,null,null,null,null,null,null,null,null,null,null,null,null,null,15,"JG",null,null,null,null,null,null,15,"JG",null,null,null,null,null,null,15,"JG",null,null,null,null,null,null,15,"JG"]
[null,null,null,null,null,null,null,null,null,null,null,null,null,null,16,"JG",null,null,null,null,null,null,16,"JG",null,null,null,null,null,null,16,"JG",null,null,null,null,null,null,16,"JG"]
[null,null,null,null,null,null,null,null,null,null,null,null,null,null,17,"JG",null,null,null,null,null,null,17,"JG",null,null,null,null,null,null,17,"JG",null,null,null,null,null,null,17,"JG"]
[null,null,null,null,null,null,null,null,null,null,null,null,null,null,18,"JG",null,null,null,null,null,null,18,"JG",null,null,null,null,null,null,18,"JG",null,null,null,null,null,null,18,"JG"]
[null,null,null,null,null,null,null,null,null,null,null,null,null,null,19,"JG",null,null,null,null,null,null,19,"JG",null,null,null,null,null,null,19,"JG",null,null,null,null,null,null,19,"JG"]
[null,null,null,null,null,null,null,null,null,null,null,null,null,null,20,"JG",null,null,null,null,null,null,20,"JG",null,null,null,null,null,null,20,"JG",null,null,null,null,null,null,20,"JG"]
[null,null,null,null,null,null,null,null,null,null,null,null,null,null,21,"JG",null,null,null,null,null,null,21,"JG",null,null,null,null,null,null,21,"JG",null,null,null,null,null,null,21,"JG"]
[null,null,null,null,null,null,null,null,null,null,null,null,null,null,22,"JG",null,null,null,null,null,null,22,"JG",null,null,null,null,null,null,22,"JG",null,null,null,null,null,null,22,"JG"]
[null,null,null,null,null,null,null,null,null,null,null,null,null,null,23,"JG",null,null,null,null,null,null,23,"JG",null,null,null,null,null,null,23,"JG",null,null,null,null,null,null,23,"JG"]
[null,null,null,null,null,null,null,null,null,null,null,null,null,null,24,"JG",null,null,null,null,null,null,24,"JG",null,null,null,null,null,null,24,"JG",null,null,null,null,null,null,24,"JG"]
[null,null,null,null,null,null,null,null,null,null,null,null,null,null,25,"JG",null,null,null,null,null,null,{"$f":"$O187","v":25},{"$f":"$P187","v":"JG"},null,null,null,null,null,null,{"$f":"$O187","v":25},{"$f":"$P187","v":"JG"},null,null,null,null,null,null,{"$f":"$O187","v":25},{"$f":"$P187","v":"JG"}]
[null,null,null,null,null,null,null,null,null,null,null,null,null,null,26,"JG",null,null,null,null,null,null,26,"JG",null,null,null,null,null,null,26,"JG",null,null,null,null,null,null,26,"JG"]
[null,null,null,null,null,null,null,null,null,null,null,null,null,null,27,"JG",null,null,null,null,null,null,27,"JG",null,null,null,null,null,null,27,"JG",null,null,null,null,null,null,27,"JG"]
[null,null,null,null,null,null,null,null,null,null,null,null,null,null,28,"JG",null,null,null,null,null,null,28,"JG",null,null,null,null,null,null,28,"JG","M. Daw & V. Franks ","Folkstone Sports Centre ","RlSS Speeds","London","March 15",10.49,28,"JG"]
[null,null,null,null,null,null,null,null,null,null,null,null,null,null,29,"JG",null,null,null,null,null,null,29,"JG",null,null,null,null,null,null,29,"JG",null,null,null,null,null,null,29,"JG"]

{"sheet":"Output","index":1,"n_rows":9,"n_cols":10,"rows_kept":9,"cut":false,"hidden":false,"merged":[]}
[]
[null,"The competitor has entered a total of 4 races"]
[]
[]
["Event No.","Event","Heat","Lane","Leg","Type","Entry\nTime","min","sec","100th"]
[2,"Male - 12.5m Line Throw",3,0,"Catch"," S  M ","  0:16.00"]
[8,"Male - 4x50m Obstacle Relay",1,2,2," S  M ","  2:45.00"]
[18,"Male - 4x25m Manikin Carry Relay",1,5,2," S  M ","  2:40.00"]
[22,"Male - 4x50m Medley Relay",1,2,2," S  M ","  2:40.00"]

{"sheet":"Data_1","index":2,"n_rows":311,"n_cols":21,"rows_kept":311,"cut":false,"hidden":false,"merged":[]}
["Event","Heat","Lane","TypeID","TypeID","Sex","CompetittiorID","Surname","Forename","Club Name","Entry Time",null,null,"No_rows",{"$f":"COUNT(A:A)","v":310},null,null,"CompetittiorID","Surname","Forename","Club Name"]
[4,1,8," S ","F ","F",3444,"Pollard","India","University of Warwick",106,null,null,"Min_Lanes",{"$f":"MIN(C:C)","v":1},null,null,3537,"Aldgridge","Sophie","University of Nottingham"]
[6,1,3," S ","F ","F",3444,"Pollard","India","University of Warwick",227.17,null,null,"Max_Lanes",{"$f":"MAX(C:C)","v":8},null,null,3524,"Alexander","Timothy","University of Warwick"]
[5,2,6," S ","F ","F",3445,"Smallwood","Hannah","University of Nottingham",90,null,null,"Max_No_Row_All_Sheets",{"$f":"MAX(O1,Data_2!R1,Data_4!W1)","v":310},null,null,3478,"Anderson","Robert","University of Southampton"]
[6,1,5," S ","F ","F",3445,"Smallwood","Hannah","University of Nottingham",240,null,null,null,null,null,null,3633,"Anderson","Shaunna","Beeslack"]
[2,4,1," S ","F ","F",3447,"Whitworth","Julia ","University of Birmingham",48,null,null,null,null,null,null,3613,"Askew","Abi","UoB LSC"]
[3,3,1," S ","F ","F",3447,"Whitworth","Julia ","University of Birmingham",109,null,null,null,null,null,null,3625,"Atton","Howard","UPSLC"]
[5,4,8," S ","F ","F",3447,"Whitworth","Julia ","University of Birmingham",74,null,null,null,null,null,null,3535,"Bacon","Laura","University of Nottingham"]
[4,3,4," S ","M ","M",3449,"Withers","Harry","University of Birmingham",63,null,null,null,null,null,null,3547,"Baldwin","Catherine","Bristol University"]
[5,4,4," S ","M ","M",3449,"Withers","Harry","University of Birmingham",65,null,null,null,null,null,null,3474,"Bampton","Katie","Swansea Universities Lifesaving"]
[4,3,3," S ","F ","F",3450,"Longshaw","Evie","University of Birmingham",64,null,null,null,null,null,null,3550,"Bedford","Ellesha","Bristol University"]
[5,4,6," S ","F ","F",3450,"Longshaw","Evie","University of Birmingham",67,null,null,null,null,null,null,3514,"Bithell","Emma","University of Warwick"]
[5,3,5," S ","M ","M",3451,"Winter","Thomas","University of Birmingham",71,null,null,null,null,null,null,3473,"Blake","Lauren","Swansea Universities Lifesaving"]
[6,2,4," S ","M ","M",3451,"Winter","Thomas","University of Birmingham",187,null,null,null,null,null,null,3522,"Booth","Lucy","University of Warwick"]
[2,3,8," S ","M ","M",3452,"Mackie","Patrick","University of Birmingham",43,null,null,null,null,null,null,3595,"Bowen","William ","University of Plymouth"]
[4,3,8," S ","M ","M",3452,"Mackie","Patrick","University of Birmingham",71,null,null,null,null,null,null,3465,"Bowskill","Tom","Swansea Universities Lifesaving"]
[1,1,6," S ","M ","M",3453,"Pau","Alfredo","University of Birmingham",200,null,null,null,null,null,null,3603,"Briggs","Callum","Heanor"]
[3,1,1," S ","M ","M",3453,"Pau","Alfredo","University of Birmingham",111,null,null,null,null,null,null,3612,"Brown","Alice","UoB LSC"]
[6,1,2," S ","M ","M",3453,"Pau","Alfredo","University of Birmingham",231,null,null,null,null,null,null,3555,"Brown","Christopher","Bristol University"]
[1,2,6," S ","M ","M",3454,"Stroyde","Dale","University of Birmingham",160,null,null,null,null,null,null,3606,"Brown","Niamh","University of Plymouth"]
[2,2,5," S ","M ","M",3454,"Stroyde","Dale","University of Birmingham",44,null,null,null,null,null,null,3486,"Burridge","Lowri","University of Southampton"]
[3,2,8," S ","M ","M",3454,"Stroyde","Dale","University of Birmingham",100,null,null,null,null,null,null,3629,"Butler","Dave","Crawley Town"]
[4,2,5," I ","M ","F",3455,"Cokyasar","Ebru","University of Birmingham",79,null,null,null,null,null,null,3526,"Carroll","Lauren ","Oxbridge-A combined Club of University of Oxford and University of Cambridge"]
[1,3,4," S ","F ","F",3456,"Willing","Holly","University of Birmingham",170,null,null,null,null,null,null,3549,"Carter","Jennifer","Bristol University"]
[2,3,4," I ","F ","F",3456,"Willing","Holly","University of Birmingham",49,null,null,null,null,null,null,3566,"Casey","Siobhan","Loughborough University"]
[1,4,2," S ","F ","F",3458,"Smith","Emma","University of Birmingham",160,null,null,null,null,null,null,3506,"Cheung","King Yee","University of Sheffield"]
[6,2,4," S ","F ","F",3458,"Smith","Emma","University of Birmingham",189,null,null,null,null,null,null,3467,"Christophersen","Ben","Swansea Universities Lifesaving"]
[5,3,6," S ","M ","M",3459,"Whittaker","Frazer","University of Nottingham",75,null,null,null,null,null,null,3610,"Clark","Sellene","UoB LSC"]
[6,1,4," S ","M ","M",3459,"Whittaker","Frazer","University of Nottingham",210,null,null,null,null,null,null,3455,"Cokyasar","Ebru","University of Birmingham"]
[3,1,3," S ","M ","M",3460,"Hague","Bradley","University of Nottingham",103,null,null,null,null,null,null,3532,"Collard","Alexander","University of Nottingham"]
[4,2,1," S ","M ","M",3460,"Hague","Bradley","University of Nottingham",84,null,null,null,null,null,null,3591,"Conley","James","University of Plymouth"]
[3,1,5," S ","F ","F",3461,"Wickham","Katherine","University of Nottingham",138,null,null,null,null,null,null,3487,"Connelly","Zoe","University of Southampton"]
[5,1,5," S ","F ","F",3461,"Wickham","Katherine","University of Nottingham",102,null,null,null,null,null,null,3624,"Crowther","Peter","UPSLC"]
[4,3,7," S ","F ","F",3462,"Richards","Jessica","University of Birmingham",74,null,null,null,null,null,null,3616,"Curry","Milly","UPSLC"]
[4,3,3," S ","M ","M",3463,"Ingham","Conor","Swansea Universities Lifesaving",64,null,null,null,null,null,null,3619,"Dubs","Evie S","UPSLC"]
[5,4,2," S ","M ","M",3463,"Ingham","Conor","Swansea Universities Lifesaving",68,null,null,null,null,null,null,3525,"Ducker","Mike","University of Warwick"]
[6,3,2," S ","M ","M",3463,"Ingham","Conor","Swansea Universities Lifesaving",164,null,null,null,null,null,null,3472,"Elms","Becky","Swansea Universities Lifesaving"]
[3,1,2," S ","M ","M",3464,"Hale","Joshua","Swansea Universities Lifesaving",110,null,null,null,null,null,null,3497,"Emberton","Will","University of Birmingham"]
[5,1,5," S ","M ","M",3464,"Hale","Joshua","Swansea Universities Lifesaving",90,null,null,null,null,null,null,3489,"Evans","Richard","University of Southampton"]
[1,2,4," S ","M ","M",3465,"Bowskill","Tom","Swansea Universities Lifesaving",156,null,null,null,null,null,null,3511,"Ewers","Rebecca","University of Warwick"]
[2,3,5," S ","M ","M",3465,"Bowskill","Tom","Swansea Universities Lifesaving",39,null,null,null,null,null,null,3504,"Falconer","Sarah","University of Sheffield"]
[2,3,2," S ","M ","M",3466,"Sharp","Tom","Swansea Universities Lifesaving",40,null,null,null,null,null,null,3604,"Fielding","David","Keynsham"]
[3,3,8," S ","M ","M",3466,"Sharp","Tom","Swansea Universities Lifesaving",90,null,null,null,null,null,null,3561,"Forster","Robert","Loughborough University"]
[4,3,1," S ","M ","M",3466,"Sharp","Tom","Swansea Universities Lifesaving",70,null,null,null,null,null,null,3552,"Fotherby","James","Bristol University"]
[1,3,1," S ","M ","M",3467,"Christophersen","Ben","Swansea Universities Lifesaving",154,null,null,null,null,null,null,3631,"Gladders","Andy","Loughborough University"]
[6,3,7," S ","M ","M",3467,"Christophersen","Ben","Swansea Universities Lifesaving",165,null,null,null,null,null,null,3562,"Goodwin","Emily","Loughborough University"]
[5,1,2," S ","F ","F",3470,"Haigh","Chloe","Swansea Universities Lifesaving",110,null,null,null,null,null,null,3481,"Gunn","Hannah","University of Southampton"]
[2,2,3," S ","F ","F",3471,"Redhead","Bethany","Swansea Universities Lifesaving",60,null,null,null,null,null,null,3460,"Hague","Bradley","University of Nottingham"]
[3,2,2," S ","F ","F",3472,"Elms","Becky","Swansea Universities Lifesaving",115,null,null,null,null,null,null,3470,"Haigh","Chloe","Swansea Universities Lifesaving"]
[4,1,5," S ","F ","F",3473,"Blake","Lauren","Swansea Universities Lifesaving",88,null,null,null,null,null,null,3464,"Hale","Joshua","Swansea Universities Lifesaving"]
[5,3,4," S ","F ","F",3473,"Blake","Lauren","Swansea Universities Lifesaving",78,null,null,null,null,null,null,3593,"Hall","Benjamin","University of Plymouth"]
[6,3,2," S ","F ","F",3473,"Blake","Lauren","Swansea Universities Lifesaving",178,null,null,null,null,null,null,3500,"Hammersley","Samuel","University of Sheffield"]
[1,4,1," S ","F ","F",3474,"Bampton","Katie","Swansea Universities Lifesaving",165,null,null,null,null,null,null,3509,"Hancock","Jonathan","University of Sheffield"]
[3,3,2," S ","F ","F",3474,"Bampton","Katie","Swansea Universities Lifesaving",100,null,null,null,null,null,null,3476,"Hawken","Sophie","Swansea Universities Lifesaving"]
[4,1,2," S ","F ","F",3474,"Bampton","Katie","Swansea Universities Lifesaving",89,null,null,null,null,null,null,3563,"Herring","Louisa","Loughborough University"]
[2,4,2," S ","F ","F",3475,"Huntingford","Victoria","University of Birmingham",46,null,null,null,null,null,null,3529,"Hildyard ","Emma ","Oxbridge-A combined Club of University of Oxford and University of Cambridge"]
[3,3,7," S ","F ","F",3475,"Huntingford","Victoria","University of Birmingham",105,null,null,null,null,null,null,3615,"Holloway","Tasmijn","UoB LSC"]
[6,3,8," S ","F ","F",3475,"Huntingford","Victoria","University of Birmingham",189,null,null,null,null,null,null,3475,"Huntingford","Victoria","University of Birmingham"]
[1,4,7," S ","F ","F",3476,"Hawken","Sophie","Swansea Universities Lifesaving",161,null,null,null,null,null,null,3463,"Ingham","Conor","Swansea Universities Lifesaving"]
[2,4,8," S ","F ","F",3476,"Hawken","Sophie","Swansea Universities Lifesaving",49,null,null,null,null,null,null,3528,"Jacklin","Michael ","Oxbridge-A combined Club of University of Oxford and University of Cambridge"]
[6,3,7," S ","F ","F",3476,"Hawken","Sophie","Swansea Universities Lifesaving",179,null,null,null,null,null,null,3630,"Jagger","Richard","Crawley Town"]
[1,1,3," S ","M ","M",3478,"Anderson","Robert","University of Southampton",199,null,null,null,null,null,null,3503,"Jameson","Imogen","University of Sheffield"]
[4,1,3," S ","F ","F",3481,"Gunn","Hannah","University of Southampton",88,null,null,null,null,null,null,3521,"Joel","Elsa","University of Warwick"]
[6,2,8," S ","F ","F",3481,"Gunn","Hannah","University of Southampton",213,null,null,null,null,null,null,3621,"Jones","Isabelle","UPSLC"]
[2,1,2," S ","M ","M",3482,"Thomas","Charles","University of Southampton",60,null,null,null,null,null,null,3617,"Jordan","Claire","UPSLC"]
[5,1,4," S ","M ","M",3482,"Thomas","Charles","University of Southampton",86,null,null,null,null,null,null,3577,"Kane","Andrew","Teeside University"]
[3,1,6," S ","F ","F",3483,"Sidaoui","Giovanna","University of Southampton",150,null,null,null,null,null,null,3498,"Khoo","Daniel","University of Southampton"]
[5,1,3," S ","F ","F",3483,"Sidaoui","Giovanna","University of Southampton",100,null,null,null,null,null,null,3507,"Kirkham","Michael","University of Sheffield"]
[1,1,7," S ","M ","M",3484,"Walker","Thomas","University of Southampton",225,null,null,null,null,null,null,3553,"Lang","Ben","Bristol University"]
[4,1,4," S ","M ","M",3484,"Walker","Thomas","University of Southampton",87,null,null,null,null,null,null,3594,"Last","Todd","University of Plymouth"]
[3,1,4," S ","M ","M",3485,"Oakey","Andrew","University of Southampton",101,null,null,null,null,null,null,3510,"Lawman","Samuel","University of Sheffield"]
[4,2,5," S ","M ","M",3485,"Oakey","Andrew","University of Southampton",77,null,null,null,null,null,null,3576,"Leggott","Daniel","University of Surrey"]
[6,2,5," S ","M ","M",3485,"Oakey","Andrew","University of Southampton",188,null,null,null,null,null,null,3450,"Longshaw","Evie","University of Birmingham"]
[1,3,8," S ","F ","F",3486,"Burridge","Lowri","University of Southampton",193,null,null,null,null,null,null,3614,"Lord","Hannah","UoB LSC"]
[3,2,1," S ","F ","F",3486,"Burridge","Lowri","University of Southampton",119,null,null,null,null,null,null,3452,"Mackie","Patrick","University of Birmingham"]
[1,1,3," S ","F ","F",3487,"Connelly","Zoe","University of Southampton",218,null,null,null,null,null,null,3538,"Madhar","Joshua","University of Nottingham"]
[2,2,2," S ","F ","F",3487,"Connelly","Zoe","University of Southampton",62,null,null,null,null,null,null,3518,"Malhi","Amrit","University of Warwick"]
[2,1,4," S ","F ","F",3488,"Webb","Emily","University of Southampton",66,null,null,null,null,null,null,3578,"Malorey-Vibert","Cara ","University of Plymouth"]
[2,1,3," S ","M ","M",3489,"Evans","Richard","University of Southampton",58,null,null,null,null,null,null,3551,"Marshall","Lucy","Bristol University"]
[5,2,7," S ","M ","M",3489,"Evans","Richard","University of Southampton",83,null,null,null,null,null,null,3623,"Mccabe","Liam","UPSLC"]
[5,1,4," I ","X ","F",3496,"Waite","Katie","University of Birmingham",91,null,null,null,null,null,null,3539,"McCorquodale","Mark","University of Nottingham"]
[3,1,6," I ","Y ","M",3497,"Emberton","Will","University of Birmingham",111,null,null,null,null,null,null,3468,"Mckenna","Josh","Swansea Universities Lifesaving"]
[5,3,7," I ","Y ","M",3497,"Emberton","Will","University of Birmingham",75,null,null,null,null,null,null,3559,"Miles","Chris","Loughborough University"]
[3,2,2," S ","M ","M",3498,"Khoo","Daniel","University of Southampton",96,null,null,null,null,null,null,3565,"Miller","Jessica","Loughborough University"]
[6,1,5," S ","M ","M",3498,"Khoo","Daniel","University of Southampton",218,null,null,null,null,null,null,3574,"Morley","Andrew","Loughborough University"]
[6,2,6," S ","M ","M",3500,"Hammersley","Samuel","University of Sheffield",192,null,null,null,null,null,null,3501,"Morris","Helen","University of Sheffield"]
[2,3,1," S ","F ","F",3501,"Morris","Helen","University of Sheffield",55,null,null,null,null,null,null,3607,"Mullet","Lucy","University of Plymouth"]
[4,1,6," S ","F ","F",3503,"Jameson","Imogen","University of Sheffield",89,null,null,null,null,null,null,3530,"Newman","Josie ","Oxbridge-A combined Club of University of Oxford and University of Cambridge"]
[5,2,3," S ","F ","F",3503,"Jameson","Imogen","University of Sheffield",88,null,null,null,null,null,null,3485,"Oakey","Andrew","University of Southampton"]
[1,4,5," S ","F ","F",3504,"Falconer","Sarah","University of Sheffield",150,null,null,null,null,null,null,3626,"O'Donnell","Alec","UPSLC"]
[2,4,6," S ","F ","F",3504,"Falconer","Sarah","University of Sheffield",45,null,null,null,null,null,null,3618,"Oliver","Amber","UPSLC"]
[3,3,6," S ","F ","F",3504,"Falconer","Sarah","University of Sheffield",93,null,null,null,null,null,null,3546,"Panagi","Stephanie","Bristol University"]
[6,3,1," S ","F ","F",3504,"Falconer","Sarah","University of Sheffield",183,null,null,null,null,null,null,3581,"Parslow","Alice","University of Plymouth"]
[4,2,6," S ","F ","F",3505,"Potter","Shannon","University of Sheffield",82,null,null,null,null,null,null,3453,"Pau","Alfredo","University of Birmingham"]
[5,4,1," S ","F ","F",3505,"Potter","Shannon","University of Sheffield",74,null,null,null,null,null,null,3545,"Petta","Luisa","University of Southampton"]
[6,2,5," S ","F ","F",3505,"Potter","Shannon","University of Sheffield",197,null,null,null,null,null,null,3444,"Pollard","India","University of Warwick"]
[1,2,2," S ","F ","F",3506,"Cheung","King Yee","University of Sheffield",202,null,null,null,null,null,null,3505,"Potter","Shannon","University of Sheffield"]
[5,2,4," S ","M ","M",3507,"Kirkham","Michael","University of Sheffield",78,null,null,null,null,null,null,3558,"Power","Jake","Loughborough University"]
[2,2,4," S ","M ","M",3508,"Stevenson","Niall","University of Sheffield",44,null,null,null,null,null,null,3548,"Priddis","Sophie","Bristol University"]
[6,1,6," S ","M ","M",3509,"Hancock","Jonathan","University of Sheffield",220,null,null,null,null,null,null,3516,"Prime","Benjamin","University of Warwick"]
[1,3,3," S ","M ","M",3510,"Lawman","Samuel","University of Sheffield",135,null,null,null,null,null,null,3534,"Proctor","Bryony","University of Nottingham"]
[2,4,4," S ","M ","M",3510,"Lawman","Samuel","University of Sheffield",32,null,null,null,null,null,null,3471,"Redhead","Bethany","Swansea Universities Lifesaving"]
[3,3,4," S ","M ","M",3510,"Lawman","Samuel","University of Sheffield",67,null,null,null,null,null,null,3580,"Reed","Elise ","University of Plymouth"]
[4,4,2," S ","M ","M",3510,"Lawman","Samuel","University of Sheffield",53,null,null,null,null,null,null,3611,"Rees","Anwen","UoB LSC"]
[5,5,1," S ","M ","M",3510,"Lawman","Samuel","University of Sheffield",61,null,null,null,null,null,null,3462,"Richards","Jessica","University of Birmingham"]
[2,3,3," S ","F ","F",3511,"Ewers","Rebecca","University of Warwick",52.79,null,null,null,null,null,null,3592,"Richards","Matthew","University of Plymouth"]
[5,3,8," S ","F ","F",3511,"Ewers","Rebecca","University of Warwick",82.21,null,null,null,null,null,null,3567,"Richardson","Heather","Loughborough University"]
[6,2,3," S ","F ","F",3511,"Ewers","Rebecca","University of Warwick",200.66,null,null,null,null,null,null,3571,"Ridsdale","Adam","Bristol University"]
[3,1,5," S ","M ","M",3512,"Wiser","Joshua","University of Warwick",106,null,null,null,null,null,null,3536,"Rodgers","Kassia","University of Nottingham"]
[1,1,2," S ","M ","M",3513,"Williams","Stephen","University of Warwick",219.09,null,null,null,null,null,null,3515,"Ryde","Benjamin","University of Sheffield"]
[2,1,7," S ","F ","F",3514,"Bithell","Emma","University of Warwick",86.06,null,null,null,null,null,null,3523,"Scoones","Andrew","University of Warwick"]
[1,2,1," S ","M ","M",3515,"Ryde","Benjamin","University of Sheffield",165,null,null,null,null,null,null,3466,"Sharp","Tom","Swansea Universities Lifesaving"]
[3,2,4," S ","M ","M",3515,"Ryde","Benjamin","University of Sheffield",91,null,null,null,null,null,null,3517,"Shaw","Hannah","University of Sheffield"]
[4,3,7," S ","M ","M",3515,"Ryde","Benjamin","University of Sheffield",70,null,null,null,null,null,null,3556,"Shone","Jamie","Loughborough University"]
[2,3,1," S ","M ","M",3516,"Prime","Benjamin","University of Warwick",42.98,null,null,null,null,null,null,3483,"Sidaoui","Giovanna","University of Southampton"]
[5,3,3," S ","M ","M",3516,"Prime","Benjamin","University of Warwick",73,null,null,null,null,null,null,3445,"Smallwood","Hannah","University of Nottingham"]
[6,2,1," S ","M ","M",3516,"Prime","Benjamin","University of Warwick",193.95,null,null,null,null,null,null,3458,"Smith","Emma","University of Birmingham"]
[3,2,6," S ","F ","F",3517,"Shaw","Hannah","University of Sheffield",115,null,null,null,null,null,null,3627,"Spode","Sam","UPSLC"]
[5,1,6," S ","F ","F",3518,"Malhi","Amrit","University of Warwick",125,null,null,null,null,null,null,3602,"Stalion","Jayne","University of Derby"]
[1,2,6," S ","F ","F",3521,"Joel","Elsa","University of Warwick",203.53,null,null,null,null,null,null,3622,"Stevens","Zac","UPSLC"]
[3,1,4," S ","F ","F",3521,"Joel","Elsa","University of Warwick",122.37,null,null,null,null,null,null,3508,"Stevenson","Niall","University of Sheffield"]
[1,3,6," S ","F ","F",3522,"Booth","Lucy","University of Warwick",177.23,null,null,null,null,null,null,3454,"Stroyde","Dale","University of Birmingham"]
[3,3,8," S ","F ","F",3522,"Booth","Lucy","University of Warwick",109.07,null,null,null,null,null,null,3533,"Tapson","Jack","University of Nottingham"]
[4,1,7," S ","F ","F",3522,"Booth","Lucy","University of Warwick",90.23,null,null,null,null,null,null,3482,"Thomas","Charles","University of Southampton"]
[4,1,3," S ","M ","M",3523,"Scoones","Andrew","University of Warwick",87.06,null,null,null,null,null,null,3557,"Thompson","Richard","Loughborough University"]
[3,2,6," S ","M ","M",3524,"Alexander","Timothy","University of Warwick",94.25,null,null,null,null,null,null,3527,"Thompson ","Robert","Oxbridge-A combined Club of University of Oxford and University of Cambridge"]
[6,2,8," S ","M ","M",3524,"Alexander","Timothy","University of Warwick",202.13,null,null,null,null,null,null,3570,"Turner","Alex","Bristol University"]
[1,2,2," S ","M ","M",3525,"Ducker","Mike","University of Warwick",161,null,null,null,null,null,null,3590,"Unsworth","James","University of Plymouth"]
[2,3,6," S ","M ","M",3525,"Ducker","Mike","University of Warwick",39.97,null,null,null,null,null,null,3579,"Viner-Waite","Rachel ","University of Plymouth"]
[4,3,6," S ","M ","M",3525,"Ducker","Mike","University of Warwick",67.2,null,null,null,null,null,null,3496,"Waite","Katie","University of Birmingham"]
[5,4,6," S ","M ","M",3525,"Ducker","Mike","University of Warwick",67.099999999999994,null,null,null,null,null,null,3484,"Walker","Thomas","University of Southampton"]
[2,4,3," I ","M ","F",3526,"Carroll","Lauren ","Oxbridge-A combined Club of University of Oxford and University of Cambridge",45,null,null,null,null,null,null,3488,"Webb","Emily","University of Southampton"]
[5,4,7," I ","M ","F",3526,"Carroll","Lauren ","Oxbridge-A combined Club of University of Oxford and University of Cambridge",71,null,null,null,null,null,null,3620,"Whitehead","Katie","UPSLC"]
[2,2,2," S ","M ","M",3528,"Jacklin","Michael ","Oxbridge-A combined Club of University of Oxford and University of Cambridge",49,null,null,null,null,null,null,3459,"Whittaker","Frazer","University of Nottingham"]
[5,3,2," S ","M ","M",3528,"Jacklin","Michael ","Oxbridge-A combined Club of University of Oxford and University of Cambridge",75,null,null,null,null,null,null,3447,"Whitworth","Julia ","University of Birmingham"]
[1,3,3," I ","M ","F",3529,"Hildyard ","Emma ","Oxbridge-A combined Club of University of Oxford and University of Cambridge",175,null,null,null,null,null,null,3461,"Wickham","Katherine","University of Nottingham"]
[3,2,3," I ","M ","F",3529,"Hildyard ","Emma ","Oxbridge-A combined Club of University of Oxford and University of Cambridge",115,null,null,null,null,null,null,3513,"Williams","Stephen","University of Warwick"]
[1,2,3," S ","M ","M",3532,"Collard","Alexander","University of Nottingham",158,null,null,null,null,null,null,3456,"Willing","Holly","University of Birmingham"]
[3,2,5," S ","M ","M",3532,"Collard","Alexander","University of Nottingham",92,null,null,null,null,null,null,3451,"Winter","Thomas","University of Birmingham"]
[2,2,7," S ","M ","M",3533,"Tapson","Jack","University of Nottingham",51,null,null,null,null,null,null,3512,"Wiser","Joshua","University of Warwick"]
[5,1,6," S ","M ","M",3533,"Tapson","Jack","University of Nottingham",102,null,null,null,null,null,null,3449,"Withers","Harry","University of Birmingham"]
[3,2,5," S ","F ","F",3534,"Proctor","Bryony","University of Nottingham",111,null,null,null,null,null,null,3634,"Worne","Simon","University of Hertfordshire"]
[4,1,4," S ","F ","F",3534,"Proctor","Bryony","University of Nottingham",85,null,null,null,null,null,null,3554,"Wray","Jared","Bristol University"]
[1,3,5," S ","F ","F",3535,"Bacon","Laura","University of Nottingham",173]
[4,2,3," S ","F ","F",3535,"Bacon","Laura","University of Nottingham",81]
[2,1,3," S ","F ","F",3536,"Rodgers","Kassia","University of Nottingham",75]
[6,1,6," S ","F ","F",3536,"Rodgers","Kassia","University of Nottingham",289]
[1,1,5," S ","F ","F",3537,"Aldgridge","Sophie","University of Nottingham",210]
[2,2,7," S ","F ","F",3537,"Aldgridge","Sophie","University of Nottingham",64]
[4,1,6," S ","M ","M",3538,"Madhar","Joshua","University of Nottingham",105]
[6,1,7," S ","M ","M",3538,"Madhar","Joshua","University of Nottingham",270]
[1,3,2," S ","M ","M",3539,"McCorquodale","Mark","University of Nottingham",140]
[2,3,4," S ","M ","M",3539,"McCorquodale","Mark","University of Nottingham",37.5]
[4,3,2," S ","F ","F",3545,"Petta","Luisa","University of Southampton",70]
[5,4,2," S ","F ","F",3545,"Petta","Luisa","University of Southampton",70]
[6,3,3," S ","F ","F",3545,"Petta","Luisa","University of Southampton",172]
[1,3,1," S ","F ","F",3547,"Baldwin","Catherine","Bristol University",184.46]
[5,3,7," S ","F ","F",3547,"Baldwin","Catherine","Bristol University",80.34]
[6,2,6," S ","F ","F",3547,"Baldwin","Catherine","Bristol University",201.82]
[1,3,7," S ","F ","F",3548,"Priddis","Sophie","Bristol University",184.03]
[3,1,3," S ","F ","F",3548,"Priddis","Sophie","Bristol University",132.69]
[6,2,1," S ","F ","F",3548,"Priddis","Sophie","Bristol University",206.77]
[2,3,2," S ","F ","F",3549,"Carter","Jennifer","Bristol University",54.93]
[3,1,2," S ","F ","F",3549,"Carter","Jennifer","Bristol University",142.31]
[4,2,4," S ","F ","F",3549,"Carter","Jennifer","Bristol University",78.38]
[4,2,2," S ","F ","F",3550,"Bedford","Ellesha","Bristol University",82.1]
[5,2,4," S ","F ","F",3550,"Bedford","Ellesha","Bristol University",84.22]
[2,2,8," S ","F ","F",3551,"Marshall","Lucy","Bristol University",65]
[1,2,8," S ","M ","M",3552,"Fotherby","James","Bristol University",180]
[6,2,7," S ","M ","M",3552,"Fotherby","James","Bristol University",193.67]
[3,3,1," S ","M ","M",3553,"Lang","Ben","Bristol University",80.08]
[6,2,2," S ","M ","M",3553,"Lang","Ben","Bristol University",192.24]
[2,2,6," S ","M ","M",3554,"Wray","Jared","Bristol University",47.06]
[1,1,4," S ","M ","M",3555,"Brown","Christopher","Bristol University",185.4]
[4,2,3," S ","M ","M",3555,"Brown","Christopher","Bristol University",77.38]
[4,4,7," S ","M ","M",3557,"Thompson","Richard","Loughborough University",53]
[5,5,7," S ","M ","M",3557,"Thompson","Richard","Loughborough University",60]
[6,3,6," S ","M ","M",3557,"Thompson","Richard","Loughborough University",155]
[2,4,5," S ","M ","M",3558,"Power","Jake","Loughborough University",32]
[4,4,1," S ","M ","M",3558,"Power","Jake","Loughborough University",53]
[5,5,2," S ","M ","M",3558,"Power","Jake","Loughborough University",58]
[6,3,3," S ","M ","M",3558,"Power","Jake","Loughborough University",153]
[1,3,7," S ","M ","M",3559,"Miles","Chris","Loughborough University",140]
[3,3,2," S ","M ","M",3559,"Miles","Chris","Loughborough University",77]
[4,3,6," S ","F ","F",3562,"Goodwin","Emily","Loughborough University",70]
[6,3,6," S ","F ","F",3562,"Goodwin","Emily","Loughborough University",175]
[2,4,5," S ","F ","F",3563,"Herring","Louisa","Loughborough University",42]
[5,4,5," S ","F ","F",3563,"Herring","Louisa","Loughborough University",67]
[6,3,5," S ","F ","F",3563,"Herring","Louisa","Loughborough University",170]
[1,4,4," S ","F ","F",3566,"Casey","Siobhan","Loughborough University",148]
[3,3,4," S ","F ","F",3566,"Casey","Siobhan","Loughborough University",83]
[4,3,5," S ","F ","F",3566,"Casey","Siobhan","Loughborough University",63]
[5,4,3," S ","F ","F",3566,"Casey","Siobhan","Loughborough University",67]
[1,4,3," S ","F ","F",3567,"Richardson","Heather","Loughborough University",150]
[2,4,7," S ","F ","F",3567,"Richardson","Heather","Loughborough University",47]
[3,3,5," S ","F ","F",3567,"Richardson","Heather","Loughborough University",87]
[3,1,7," S ","M ","M",3570,"Turner","Alex","Bristol University",123.89]
[5,1,3," S ","M ","M",3570,"Turner","Alex","Bristol University",91.01]
[2,4,8," S ","M ","M",3571,"Ridsdale","Adam","Bristol University",36.94]
[4,4,8," S ","M ","M",3571,"Ridsdale","Adam","Bristol University",54.76]
[5,5,8," S ","M ","M",3571,"Ridsdale","Adam","Bristol University",64.19]
[1,3,5," S ","M ","M",3574,"Morley","Andrew","Loughborough University",134]
[2,4,7," S ","M ","M",3574,"Morley","Andrew","Loughborough University",34.9]
[3,3,6," S ","M ","M",3574,"Morley","Andrew","Loughborough University",74.5]
[1,3,8," S ","M ","M",3576,"Leggott","Daniel","University of Surrey",155]
[2,2,3," S ","M ","M",3576,"Leggott","Daniel","University of Surrey",45]
[3,2,1," S ","M ","M",3576,"Leggott","Daniel","University of Surrey",100]
[4,2,4," S ","M ","M",3576,"Leggott","Daniel","University of Surrey",75]
[5,3,4," S ","M ","M",3576,"Leggott","Daniel","University of Surrey",70]
[6,3,8," S ","M ","M",3576,"Leggott","Daniel","University of Surrey",180]
[1,3,6," S ","M ","M",3577,"Kane","Andrew","Teeside University",135]
[2,4,3," S ","M ","M",3577,"Kane","Andrew","Teeside University",32.21]
[3,3,3," S ","M ","M",3577,"Kane","Andrew","Teeside University",69]
[4,4,5," S ","M ","M",3577,"Kane","Andrew","Teeside University",49.91]
[5,5,3," S ","M ","M",3577,"Kane","Andrew","Teeside University",56.55]
[6,3,5," S ","M ","M",3577,"Kane","Andrew","Teeside University",143.13]
[1,2,3," S ","F ","F",3578,"Malorey-Vibert","Cara ","University of Plymouth",194]
[2,3,6," S ","F ","F",3578,"Malorey-Vibert","Cara ","University of Plymouth",53]
[3,2,8," S ","F ","F",3578,"Malorey-Vibert","Cara ","University of Plymouth",122]
[4,2,7," S ","F ","F",3578,"Malorey-Vibert","Cara ","University of Plymouth",83]
[5,3,5," S ","F ","F",3578,"Malorey-Vibert","Cara ","University of Plymouth",79]
[6,2,7," S ","F ","F",3578,"Malorey-Vibert","Cara ","University of Plymouth",206]
[1,2,4," I ","F ","F",3579,"Viner-Waite","Rachel ","University of Plymouth",194]
[4,2,8," S ","F ","F",3579,"Viner-Waite","Rachel ","University of Plymouth",85]
[5,3,2," S ","F ","F",3579,"Viner-Waite","Rachel ","University of Plymouth",80]
[6,2,2," S ","F ","F",3579,"Viner-Waite","Rachel ","University of Plymouth",206]
[1,3,2," S ","F ","F",3580,"Reed","Elise ","University of Plymouth",179]
[1,2,5," I ","F ","F",3581,"Parslow","Alice","University of Plymouth",200]
[2,2,5," S ","F ","F",3581,"Parslow","Alice","University of Plymouth",59]
[2,2,1," S ","M ","M",3591,"Conley","James","University of Plymouth",56]
[5,3,8," I ","M ","M",3591,"Conley","James","University of Plymouth",76]
[2,1,5," S ","M ","M",3592,"Richards","Matthew","University of Plymouth",58]
[4,1,2," S ","M ","M",3592,"Richards","Matthew","University of Plymouth",88]
[5,2,3," I ","M ","M",3592,"Richards","Matthew","University of Plymouth",80]
[4,2,7," I ","M ","M",3593,"Hall","Benjamin","University of Plymouth",82]
[5,2,5," I ","M ","M",3593,"Hall","Benjamin","University of Plymouth",80]
[1,2,7," S ","M ","M",3594,"Last","Todd","University of Plymouth",165]
[3,3,7," S ","M ","M",3594,"Last","Todd","University of Plymouth",79]
[4,2,2," I ","M ","M",3594,"Last","Todd","University of Plymouth",80]
[5,4,1," S ","M ","M",3594,"Last","Todd","University of Plymouth",70]
[6,3,1," S ","M ","M",3594,"Last","Todd","University of Plymouth",175]
[4,2,6," S ","M ","M",3595,"Bowen","William ","University of Plymouth",79]
[5,3,1," S ","M ","M",3595,"Bowen","William ","University of Plymouth",76]
[5,4,8," S ","M ","M",3595,"Bowen","William ","University of Plymouth",70]
[1,4,6," S ","F ","F",3602,"Stalion","Jayne","University of Derby",150.65]
[2,4,4," S ","F ","F",3602,"Stalion","Jayne","University of Derby",41.02]
[3,3,3," S ","F ","F",3602,"Stalion","Jayne","University of Derby",90.8]
[4,3,4," S ","F ","F",3602,"Stalion","Jayne","University of Derby",61.02]
[5,4,4," S ","F ","F",3602,"Stalion","Jayne","University of Derby",66.61]
[6,3,4," S ","F ","F",3602,"Stalion","Jayne","University of Derby",167.43]
[1,2,5," S ","M ","M",3603,"Briggs","Callum","Heanor",157.9]
[2,3,3," S ","M ","M",3603,"Briggs","Callum","Heanor",39.9]
[3,2,3," S ","M ","M",3603,"Briggs","Callum","Heanor",92.9]
[4,3,2," S ","M ","M",3603,"Briggs","Callum","Heanor",70]
[5,4,3," S ","M ","M",3603,"Briggs","Callum","Heanor",66.77]
[6,2,3," S ","M ","M",3603,"Briggs","Callum","Heanor",191.17]
[2,1,7," S ","M ","M",3604,"Fielding","David","Keynsham",0]
[5,2,8," S ","M ","M",3604,"Fielding","David","Keynsham",85]
[2,2,4," I ","F ","F",3606,"Brown","Niamh","University of Plymouth",59]
[4,1,1," I ","F ","F",3606,"Brown","Niamh","University of Plymouth",92]
[5,2,2," I ","F ","F",3606,"Brown","Niamh","University of Plymouth",90]
[2,3,8," I ","F ","F",3607,"Mullet","Lucy","University of Plymouth",59]
[5,2,5," I ","F ","F",3607,"Mullet","Lucy","University of Plymouth",90]
[2,3,5," S ","F ","F",3610,"Clark","Sellene","UoB LSC",51]
[3,2,4," S ","F ","F",3610,"Clark","Sellene","UoB LSC",110]
[4,3,8," S ","F ","F",3611,"Rees","Anwen","UoB LSC",77]
[5,3,3," S ","F ","F",3611,"Rees","Anwen","UoB LSC",79]
[2,3,7," S ","F ","F",3612,"Brown","Alice","UoB LSC",55]
[3,2,7," S ","F ","F",3612,"Brown","Alice","UoB LSC",119]
[1,1,4," S ","F ","F",3613,"Askew","Abi","UoB LSC",210]
[6,1,2," S ","F ","F",3613,"Askew","Abi","UoB LSC",250]
[4,3,1," S ","F ","F",3614,"Lord","Hannah","UoB LSC",77]
[6,1,4," S ","F ","F",3614,"Lord","Hannah","UoB LSC",225]
[1,1,6," S ","F ","F",3615,"Holloway","Tasmijn","UoB LSC",220]
[5,3,1," S ","F ","F",3615,"Holloway","Tasmijn","UoB LSC",81]
[2,1,1," I ","F ","F",3616,"Curry","Milly","UPSLC",80]
[2,1,6," I ","F ","F",3617,"Jordan","Claire","UPSLC",80]
[2,2,1," S ","F ","F",3618,"Oliver","Amber","UPSLC",65]
[2,2,6," S ","F ","F",3619,"Dubs","Evie S","UPSLC",62]
[2,1,2," I ","F ","F",3620,"Whitehead","Katie","UPSLC",80]
[2,1,5," I ","F ","F",3621,"Jones","Isabelle","UPSLC",80]
[1,1,5," S ","M ","M",3622,"Stevens","Zac","UPSLC",190]
[2,1,6," I ","M ","M",3622,"Stevens","Zac","UPSLC",59]
[5,2,1," I ","M ","M",3622,"Stevens","Zac","UPSLC",85]
[5,2,6," S ","M ","M",3623,"Mccabe","Liam","UPSLC",82]
[2,2,8," S ","M ","M",3624,"Crowther","Peter","UPSLC",57]
[5,2,2," S ","M ","M",3624,"Crowther","Peter","UPSLC",83]
[3,2,7," S ","M ","M",3625,"Atton","Howard","UPSLC",100]
[4,2,8," S ","M ","M",3625,"Atton","Howard","UPSLC",86]
[6,1,3," S ","M ","M",3625,"Atton","Howard","UPSLC",220]
[2,1,4," S ","M ","M",3626,"O'Donnell","Alec","UPSLC",58]
[4,1,5," S ","M ","M",3626,"O'Donnell","Alec","UPSLC",88]
[5,4,7," I ","M ","M",3627,"Spode","Sam","UPSLC",69]
[2,4,1," S ","M ","M",3629,"Butler","Dave","Crawley Town",35.6]
[4,4,3," S ","M ","M",3629,"Butler","Dave","Crawley Town",52.1]
[5,5,5," S ","M ","M",3629,"Butler","Dave","Crawley Town",55.5]
[1,3,4," S ","M ","M",3630,"Jagger","Richard","Crawley Town",124.5]
[2,4,6," S ","M ","M",3630,"Jagger","Richard","Crawley Town",32.6]
[3,3,5," S ","M ","M",3630,"Jagger","Richard","Crawley Town",67.7]
[4,4,6," S ","M ","M",3630,"Jagger","Richard","Crawley Town",52.11]
[5,5,6," S ","M ","M",3630,"Jagger","Richard","Crawley Town",57.4]
[6,3,4," S ","M ","M",3630,"Jagger","Richard","Crawley Town",141.19999999999999]
[2,3,7," I ","K ","M",3631,"Gladders","Andy","Loughborough University",41]
[4,3,5," I ","K ","M",3631,"Gladders","Andy","Loughborough University",64]
[5,4,5," I ","K ","M",3631,"Gladders","Andy","Loughborough University",66]
[1,4,8," S ","X ","F",3633,"Anderson","Shaunna","Beeslack",169]
[4,2,1," S ","X ","F",3633,"Anderson","Shaunna","Beeslack",85]
[5,3,6," S ","X ","F",3633,"Anderson","Shaunna","Beeslack",80]
[2,4,2," S ","M ","M",3634,"Worne","Simon","University of Hertfordshire",33.15]
[4,4,4," S ","M ","M",3634,"Worne","Simon","University of Hertfordshire",48.62]
[5,5,4," S ","M ","M",3634,"Worne","Simon","University of Hertfordshire",53.14]

{"sheet":"Data_2","index":3,"n_rows":60,"n_cols":18,"rows_kept":60,"cut":false,"hidden":false,"merged":[]}
["Event","Heat","Lane","TypeID","TypeID","Sex","CompetittiorID Thrower","Surname Thrower","Forename Thrower","CompetittiorID Catcher","Surname Catcher","Forename Catcher","Club Name","Entry Time",null,null,"No_rows",{"$f":"COUNT(A:A)","v":59}]
[21,3,2," S ","M ","M",3449,"Withers","Harry",3451,"Winter","Thomas","University of Birmingham",14,null,null,"Min_Lanes",{"$f":"MIN(C:C)","v":0}]
[21,2,2," S ","M ","M",3455,"Cokyasar","Ebru",3452,"Mackie","Patrick","University of Birmingham",18,null,null,"Max_Lanes",{"$f":"MAX(C:C)","v":9}]
[21,2,5," S ","M ","M",3532,"Collard","Alexander",3460,"Hague","Bradley","University of Nottingham",18]
[21,3,6," S ","F ","F",3534,"Proctor","Bryony",3461,"Wickham","Katherine","University of Nottingham",14]
[21,3,2," S ","F ","F",3450,"Longshaw","Evie",3462,"Richards","Jessica","University of Birmingham",14]
[21,3,4," S ","M ","M",3464,"Hale","Joshua",3465,"Bowskill","Tom","Swansea Universities Lifesaving",13]
[21,3,1," S ","M ","M",3468,"Mckenna","Josh",3466,"Sharp","Tom","Swansea Universities Lifesaving",15]
[21,3,0," S ","F ","F",3476,"Hawken","Sophie",3470,"Haigh","Chloe","Swansea Universities Lifesaving",18]
[21,2,7," S ","F ","F",3471,"Redhead","Bethany",3473,"Blake","Lauren","Swansea Universities Lifesaving",19]
[21,2,3," S ","F ","F",3447,"Whitworth","Julia ",3475,"Huntingford","Victoria","University of Birmingham",18]
[21,1,3," S ","F ","F",3488,"Webb","Emily",3481,"Gunn","Hannah","University of Southampton",23]
[21,2,7," S ","M ","M",3478,"Anderson","Robert",3484,"Walker","Thomas","University of Southampton",20]
[21,2,4," S ","M ","M",3498,"Khoo","Daniel",3485,"Oakey","Andrew","University of Southampton",16]
[21,1,6," S ","F ","F",3487,"Connelly","Zoe",3486,"Burridge","Lowri","University of Southampton",25]
[21,2,4," I ","X ","F",3496,"Waite","Katie",3492,"Brown","Alice","University of Birmingham",18]
[21,2,5," I ","F ","F",3456,"Willing","Holly",3493,"Askew","Abi","University of Birmingham",18]
[21,2,6," S ","F ","F",3503,"Jameson","Imogen",3505,"Potter","Shannon","University of Sheffield",19]
[21,3,3," S ","M ","M",3507,"Kirkham","Michael",3508,"Stevenson","Niall","University of Sheffield",14]
[21,2,8," S ","F ","F",3522,"Booth","Lucy",3511,"Ewers","Rebecca","University of Warwick",20]
[21,3,8," S ","M ","M",3524,"Alexander","Timothy",3512,"Wiser","Joshua","University of Warwick",15.03]
[21,2,3," S ","M ","M",3509,"Hancock","Jonathan",3515,"Ryde","Benjamin","University of Sheffield",17]
[21,2,9," S ","F ","F",3501,"Morris","Helen",3517,"Shaw","Hannah","University of Sheffield",21]
[21,2,0," S ","F ","F",3444,"Pollard","India",3521,"Joel","Elsa","University of Warwick",20]
[21,4,9," S ","M ","M",3516,"Prime","Benjamin",3525,"Ducker","Mike","University of Warwick",12.81]
[21,2,6," S ","M ","M",3527,"Thompson ","Robert",3526,"Carroll","Lauren ","Oxbridge-A combined Club of University of Oxford and University of Cambridge",20]
[21,3,7," I ","M ","F",3526,"Carroll","Lauren ",3529,"Hildyard ","Emma ","Oxbridge-A combined Club of University of Oxford and University of Cambridge",15]
[21,3,0," S ","M ","M",3528,"Jacklin","Michael ",3530,"Newman","Josie ","Oxbridge-A combined Club of University of Oxford and University of Cambridge",16]
[21,2,2," S ","F ","F",3445,"Smallwood","Hannah",3535,"Bacon","Laura","University of Nottingham",19]
[21,3,9," S ","M ","M",3459,"Whittaker","Frazer",3539,"McCorquodale","Mark","University of Nottingham",16]
[21,3,4," S ","F ","F",3548,"Priddis","Sophie",3546,"Panagi","Stephanie","Bristol University",13]
[21,3,5," S ","F ","F",3550,"Bedford","Ellesha",3551,"Marshall","Lucy","Bristol University",13]
[21,4,7," S ","M ","M",3558,"Power","Jake",3557,"Thompson","Richard","Loughborough University",11]
[21,4,8," I ","K ","M",3631,"Gladders","Andy",3562,"Goodwin","Emily","Loughborough University",11.7]
[21,1,4," S ","F ","F",3562,"Goodwin","Emily",3564,"East","Jess","Loughborough University",22]
[21,3,9," S ","F ","F",3565,"Miller","Jessica",3567,"Richardson","Heather","Loughborough University",18]
[21,4,6," S ","M ","M",3552,"Fotherby","James",3570,"Turner","Alex","Bristol University",11]
[21,4,2," S ","M ","M",3554,"Wray","Jared",3571,"Ridsdale","Adam","Bristol University",11]
[21,4,0," S ","M ","M",3561,"Forster","Robert",3574,"Morley","Andrew","Loughborough University",12]
[21,3,6," I ","M ","M",3576,"Leggott","Daniel",3576,"Leggott","Daniel","University of Surrey",14]
[21,4,5," I ","M ","M",3577,"Kane","Andrew",3577,"Kane","Andrew","Teeside University",10.74]
[21,2,1," S ","F ","F",3578,"Malorey-Vibert","Cara ",3579,"Viner-Waite","Rachel ","University of Plymouth",20]
[21,1,2," I ","F ","F",3581,"Parslow","Alice",3580,"Reed","Elise ","University of Plymouth",25]
[21,1,7," I ","M ","M",3591,"Conley","James",3592,"Richards","Matthew","University of Plymouth",40]
[21,3,7," S ","M ","M",3595,"Bowen","William ",3593,"Hall","Benjamin","University of Plymouth",15]
[21,2,1," S ","M ","M",3590,"Unsworth","James",3594,"Last","Todd","University of Plymouth",20]
[21,3,3," I ","F ","F",3602,"Stalion","Jayne",3602,"Stalion","Jayne","University of Derby",13.36]
[21,4,1," I ","M ","M",3603,"Briggs","Callum",3603,"Briggs","Callum","Heanor",11.25]
[21,3,5," S ","M ","M",3604,"Fielding","David",3605,"Blandford","Alex","Keynsham",14]
[21,1,5," S ","F ","F",3606,"Brown","Niamh",3607,"Mullet","Lucy","University of Plymouth",25]
[21,3,1," S ","F ","F",3614,"Lord","Hannah",3610,"Clark","Sellene","UoB LSC",16]
[21,3,8," S ","F ","F",3611,"Rees","Anwen",3615,"Holloway","Tasmijn","UoB LSC",16]
[21,1,5," S ","F ","M",3618,"Oliver","Amber",3616,"Curry","Milly","UPSLC",38]
[21,1,1," I ","F ","M",3617,"Jordan","Claire",3619,"Dubs","Evie S","UPSLC",40]
[21,1,3," S ","F ","M",3621,"Jones","Isabelle",3620,"Whitehead","Katie","UPSLC",30]
[21,1,2," I ","M ","M",3623,"Mccabe","Liam",3622,"Stevens","Zac","UPSLC",40]
[21,1,4," S ","M ","M",3624,"Crowther","Peter",3625,"Atton","Howard","UPSLC",26]
[21,1,6," S ","M ","M",3626,"O'Donnell","Alec",3627,"Spode","Sam","UPSLC",40]
[21,4,4," S ","M ","M",3630,"Jagger","Richard",3629,"Butler","Dave","Crawley Town",10]
[21,4,3," I ","K ","M",3632,"Peel","Luke",3635,"Worne","Simon","University of Birmingham",10.99]

{"sheet":"Data_4","index":4,"n_rows":88,"n_cols":23,"rows_kept":88,"cut":false,"hidden":false,"merged":[]}
["Event","Heat","Lane","TypeID","TypeID","Sex","CompetittiorID","Surname","Forename","CompetittiorID","Surname","Forename","CompetittiorID","Surname","Forename","CompetittiorID","Surname","Forename","Club Name","Entry Time","Team Name","No_rows",{"$f":"COUNT(A:A)","v":87}]
[8,1,1," S ","F ","F",3522,"Booth","Lucy",3444,"Pollard","India",3521,"Joel","Elsa",3511,"Ewers","Rebecca","University of Warwick",146,null,null,{"$f":"MIN(C:C)","v":0}]
[9,1,2," S ","F ","F",3511,"Ewers","Rebecca",3444,"Pollard","India",3521,"Joel","Elsa",3522,"Booth","Lucy","University of Warwick",165,null,null,{"$f":"MAX(C:C)","v":9}]
[10,1,4," S ","F ","F",3522,"Booth","Lucy",3444,"Pollard","India",3521,"Joel","Elsa",3511,"Ewers","Rebecca","University of Warwick",148]
[22,2,4," S ","F ","F",3534,"Proctor","Bryony",3445,"Smallwood","Hannah",3461,"Wickham","Katherine",3535,"Bacon","Laura","University of Nottingham",110]
[8,1,5," S ","F ","F",3456,"Willing","Holly",3447,"Whitworth","Julia ",3475,"Huntingford","Victoria",3458,"Smith","Emma","University of Birmingham",112]
[22,2,3," S ","F ","F",3450,"Longshaw","Evie",3447,"Whitworth","Julia ",3458,"Smith","Emma",3456,"Willing","Holly","University of Birmingham",115]
[9,2,2," S ","M ","M",3454,"Stroyde","Dale",3451,"Winter","Thomas",3452,"Mackie","Patrick",3449,"Withers","Harry","University of Birmingham",135]
[10,2,3," S ","M ","M",3452,"Mackie","Patrick",3451,"Winter","Thomas",3454,"Stroyde","Dale",3449,"Withers","Harry","University of Birmingham",119]
[22,2,7," S ","M ","M",3449,"Withers","Harry",3451,"Winter","Thomas",3452,"Mackie","Patrick",3453,"Pau","Alfredo","University of Birmingham",110]
[8,2,5," S ","M ","M",3454,"Stroyde","Dale",3452,"Mackie","Patrick",3451,"Winter","Thomas",3449,"Withers","Harry","University of Birmingham",99]
[10,2,7," S ","M ","M",3532,"Collard","Alexander",3460,"Hague","Bradley",3539,"McCorquodale","Mark",3459,"Whittaker","Frazer","University of Nottingham",130]
[9,2,5," S ","F ","F",3458,"Smith","Emma",3462,"Richards","Jessica",3447,"Whitworth","Julia ",3475,"Huntingford","Victoria","University of Birmingham",130]
[10,2,5," S ","F ","F",3475,"Huntingford","Victoria",3462,"Richards","Jessica",3458,"Smith","Emma",3450,"Longshaw","Evie","University of Birmingham",123]
[22,2,5," S ","M ","M",3464,"Hale","Joshua",3463,"Ingham","Conor",3465,"Bowskill","Tom",3468,"Mckenna","Josh","Swansea Universities Lifesaving",85]
[10,2,5," S ","M ","M",3467,"Christophersen","Ben",3464,"Hale","Joshua",3465,"Bowskill","Tom",3463,"Ingham","Conor","Swansea Universities Lifesaving",110]
[8,2,3," S ","M ","M",3467,"Christophersen","Ben",3465,"Bowskill","Tom",3466,"Sharp","Tom",3463,"Ingham","Conor","Swansea Universities Lifesaving",109]
[9,2,3," S ","M ","M",3467,"Christophersen","Ben",3465,"Bowskill","Tom",3463,"Ingham","Conor",3466,"Sharp","Tom","Swansea Universities Lifesaving",128]
[9,2,6," S ","F ","F",3474,"Bampton","Katie",3470,"Haigh","Chloe",3473,"Blake","Lauren",3476,"Hawken","Sophie","Swansea Universities Lifesaving",145]
[10,2,3," S ","F ","F",3474,"Bampton","Katie",3471,"Redhead","Bethany",3473,"Blake","Lauren",3476,"Hawken","Sophie","Swansea Universities Lifesaving",130]
[22,2,2," S ","F ","F",3476,"Hawken","Sophie",3471,"Redhead","Bethany",3474,"Bampton","Katie",3472,"Elms","Becky","Swansea Universities Lifesaving",120]
[8,1,7," S ","F ","F",3474,"Bampton","Katie",3472,"Elms","Becky",3470,"Haigh","Chloe",3476,"Hawken","Sophie","Swansea Universities Lifesaving",140]
[8,1,4," S ","M ","M",3489,"Evans","Richard",3482,"Thomas","Charles",3484,"Walker","Thomas",3485,"Oakey","Andrew","University of Southampton",122]
[8,1,2," S ","F ","F",3488,"Webb","Emily",3483,"Sidaoui","Giovanna",3481,"Gunn","Hannah",3545,"Petta","Luisa","University of Southampton",139]
[9,1,3," S ","F ","F",3488,"Webb","Emily",3483,"Sidaoui","Giovanna",3486,"Burridge","Lowri",3481,"Gunn","Hannah","University of Southampton",160]
[9,1,3," S ","M ","M",3478,"Anderson","Robert",3484,"Walker","Thomas",3482,"Thomas","Charles",3498,"Khoo","Daniel","University of Southampton",158]
[22,1,3," S ","M ","M",3478,"Anderson","Robert",3485,"Oakey","Andrew",3498,"Khoo","Daniel",3482,"Thomas","Charles","University of Southampton",120]
[10,1,5," S ","F ","F",3481,"Gunn","Hannah",3487,"Connelly","Zoe",3486,"Burridge","Lowri",3545,"Petta","Luisa","University of Southampton",155]
[22,2,7," S ","F ","F",3483,"Sidaoui","Giovanna",3487,"Connelly","Zoe",3486,"Burridge","Lowri",3488,"Webb","Emily","University of Southampton",120]
[10,1,5," S ","M ","M",3478,"Anderson","Robert",3489,"Evans","Richard",3498,"Khoo","Daniel",3485,"Oakey","Andrew","University of Southampton",146]
[9,1,4," S ","M ","M",3515,"Ryde","Benjamin",3500,"Hammersley","Samuel",3509,"Hancock","Jonathan",3510,"Lawman","Samuel","University of Sheffield",140]
[9,2,7," S ","F ","F",3506,"Cheung","King Yee",3501,"Morris","Helen",3505,"Potter","Shannon",3504,"Falconer","Sarah","University of Sheffield",150]
[10,2,6," S ","F ","F",3506,"Cheung","King Yee",3501,"Morris","Helen",3504,"Falconer","Sarah",3505,"Potter","Shannon","University of Sheffield",135]
[22,1,2," S ","F ","F",3505,"Potter","Shannon",3501,"Morris","Helen",3503,"Jameson","Imogen",3504,"Falconer","Sarah","University of Sheffield",160]
[8,1,6," S ","F ","F",3501,"Morris","Helen",3505,"Potter","Shannon",3506,"Cheung","King Yee",3504,"Falconer","Sarah","University of Sheffield",130]
[8,2,6," S ","M ","M",3508,"Stevenson","Niall",3509,"Hancock","Jonathan",3500,"Hammersley","Samuel",3510,"Lawman","Samuel","University of Sheffield",110]
[10,1,4," S ","M ","M",3500,"Hammersley","Samuel",3510,"Lawman","Samuel",3509,"Hancock","Jonathan",3515,"Ryde","Benjamin","University of Sheffield",130]
[22,1,2," S ","M ","M",3507,"Kirkham","Michael",3510,"Lawman","Samuel",3500,"Hammersley","Samuel",3509,"Hancock","Jonathan","University of Sheffield",140]
[8,2,7," S ","M ","M",3516,"Prime","Benjamin",3512,"Wiser","Joshua",3524,"Alexander","Timothy",3525,"Ducker","Mike","University of Warwick",118]
[9,2,7," S ","M ","M",3524,"Alexander","Timothy",3516,"Prime","Benjamin",3523,"Scoones","Andrew",3525,"Ducker","Mike","University of Warwick",140]
[22,1,3," S ","F ","F",3444,"Pollard","India",3522,"Booth","Lucy",3511,"Ewers","Rebecca",3521,"Joel","Elsa","University of Warwick",150]
[10,1,3," S ","M ","M",3525,"Ducker","Mike",3523,"Scoones","Andrew",3524,"Alexander","Timothy",3516,"Prime","Benjamin","University of Warwick",135]
[22,2,2," S ","M ","M",3516,"Prime","Benjamin",3524,"Alexander","Timothy",3523,"Scoones","Andrew",3525,"Ducker","Mike","University of Warwick",90]
[22,1,4," S ","M ","M",3529,"Hildyard ","Emma ",3527,"Thompson ","Robert",3526,"Carroll","Lauren ",3528,"Jacklin","Michael ","Oxbridge-A combined Club of University of Oxford and University of Cambridge",120]
[8,1,5," S ","M ","M",3527,"Thompson ","Robert",3530,"Newman","Josie ",3526,"Carroll","Lauren ",3528,"Jacklin","Michael ","Oxbridge-A combined Club of University of Oxford and University of Cambridge",160]
[9,1,2," S ","M ","M",3529,"Hildyard ","Emma ",3530,"Newman","Josie ",3526,"Carroll","Lauren ",3528,"Jacklin","Michael ","Oxbridge-A combined Club of University of Oxford and University of Cambridge",165]
[10,1,2," S ","M ","M",3529,"Hildyard ","Emma ",3530,"Newman","Josie ",3526,"Carroll","Lauren ",3527,"Thompson ","Robert","Oxbridge-A combined Club of University of Oxford and University of Cambridge",160]
[10,2,7," S ","F ","F",3537,"Aldgridge","Sophie",3535,"Bacon","Laura",3445,"Smallwood","Hannah",3534,"Proctor","Bryony","University of Nottingham",147]
[8,1,0," S ","F ","F",3461,"Wickham","Katherine",3536,"Rodgers","Kassia",3537,"Aldgridge","Sophie",3445,"Smallwood","Hannah","University of Nottingham",172]
[9,1,6," S ","F ","F",3534,"Proctor","Bryony",3537,"Aldgridge","Sophie",3536,"Rodgers","Kassia",3535,"Bacon","Laura","University of Nottingham",170]
[8,1,3," S ","M ","M",3460,"Hague","Bradley",3538,"Madhar","Joshua",3533,"Tapson","Jack",3539,"McCorquodale","Mark","University of Nottingham",130]
[9,1,6," S ","M ","M",3532,"Collard","Alexander",3538,"Madhar","Joshua",3533,"Tapson","Jack",3459,"Whittaker","Frazer","University of Nottingham",170]
[22,2,6," S ","M ","M",3459,"Whittaker","Frazer",3539,"McCorquodale","Mark",3532,"Collard","Alexander",3460,"Hague","Bradley","University of Nottingham",90]
[10,1,3," S ","F ","F",3549,"Carter","Jennifer",3546,"Panagi","Stephanie",3547,"Baldwin","Catherine",3548,"Priddis","Sophie","Bristol University",150]
[9,1,4," S ","F ","F",3547,"Baldwin","Catherine",3549,"Carter","Jennifer",3548,"Priddis","Sophie",3546,"Panagi","Stephanie","Bristol University",155]
[8,1,8," S ","F ","F",3549,"Carter","Jennifer",3550,"Bedford","Ellesha",3548,"Priddis","Sophie",3547,"Baldwin","Catherine","Bristol University",150]
[22,2,6," S ","F ","F",3548,"Priddis","Sophie",3550,"Bedford","Ellesha",3549,"Carter","Jennifer",3547,"Baldwin","Catherine","Bristol University",120]
[8,2,2," S ","M ","M",3571,"Ridsdale","Adam",3552,"Fotherby","James",3554,"Wray","Jared",3553,"Lang","Ben","Bristol University",110]
[10,2,6," S ","M ","M",3571,"Ridsdale","Adam",3552,"Fotherby","James",3555,"Brown","Christopher",3553,"Lang","Ben","Bristol University",120]
[10,2,4," S ","M ","M",3559,"Miles","Chris",3557,"Thompson","Richard",3558,"Power","Jake",3574,"Morley","Andrew","Loughborough University",105]
[8,2,4," S ","M ","M",3557,"Thompson","Richard",3558,"Power","Jake",3574,"Morley","Andrew",3559,"Miles","Chris","Loughborough University",81]
[22,2,3," S ","M ","M",3561,"Forster","Robert",3558,"Power","Jake",3556,"Shone","Jamie",3559,"Miles","Chris","Loughborough University",85]
[22,2,5," S ","F ","F",3565,"Miller","Jessica",3562,"Goodwin","Emily",3563,"Herring","Louisa",3566,"Casey","Siobhan","Loughborough University",110]
[8,1,4," S ","F ","F",3563,"Herring","Louisa",3566,"Casey","Siobhan",3567,"Richardson","Heather",3562,"Goodwin","Emily","Loughborough University",110]
[9,2,4," S ","F ","F",3566,"Casey","Siobhan",3567,"Richardson","Heather",3563,"Herring","Louisa",3562,"Goodwin","Emily","Loughborough University",125]
[10,2,4," S ","F ","F",3563,"Herring","Louisa",3567,"Richardson","Heather",3566,"Casey","Siobhan",3562,"Goodwin","Emily","Loughborough University",121]
[9,2,6," S ","M ","M",3571,"Ridsdale","Adam",3570,"Turner","Alex",3555,"Brown","Christopher",3552,"Fotherby","James","Bristol University",130]
[22,2,4," S ","M ","M",3554,"Wray","Jared",3571,"Ridsdale","Adam",3555,"Brown","Christopher",3552,"Fotherby","James","Bristol University",80]
[9,2,4," S ","M ","M",3558,"Power","Jake",3574,"Morley","Andrew",3557,"Thompson","Richard",3559,"Miles","Chris","Loughborough University",109]
[9,2,3," S ","F ","F",3580,"Reed","Elise ",3581,"Parslow","Alice",3579,"Viner-Waite","Rachel ",3578,"Malorey-Vibert","Cara ","University of Plymouth",142," Plymouth"]
[10,1,2," S ","F ","F",3580,"Reed","Elise ",3581,"Parslow","Alice",3579,"Viner-Waite","Rachel ",3578,"Malorey-Vibert","Cara ","University of Plymouth",160," Plymouth A"]
[22,1,5," S ","F ","F",3578,"Malorey-Vibert","Cara ",3581,"Parslow","Alice",3606,"Brown","Niamh",3579,"Viner-Waite","Rachel ","University of Plymouth",160," Plymouth A"]
[22,1,5," S ","M ","M",3595,"Bowen","William ",3590,"Unsworth","James",3594,"Last","Todd",3591,"Conley","James","University of Plymouth",140," Plymouth A"]
[8,1,2," S ","M ","M",3590,"Unsworth","James",3591,"Conley","James",3595,"Bowen","William ",3594,"Last","Todd","University of Plymouth",160," Plymouth A"]
[9,2,5," S ","M ","M",3591,"Conley","James",3592,"Richards","Matthew",3594,"Last","Todd",3590,"Unsworth","James","University of Plymouth",122," Plymouth"]
[10,2,2," S ","M ","M",3591,"Conley","James",3592,"Richards","Matthew",3594,"Last","Todd",3590,"Unsworth","James","University of Plymouth",129," Plymouth A"]
[9,2,2," S ","F ","F",3614,"Lord","Hannah",3611,"Rees","Anwen",3610,"Clark","Sellene",3612,"Brown","Alice","UoB LSC",148]
[8,1,3," S ","F ","F",3610,"Clark","Sellene",3613,"Askew","Abi",3615,"Holloway","Tasmijn",3614,"Lord","Hannah","UoB LSC",130]
[10,2,2," S ","F ","F",3612,"Brown","Alice",3614,"Lord","Hannah",3610,"Clark","Sellene",3611,"Rees","Anwen","UoB LSC",137]
[22,1,4," S ","F ","F",3611,"Rees","Anwen",3614,"Lord","Hannah",3610,"Clark","Sellene",3612,"Brown","Alice","UoB LSC",121]
[8,1,9," S ","F ","F",3616,"Curry","Milly",3617,"Jordan","Claire",3619,"Dubs","Evie S",3618,"Oliver","Amber","UPSLC",200]
[9,1,5," S ","F ","F",3616,"Curry","Milly",3617,"Jordan","Claire",3619,"Dubs","Evie S",3618,"Oliver","Amber","UPSLC",162]
[10,1,6," S ","F ","F",3616,"Curry","Milly",3617,"Jordan","Claire",3619,"Dubs","Evie S",3618,"Oliver","Amber","UPSLC",165]
[22,1,6," S ","F ","F",3616,"Curry","Milly",3617,"Jordan","Claire",3619,"Dubs","Evie S",3618,"Oliver","Amber","UPSLC",0]
[8,1,6," S ","M ","M",3623,"Mccabe","Liam",3624,"Crowther","Peter",3622,"Stevens","Zac",3627,"Spode","Sam","UPSLC",200]
[9,1,5," S ","M ","M",3623,"Mccabe","Liam",3624,"Crowther","Peter",3622,"Stevens","Zac",3627,"Spode","Sam","UPSLC",162]
[10,1,6," S ","M ","M",3623,"Mccabe","Liam",3624,"Crowther","Peter",3622,"Stevens","Zac",3627,"Spode","Sam","UPSLC",165]
[22,1,6," S ","M ","M",3623,"Mccabe","Liam",3624,"Crowther","Peter",3622,"Stevens","Zac",3627,"Spode","Sam","UPSLC",0]

{"sheet":"Reserve","index":5,"n_rows":14,"n_cols":8,"rows_kept":14,"cut":false,"hidden":false,"merged":[]}
["CompetittiorID","Surname","Forename","Club Name",null,null,"No_rows",{"$f":"COUNT(A:A)","v":13}]
[3572,"Mueller-Glodde","Maren","Bristol University"]
[3573,"Northcott","Daniel","Bristol University"]
[3568,"Willetts","Douglas","Loughborough University"]
[3575,"Quinn","Alice","Loughborough University"]
[3469,"Millar","Jonah","Swansea Universities Lifesaving"]
[3477,"Jones","Elizabeth","Swansea Universities Lifesaving"]
[3608,"Bampton","Joe","University of Plymouth"]
[3609,"Jones","Isabelle","University of Plymouth"]
[3502,"Rosevear","Holly","University of Sheffield"]
[3519,"Fidock","Benjamin","University of Sheffield"]
[3520,"Simms","Elinor","University of Sheffield"]
[3531,"Mounce","Katie","University of Southampton"]
[3544,"Entwistle","Robert","University of Southampton"]

{"sheet":"Data_Sunday","index":6,"n_rows":572,"n_cols":8,"rows_kept":572,"cut":false,"hidden":false,"merged":[]}
["Club","Team",null,null,null,null,"No_rows",{"$f":"COUNT(C:C)","v":0}]
["Bradford On Avon Lifesaving Club","A"]
["Bradford On Avon Lifesaving Club","B"]
["Bristol University","A"]
["Bristol University","B"]
["Bristol University","C"]
["Keynsham","A"]
["Keynsham","B"]
["Keynsham","C"]
["Loughborough University","A"]
["Loughborough University","B"]
["Loughborough University","C"]
["Oxbridge-A combined Club of University of Oxford and University of Cambridge","A"]
["Swansea Universities Lifesaving","A"]
["Swansea Universities Lifesaving","B"]
["Swansea Universities Lifesaving","C"]
["University of Birmingham","A"]
["University of Birmingham","B"]
["University of Birmingham","C"]
["University of Birmingham","D"]
["University of Birmingham","E"]
["University of Nottingham","A"]
["University of Nottingham","B"]
["University of Nottingham","C"]
["University of Sheffield","A"]
["University of Sheffield","B"]
["University of Sheffield","C"]
["University of Southampton","A"]
["University of Southampton","B"]
["University of Southampton","C"]
["University of Warwick","A"]
["University of Warwick","B"]
["University of Warwick","C"]
[]
[]
[null,null,{"$f":"IF(A36=\"\",\"\",1)","v":""}]
[null,null,{"$f":"IF(A37=\"\",\"\",1)","v":""}]
[null,null,{"$f":"IF(A38=\"\",\"\",1)","v":""}]
[null,null,{"$f":"IF(A39=\"\",\"\",1)","v":""}]
[null,null,{"$f":"IF(A40=\"\",\"\",1)","v":""}]
[null,null,{"$f":"IF(A41=\"\",\"\",1)","v":""}]
[null,null,""]
[null,null,""]
[null,null,""]
[null,null,""]
[null,null,""]
[null,null,""]
[null,null,""]
[null,null,""]
[null,null,""]
[null,null,""]
[null,null,""]
[null,null,""]
[null,null,""]
[null,null,""]
[null,null,""]
[null,null,""]
[null,null,""]
[null,null,""]
[null,null,""]
[null,null,""]
[null,null,""]
[null,null,""]
[null,null,""]
[null,null,""]
[null,null,""]
[null,null,{"$f":"IF(A67=\"\",\"\",1)","v":""}]
[null,null,""]
[null,null,""]
[null,null,""]
[null,null,""]
[null,null,""]
[null,null,""]
[null,null,""]
[null,null,""]
[null,null,""]
[null,null,""]
[null,null,""]
[null,null,""]
[null,null,""]
[null,null,""]
[null,null,""]
[null,null,""]
[null,null,""]
[null,null,""]
[null,null,""]
[null,null,""]
[null,null,""]
[null,null,""]
[null,null,""]
[null,null,""]
[null,null,""]
[null,null,""]
[null,null,""]
[null,null,""]
[null,null,""]
[null,null,""]
[null,null,""]
[null,null,""]
[null,null,""]
[null,null,""]
[null,null,""]
[null,null,""]
[null,null,""]
[null,null,""]
[null,null,""]
[null,null,""]
[null,null,""]
[null,null,""]
[null,null,""]
[null,null,""]
[null,null,""]
[null,null,""]
[null,null,""]
[null,null,""]
[null,null,""]
[null,null,""]
[null,null,""]
[null,null,""]
[null,null,""]
[null,null,""]
[null,null,""]
[null,null,""]
[null,null,""]
[null,null,""]
[null,null,""]
[null,null,""]
[null,null,""]
[null,null,""]
[null,null,""]
[null,null,{"$f":"IF(A131=\"\",\"\",1)","v":""}]
[null,null,""]
[null,null,""]
[null,null,""]
[null,null,""]
[null,null,""]
[null,null,""]
[null,null,""]
[null,null,""]
[null,null,""]
[null,null,""]
[null,null,""]
[null,null,""]
[null,null,""]
[null,null,""]
[null,null,""]
[null,null,""]
[null,null,""]
[null,null,""]
[null,null,""]
[null,null,""]
[null,null,""]
[null,null,""]
[null,null,""]
[null,null,""]
[null,null,""]
[null,null,""]
[null,null,""]
[null,null,""]
[null,null,""]
[null,null,""]
[null,null,""]
[null,null,""]
[null,null,""]
[null,null,""]
[null,null,""]
[null,null,""]
[null,null,""]
[null,null,""]
[null,null,""]
[null,null,""]
[null,null,""]
[null,null,""]
[null,null,""]
[null,null,""]
[null,null,""]
[null,null,""]
[null,null,""]
[null,null,""]
[null,null,""]
[null,null,""]
[null,null,""]
[null,null,""]
[null,null,""]
[null,null,""]
[null,null,""]
[null,null,""]
[null,null,""]
[null,null,""]
[null,null,""]
[null,null,""]
[null,null,""]
[null,null,""]
[null,null,""]
[null,null,{"$f":"IF(A195=\"\",\"\",1)","v":""}]
[null,null,""]
[null,null,""]
[null,null,""]
[null,null,""]
[null,null,""]
[null,null,""]
[null,null,""]
[null,null,""]
[null,null,""]
[null,null,""]
[null,null,""]
[null,null,""]
[null,null,""]
[null,null,""]
[null,null,""]
[null,null,""]
[null,null,""]
[null,null,""]
[null,null,""]
[null,null,""]
[null,null,""]
[null,null,""]
[null,null,""]
[null,null,""]
[null,null,""]
[null,null,""]
[null,null,""]
[null,null,""]
[null,null,""]
[null,null,""]
[null,null,""]
[null,null,""]
[null,null,""]
[null,null,""]
[null,null,""]
[null,null,""]
[null,null,""]
[null,null,""]
[null,null,""]
[null,null,""]
[null,null,""]
[null,null,""]
[null,null,""]
[null,null,""]
[null,null,""]
[null,null,""]
[null,null,""]
[null,null,""]
[null,null,""]
[null,null,""]
[null,null,""]
[null,null,""]
[null,null,""]
[null,null,""]
[null,null,""]
[null,null,""]
[null,null,""]
[null,null,""]
[null,null,""]
[null,null,""]
[null,null,""]
[null,null,""]
[null,null,""]
[null,null,{"$f":"IF(A259=\"\",\"\",1)","v":""}]
[null,null,""]
[null,null,""]
[null,null,""]
[null,null,""]
[null,null,""]
[null,null,""]
[null,null,""]
[null,null,""]
[null,null,""]
[null,null,""]
[null,null,""]
[null,null,""]
[null,null,""]
[null,null,""]
[null,null,""]
[null,null,""]
[null,null,""]
[null,null,""]
[null,null,""]
[null,null,""]
[null,null,""]
[null,null,""]
[null,null,""]
[null,null,""]
[null,null,""]
[null,null,""]
[null,null,""]
[null,null,""]
[null,null,""]
[null,null,""]
[null,null,""]
[null,null,""]
[null,null,""]
[null,null,""]
[null,null,""]
[null,null,""]
[null,null,""]
[null,null,""]
[null,null,""]
[null,null,""]
[null,null,""]
[null,null,""]
[null,null,""]
[null,null,""]
[null,null,""]
[null,null,""]
[null,null,""]
[null,null,""]
[null,null,""]
[null,null,""]
[null,null,""]
[null,null,""]
[null,null,""]
[null,null,""]
[null,null,""]
[null,null,""]
[null,null,""]
[null,null,""]
[null,null,""]
[null,null,""]
[null,null,""]
[null,null,""]
[null,null,""]
[null,null,{"$f":"IF(A323=\"\",\"\",1)","v":""}]
[null,null,""]
[null,null,""]
[null,null,""]
[null,null,""]
[null,null,""]
[null,null,""]
[null,null,""]
[null,null,""]
[null,null,""]
[null,null,""]
[null,null,""]
[null,null,""]
[null,null,""]
[null,null,""]
[null,null,""]
[null,null,""]
[null,null,""]
[null,null,""]
[null,null,""]
[null,null,""]
[null,null,""]
[null,null,""]
[null,null,""]
[null,null,""]
[null,null,""]
[null,null,""]
[null,null,""]
[null,null,""]
[null,null,""]
[null,null,""]
[null,null,""]
[null,null,""]
[null,null,""]
[null,null,""]
[null,null,""]
[null,null,""]
[null,null,""]
[null,null,""]
[null,null,""]
[null,null,""]
[null,null,""]
[null,null,""]
[null,null,""]
[null,null,""]
[null,null,""]
[null,null,""]
[null,null,""]
[null,null,""]
[null,null,""]
[null,null,""]
[null,null,""]
[null,null,""]
[null,null,""]
[null,null,""]
[null,null,""]
[null,null,""]
[null,null,""]
[null,null,""]
[null,null,""]
[null,null,""]
[null,null,""]
[null,null,""]
[null,null,""]
[null,null,{"$f":"IF(A387=\"\",\"\",1)","v":""}]
[null,null,""]
[null,null,""]
[null,null,""]
[null,null,""]
[null,null,""]
[null,null,""]
[null,null,""]
[null,null,""]
[null,null,""]
[null,null,""]
[null,null,""]
[null,null,""]
[null,null,""]
[null,null,""]
[null,null,""]
[null,null,""]
[null,null,""]
[null,null,""]
[null,null,""]
[null,null,""]
[null,null,""]
[null,null,""]
[null,null,""]
[null,null,""]
[null,null,""]
[null,null,""]
[null,null,""]
[null,null,""]
[null,null,""]
[null,null,""]
[null,null,""]
[null,null,""]
[null,null,""]
[null,null,""]
[null,null,""]
[null,null,""]
[null,null,""]
[null,null,""]
[null,null,""]
[null,null,""]
[null,null,""]
[null,null,""]
[null,null,""]
[null,null,""]
[null,null,""]
[null,null,""]
[null,null,""]
[null,null,""]
[null,null,""]
[null,null,""]
[null,null,""]
[null,null,""]
[null,null,""]
[null,null,""]
[null,null,""]
[null,null,""]
[null,null,""]
[null,null,""]
[null,null,""]
[null,null,""]
[null,null,""]
[null,null,""]
[null,null,""]
[null,null,{"$f":"IF(A451=\"\",\"\",1)","v":""}]
[null,null,""]
[null,null,""]
[null,null,""]
[null,null,""]
[null,null,""]
[null,null,""]
[null,null,""]
[null,null,""]
[null,null,""]
[null,null,""]
[null,null,""]
[null,null,""]
[null,null,""]
[null,null,""]
[null,null,""]
[null,null,""]
[null,null,""]
[null,null,""]
[null,null,""]
[null,null,""]
[null,null,""]
[null,null,""]
[null,null,""]
[null,null,""]
[null,null,""]
[null,null,""]
[null,null,""]
[null,null,""]
[null,null,""]
[null,null,""]
[null,null,""]
[null,null,""]
[null,null,""]
[null,null,""]
[null,null,""]
[null,null,""]
[null,null,""]
[null,null,""]
[null,null,""]
[null,null,""]
[null,null,""]
[null,null,""]
[null,null,""]
[null,null,""]
[null,null,""]
[null,null,""]
[null,null,""]
[null,null,""]
[null,null,""]
[null,null,""]
[null,null,""]
[null,null,""]
[null,null,""]
[null,null,""]
[null,null,""]
[null,null,""]
[null,null,""]
[null,null,""]
[null,null,""]
[null,null,""]
[null,null,""]
[null,null,""]
[null,null,""]
[null,null,{"$f":"IF(A515=\"\",\"\",1)","v":""}]
[null,null,""]
[null,null,""]
[null,null,""]
[null,null,""]
[null,null,""]
[null,null,""]
[null,null,""]
[null,null,""]
[null,null,""]
[null,null,""]
[null,null,""]
[null,null,""]
[null,null,""]
[null,null,""]
[null,null,""]
[null,null,""]
[null,null,""]
[null,null,""]
[null,null,""]
[null,null,""]
[null,null,""]
[null,null,""]
[null,null,""]
[null,null,""]
[null,null,""]
[null,null,""]
[null,null,""]
[null,null,""]
[null,null,""]
[null,null,""]
[null,null,""]
[null,null,""]
[null,null,""]
[null,null,""]
[null,null,""]
[null,null,""]
[null,null,""]
[null,null,""]
[null,null,""]
[null,null,""]
[null,null,""]
[null,null,""]
[null,null,""]
[null,null,""]
[null,null,""]
[null,null,""]
[null,null,""]
[null,null,""]
[null,null,""]
[null,null,""]
[null,null,""]
[null,null,""]
[null,null,""]
[null,null,""]
[null,null,""]
[null,null,""]
[null,null,""]

{"sheet":"HTML","index":7,"n_rows":4,"n_cols":1,"rows_kept":4,"cut":false,"hidden":false,"merged":[]}
["<p><a href=\"#\" onclick=\"return !toggleObject('Club');\">PDF Entries by Club</a> (Team Managers should Print a Copy</p>\n\t<blockquote>\n\t\t<p id=\"Club\" style=\"display: none;\">\n\t\t\t<a href=\"BULSCA_System_Output_Sheets/Clubs_Sheets/Club_Entry_Sheet_University of Warwick.pdf\" target=\"_blank\">University of Warwick</a><br />\n\t\t\t<a href=\"BULSCA_System_Output_Sheets/Clubs_Sheets/Club_Entry_Sheet_University of Nottingham.pdf\" target=\"_blank\">University of Nottingham</a><br />\n\t\t\t<a href=\"BULSCA_System_Output_Sheets/Clubs_Sheets/Club_Entry_Sheet_University of Birmingham.pdf\" target=\"_blank\">University of Birmingham</a><br />\n\t\t\t<a href=\"BULSCA_System_Output_Sheets/Clubs_Sheets/Club_Entry_Sheet_Swansea Universities Lifesaving.pdf\" target=\"_blank\">Swansea Universities Lifesaving</a><br />\n\t\t\t<a href=\"BULSCA_System_Output_Sheets/Clubs_Sheets/Club_Entry_Sheet_University of Southampton.pdf\" target=\"_blank\">University of Southampton</a><br />\n\t\t\t<a href=\"BULSCA_System_Output_Sheets/Clubs_Sheets/Club_Entry_Sheet_University of Sheffield.pdf\" target=\"_blank\">University of Sheffield</a><br />\n\t\t\t<a href=\"BULSCA_System_Output_Sheets/Clubs_Sheets/Club_Entry_Sheet_Oxbridge-A combined Club of University of Oxford and University of Cambridge.pdf\" target=\"_blank\">Oxbridge-A combined Club of University of Oxford and University of Cambridge</a><br />\n\t\t\t<a href=\"BULSCA_System_Output_Sheets/Clubs_Sheets/Club_Entry_Sheet_Bristol University.pdf\" target=\"_blank\">Bristol University</a><br />\n\t\t\t<a href=\"BULSCA_System_Output_Sheets/Clubs_Sheets/Club_Entry_Sheet_Loughborough University.pdf\" target=\"_blank\">Loughborough University</a><br />\n\t\t\t<a href=\"BULSCA_System_Output_Sheets/Clubs_Sheets/Club_Entry_Sheet_University of Surrey.pdf\" target=\"_blank\">University of Surrey</a><br />\n\t\t\t<a href=\"BULSCA_System_Output_Sheets/Clubs_Sheets/Club_Entry_Sheet_Teeside University.pdf\" target=\"_blank\">Teeside University</a><br />\n\t\t\t<a href=\"BULSCA_System_Output_Sheets/Clubs_Sheets/Club_Entry_Sheet_University of Plymouth.pdf\" target=\"_blank\">University of Plymouth</a><br />\n\t\t\t<a href=\"BULSCA_System_Output_Sheets/Clubs_Sheets/Club_Entry_Sheet_University of Derby.pdf\" target=\"_blank\">University of Derby</a><br />\n\t\t\t<a href=\"BULSCA_System_Output_Sheets/Clubs_Sheets/Club_Entry_Sheet_Heanor.pdf\" target=\"_blank\">Heanor</a><br />\n\t\t\t<a href=\"BULSCA_System_Output_Sheets/Clubs_Sheets/Club_Entry_Sheet_Keynsham.pdf\" target=\"_blank\">Keynsham</a><br />\n\t\t\t<a href=\"BULSCA_System_Output_Sheets/Clubs_Sheets/Club_Entry_Sheet_UoB LSC.pdf\" target=\"_blank\">UoB LSC</a><br />\n\t\t\t<a href=\"BULSCA_System_Output_Sheets/Clubs_Sheets/Club_Entry_Sheet_UPSLC.pdf\" target=\"_blank\">UPSLC</a><br />\n\t\t\t<a href=\"BULSCA_System_Output_Sheets/Clubs_Sheets/Club_Entry_Sheet_Crawley Town.pdf\" target=\"_blank\">Crawley Town</a><br />\n\t\t\t<a href=\"BULSCA_System_Output_Sheets/Clubs_Sheets/Club_Entry_Sheet_Beeslack.pdf\" target=\"_blank\">Beeslack</a><br />\n\t\t\t<a href=\"BULSCA_System_Output_Sheets/Clubs_Sheets/Club_Entry_Sheet_University of Hertfordshire.pdf\" target=\"_blank\">University of Hertfordshire</a><br />\n\t\t</p>\n\t</blockquote>\n<p><a href=\"#\" onclick=\"!toggleObject('ind1');return !toggleObject('ind');\">PDF of entries by Indervidual</a>, useful for team managers to give out</p>\n\t<blockquote>\n\t\t<p id=\"ind\" style=\"display: none;\">\n\t\t<a href=\"#\" onclick=\"return !toggleObject('indclub');\">PDF of Entries Zip Files by Club List</a>\n\t\t\t<blockquote>\n\t\t\t<p id=\"indclub\" style=\"display: none;\">\n\t\t\t\t\t<a href=\"BULSCA_System_Output_Sheets\\Ind_Sheets\\club\\University of Warwick.zip\" target=\"_blank\">University of Warwick</a><br />\n\t\t\t\t\t<a href=\"BULSCA_System_Output_Sheets\\Ind_Sheets\\club\\University of Nottingham.zip\" target=\"_blank\">University of Nottingham</a><br />\n\t\t\t\t\t<a href=\"BULSCA_System_Output_Sheets\\Ind_Sheets\\club\\University of Birmingham.zip\" target=\"_blank\">University of Birmingham</a><br />\n\t\t\t\t\t<a href=\"BULSCA_System_Output_Sheets\\Ind_Sheets\\club\\Swansea Universities Lifesaving.zip\" target=\"_blank\">Swansea Universities Lifesaving</a><br />\n\t\t\t\t\t<a href=\"BULSCA_System_Output_Sheets\\Ind_Sheets\\club\\University of Southampton.zip\" target=\"_blank\">University of Southampton</a><br />\n\t\t\t\t\t<a href=\"BULSCA_System_Output_Sheets\\Ind_Sheets\\club\\University of Sheffield.zip\" target=\"_blank\">University of Sheffield</a><br />\n\t\t\t\t\t<a href=\"BULSCA_System_Output_Sheets\\Ind_Sheets\\club\\Oxbridge-A combined Club of University of Oxford and University of Cambridge.zip\" target=\"_blank\">Oxbridge-A combined Club of University of Oxford and University of Cambridge</a><br />\n\t\t\t\t\t<a href=\"BULSCA_System_Output_Sheets\\Ind_Sheets\\club\\Bristol University.zip\" target=\"_blank\">Bristol University</a><br />\n\t\t\t\t\t<a href=\"BULSCA_System_Output_Sheets\\Ind_Sheets\\club\\Loughborough University.zip\" target=\"_blank\">Loughborough University</a><br />\n\t\t\t\t\t<a href=\"BULSCA_System_Output_Sheets\\Ind_Sheets\\club\\University of Surrey.zip\" target=\"_blank\">University of Surrey</a><br />\n\t\t\t\t\t<a href=\"BULSCA_System_Output_Sheets\\Ind_Sheets\\club\\Teeside University.zip\" target=\"_blank\">Teeside University</a><br />\n\t\t\t\t\t<a href=\"BULSCA_System_Output_Sheets\\Ind_Sheets\\club\\University of Plymouth.zip\" target=\"_blank\">University of Plymouth</a><br />\n\t\t\t\t\t<a href=\"BULSCA_System_Output_Sheets\\Ind_Sheets\\club\\University of Derby.zip\" target=\"_blank\">University of Derby</a><br />\n\t\t\t\t\t<a href=\"BULSCA_System_Output_Sheets\\Ind_Sheets\\club\\Heanor.zip\" target=\"_blank\">Heanor</a><br />\n\t\t\t\t\t<a href=\"BULSCA_System_Output_Sheets\\Ind_Sheets\\club\\Keynsham.zip\" target=\"_blank\">Keynsham</a><br />\n\t\t\t\t\t<a href=\"BULSCA_System_Output_Sheets\\Ind_Sheets\\club\\UoB LSC.zip\" target=\"_blank\">UoB LSC</a><br />\n\t\t\t\t\t<a href=\"BULSCA_System_Output_Sheets\\Ind_Sheets\\club\\UPSLC.zip\" target=\"_blank\">UPSLC</a><br />\n\t\t\t\t\t<a href=\"BULSCA_System_Output_Sheets\\Ind_Sheets\\club\\Crawley Town.zip\" target=\"_blank\">Crawley Town</a><br />\n\t\t\t\t\t<a href=\"BULSCA_System_Output_Sheets\\Ind_Sheets\\club\\Beeslack.zip\" target=\"_blank\">Beeslack</a><br />\n\t\t\t\t\t<a href=\"BULSCA_System_Output_Sheets\\Ind_Sheets\\club\\University of Hertfordshire.zip\" target=\"_blank\">University of Hertfordshire</a><br />\n\t\t</p>\n\t\t</blockquote>\n\t\t</p>\n\t\t</blockquote>\n\t<blockquote>\n\t\t<p id=\"ind1\" style=\"display: none;\">\n\t\t<a href=\"#\" onclick=\"!toggleObject('indAlphaA');!toggleObject('indAlphaD');!toggleObject('indAlphaI');!toggleObject('indAlphaM');!toggleObject('indAlphaP');return !toggleObject('indAlphaT');\">Alphabetically Grouped</a>\n\t\t\t<blockquote>\n\t\t\t<p id=\"indAlphaA\" style=\"display: none;\">\n\n\n<a href=\"#\" onclick=\"return !toggleObject('indAlpha_A_C');\">A to C</a>\n\t\t\t\t<blockquote>\n\t\t\t\t<p id=\"indAlpha_A_C\" style=\"display: none;\">\n\t\t\t<a href=\"BULSCA_System_Output_Sheets\\Ind_Sheets\\Alpha\\Aldgridge_Sophie_University of Nottingham_3537.pdf\".pdf\" target=\"_blank\">Aldgridge,Sophie from University of Nottingham</a><br />\n\t\t\t<a href=\"BULSCA_System_Output_Sheets\\Ind_Sheets\\Alpha\\Alexander_Timothy_University of Warwick_3524.pdf\".pdf\" target=\"_blank\">Alexander,Timothy from University of Warwick</a><br />\n\t\t\t<a href=\"BULSCA_System_Output_Sheets\\Ind_Sheets\\Alpha\\Anderson_Robert_University of Southampton_3478.pdf\".pdf\" target=\"_blank\">Anderson,Robert from University of Southampton</a><br />\n\t\t\t<a href=\"BULSCA_System_Output_Sheets\\Ind_Sheets\\Alpha\\Anderson_Shaunna_Beeslack_3633.pdf\".pdf\" target=\"_blank\">Anderson,Shaunna from Beeslack</a><br />\n\t\t\t<a href=\"BULSCA_System_Output_Sheets\\Ind_Sheets\\Alpha\\Askew_Abi_UoB LSC_3613.pdf\".pdf\" target=\"_blank\">Askew,Abi from UoB LSC</a><br />\n\t\t\t<a href=\"BULSCA_System_Output_Sheets\\Ind_Sheets\\Alpha\\Atton_Howard_UPSLC_3625.pdf\".pdf\" target=\"_blank\">Atton,Howard from UPSLC</a><br />\n\t\t\t<a href=\"BULSCA_System_Output_Sheets\\Ind_Sheets\\Alpha\\Bacon_Laura_University of Nottingham_3535.pdf\".pdf\" target=\"_blank\">Bacon,Laura from University of Nottingham</a><br />\n\t\t\t<a href=\"BULSCA_System_Output_Sheets\\Ind_Sheets\\Alpha\\Baldwin_Catherine_Bristol University_3547.pdf\".pdf\" target=\"_blank\">Baldwin,Catherine from Bristol University</a><br />\n\t\t\t<a href=\"BULSCA_System_Output_Sheets\\Ind_Sheets\\Alpha\\Bampton_Katie_Swansea Universities Lifesaving_3474.pdf\".pdf\" target=\"_blank\">Bampton,Katie from Swansea Universities Lifesaving</a><br />\n\t\t\t<a href=\"BULSCA_System_Output_Sheets\\Ind_Sheets\\Alpha\\Bedford_Ellesha_Bristol University_3550.pdf\".pdf\" target=\"_blank\">Bedford,Ellesha from Bristol University</a><br />\n\t\t\t<a href=\"BULSCA_System_Output_Sheets\\Ind_Sheets\\Alpha\\Bithell_Emma_University of Warwick_3514.pdf\".pdf\" target=\"_blank\">Bithell,Emma from University of Warwick</a><br />\n\t\t\t<a href=\"BULSCA_System_Output_Sheets\\Ind_Sheets\\Alpha\\Blake_Lauren_Swansea Universities Lifesaving_3473.pdf\".pdf\" target=\"_blank\">Blake,Lauren from Swansea Universities Lifesaving</a><br />\n\t\t\t<a href=\"BULSCA_System_Output_Sheets\\Ind_Sheets\\Alpha\\Booth_Lucy_University of Warwick_3522.pdf\".pdf\" target=\"_blank\">Booth,Lucy from University of Warwick</a><br />\n\t\t\t<a href=\"BULSCA_System_Output_Sheets\\Ind_Sheets\\Alpha\\Bowen_William _University of Plymouth_3595.pdf\".pdf\" target=\"_blank\">Bowen,William  from University of Plymouth</a><br />\n\t\t\t<a href=\"BULSCA_System_Output_Sheets\\Ind_Sheets\\Alpha\\Bowskill_Tom_Swansea Universities Lifesaving_3465.pdf\".pdf\" target=\"_blank\">Bowskill,Tom from Swansea Universities Lifesaving</a><br />\n\t\t\t<a href=\"BULSCA_System_Output_Sheets\\Ind_Sheets\\Alpha\\Briggs_Callum_Heanor_3603.pdf\".pdf\" target=\"_blank\">Briggs,Callum from Heanor</a><br />\n\t\t\t<a href=\"BULSCA_System_Output_Sheets\\Ind_Sheets\\Alpha\\Brown_Alice_UoB LSC_3612.pdf\".pdf\" target=\"_blank\">Brown,Alice from UoB LSC</a><br />\n\t\t\t<a href=\"BULSCA_System_Output_Sheets\\Ind_Sheets\\Alpha\\Brown_Christopher_Bristol University_3555.pdf\".pdf\" target=\"_blank\">Brown,Christopher from Bristol University</a><br />\n\t\t\t<a href=\"BULSCA_System_Output_Sheets\\Ind_Sheets\\Alpha\\Brown_Niamh_University of Plymouth_3606.pdf\".pdf\" target=\"_blank\">Brown,Niamh from University of Plymouth</a><br />\n\t\t\t<a href=\"BULSCA_System_Output_Sheets\\Ind_Sheets\\Alpha\\Burridge_Lowri_University of Southampton_3486.pdf\".pdf\" target=\"_blank\">Burridge,Lowri from University of Southampton</a><br />\n\t\t\t<a href=\"BULSCA_System_Output_Sheets\\Ind_Sheets\\Alpha\\Butler_Dave_Crawley Town_3629.pdf\".pdf\" target=\"_blank\">Butler,Dave from Crawley Town</a><br />\n\t\t\t<a href=\"BULSCA_System_Output_Sheets\\Ind_Sheets\\Alpha\\Carroll_Lauren _Oxbridge-A combined Club of University of Oxford and University of Cambridge_3526.pdf\".pdf\" target=\"_blank\">Carroll,Lauren  from Oxbridge-A combined Club of University of Oxford and University of Cambridge</a><br />\n\t\t\t<a href=\"BULSCA_System_Output_Sheets\\Ind_Sheets\\Alpha\\Carter_Jennifer_Bristol University_3549.pdf\".pdf\" target=\"_blank\">Carter,Jennifer from Bristol University</a><br />\n\t\t\t<a href=\"BULSCA_System_Output_Sheets\\Ind_Sheets\\Alpha\\Casey_Siobhan_Loughborough University_3566.pdf\".pdf\" target=\"_blank\">Casey,Siobhan from Loughborough University</a><br />\n\t\t\t<a href=\"BULSCA_System_Output_Sheets\\Ind_Sheets\\Alpha\\Cheung_King Yee_University of Sheffield_3506.pdf\".pdf\" target=\"_blank\">Cheung,King Yee from University of Sheffield</a><br />\n\t\t\t<a href=\"BULSCA_System_Output_Sheets\\Ind_Sheets\\Alpha\\Christophersen_Ben_Swansea Universities Lifesaving_3467.pdf\".pdf\" target=\"_blank\">Christophersen,Ben from Swansea Universities Lifesaving</a><br />\n\t\t\t<a href=\"BULSCA_System_Output_Sheets\\Ind_Sheets\\Alpha\\Clark_Sellene_UoB LSC_3610.pdf\".pdf\" target=\"_blank\">Clark,Sellene from UoB LSC</a><br />\n\t\t\t<a href=\"BULSCA_System_Output_Sheets\\Ind_Sheets\\Alpha\\Cokyasar_Ebru_University of Birmingham_3455.pdf\".pdf\" target=\"_blank\">Cokyasar,Ebru from University of Birmingham</a><br />\n\t\t\t<a href=\"BULSCA_System_Output_Sheets\\Ind_Sheets\\Alpha\\Collard_Alexander_University of Nottingham_3532.pdf\".pdf\" target=\"_blank\">Collard,Alexander from University of Nottingham</a><br />\n\t\t\t<a href=\"BULSCA_System_Output_Sheets\\Ind_Sheets\\Alpha\\Conley_James_University of Plymouth_3591.pdf\".pdf\" target=\"_blank\">Conley,James from University of Plymouth</a><br />\n\t\t\t<a href=\"BULSCA_System_Output_Sheets\\Ind_Sheets\\Alpha\\Connelly_Zoe_University of Southampton_3487.pdf\".pdf\" target=\"_blank\">Connelly,Zoe from University of Southampton</a><br />\n\t\t\t<a href=\"BULSCA_System_Output_Sheets\\Ind_Sheets\\Alpha\\Crowther_Peter_UPSLC_3624.pdf\".pdf\" target=\"_blank\">Crowther,Peter from UPSLC</a><br />\n\t\t\t<a href=\"BULSCA_System_Output_Sheets\\Ind_Sheets\\Alpha\\Curry_Milly_UPSLC_3616.pdf\".pdf\" target=\"_blank\">Curry,Milly from UPSLC</a><br />\n\t\t</p>\n\t\t</blockquote>\n\t\t</p>\n\t\t</blockquote>"]
["\n\n\n\t\t\t\t<blockquote>\n\t\t\t<p id=\"indAlphaD\" style=\"display: none;\">\n\n\n<a href=\"#\" onclick=\"return !toggleObject('indAlpha_D_H');\">D to H</a>\n\t\t\t\t<blockquote>\n\t\t\t\t<p id=\"indAlpha_D_H\" style=\"display: none;\">\n\t\t\t<a href=\"BULSCA_System_Output_Sheets\\Ind_Sheets\\Alpha\\Dubs_Evie S_UPSLC_3619.pdf\".pdf\" target=\"_blank\">Dubs,Evie S from UPSLC</a><br />\n\t\t\t<a href=\"BULSCA_System_Output_Sheets\\Ind_Sheets\\Alpha\\Ducker_Mike_University of Warwick_3525.pdf\".pdf\" target=\"_blank\">Ducker,Mike from University of Warwick</a><br />\n\t\t\t<a href=\"BULSCA_System_Output_Sheets\\Ind_Sheets\\Alpha\\Elms_Becky_Swansea Universities Lifesaving_3472.pdf\".pdf\" target=\"_blank\">Elms,Becky from Swansea Universities Lifesaving</a><br />\n\t\t\t<a href=\"BULSCA_System_Output_Sheets\\Ind_Sheets\\Alpha\\Emberton_Will_University of Birmingham_3497.pdf\".pdf\" target=\"_blank\">Emberton,Will from University of Birmingham</a><br />\n\t\t\t<a href=\"BULSCA_System_Output_Sheets\\Ind_Sheets\\Alpha\\Evans_Richard_University of Southampton_3489.pdf\".pdf\" target=\"_blank\">Evans,Richard from University of Southampton</a><br />\n\t\t\t<a href=\"BULSCA_System_Output_Sheets\\Ind_Sheets\\Alpha\\Ewers_Rebecca_University of Warwick_3511.pdf\".pdf\" target=\"_blank\">Ewers,Rebecca from University of Warwick</a><br />\n\t\t\t<a href=\"BULSCA_System_Output_Sheets\\Ind_Sheets\\Alpha\\Falconer_Sarah_University of Sheffield_3504.pdf\".pdf\" target=\"_blank\">Falconer,Sarah from University of Sheffield</a><br />\n\t\t\t<a href=\"BULSCA_System_Output_Sheets\\Ind_Sheets\\Alpha\\Fielding_David_Keynsham_3604.pdf\".pdf\" target=\"_blank\">Fielding,David from Keynsham</a><br />\n\t\t\t<a href=\"BULSCA_System_Output_Sheets\\Ind_Sheets\\Alpha\\Forster_Robert_Loughborough University_3561.pdf\".pdf\" target=\"_blank\">Forster,Robert from Loughborough University</a><br />\n\t\t\t<a href=\"BULSCA_System_Output_Sheets\\Ind_Sheets\\Alpha\\Fotherby_James_Bristol University_3552.pdf\".pdf\" target=\"_blank\">Fotherby,James from Bristol University</a><br />\n\t\t\t<a href=\"BULSCA_System_Output_Sheets\\Ind_Sheets\\Alpha\\Gladders_Andy_Loughborough University_3631.pdf\".pdf\" target=\"_blank\">Gladders,Andy from Loughborough University</a><br />\n\t\t\t<a href=\"BULSCA_System_Output_Sheets\\Ind_Sheets\\Alpha\\Goodwin_Emily_Loughborough University_3562.pdf\".pdf\" target=\"_blank\">Goodwin,Emily from Loughborough University</a><br />\n\t\t\t<a href=\"BULSCA_System_Output_Sheets\\Ind_Sheets\\Alpha\\Gunn_Hannah_University of Southampton_3481.pdf\".pdf\" target=\"_blank\">Gunn,Hannah from University of Southampton</a><br />\n\t\t\t<a href=\"BULSCA_System_Output_Sheets\\Ind_Sheets\\Alpha\\Hague_Bradley_University of Nottingham_3460.pdf\".pdf\" target=\"_blank\">Hague,Bradley from University of Nottingham</a><br />\n\t\t\t<a href=\"BULSCA_System_Output_Sheets\\Ind_Sheets\\Alpha\\Haigh_Chloe_Swansea Universities Lifesaving_3470.pdf\".pdf\" target=\"_blank\">Haigh,Chloe from Swansea Universities Lifesaving</a><br />\n\t\t\t<a href=\"BULSCA_System_Output_Sheets\\Ind_Sheets\\Alpha\\Hale_Joshua_Swansea Universities Lifesaving_3464.pdf\".pdf\" target=\"_blank\">Hale,Joshua from Swansea Universities Lifesaving</a><br />\n\t\t\t<a href=\"BULSCA_System_Output_Sheets\\Ind_Sheets\\Alpha\\Hall_Benjamin_University of Plymouth_3593.pdf\".pdf\" target=\"_blank\">Hall,Benjamin from University of Plymouth</a><br />\n\t\t\t<a href=\"BULSCA_System_Output_Sheets\\Ind_Sheets\\Alpha\\Hammersley_Samuel_University of Sheffield_3500.pdf\".pdf\" target=\"_blank\">Hammersley,Samuel from University of Sheffield</a><br />\n\t\t\t<a href=\"BULSCA_System_Output_Sheets\\Ind_Sheets\\Alpha\\Hancock_Jonathan_University of Sheffield_3509.pdf\".pdf\" target=\"_blank\">Hancock,Jonathan from University of Sheffield</a><br />\n\t\t\t<a href=\"BULSCA_System_Output_Sheets\\Ind_Sheets\\Alpha\\Hawken_Sophie_Swansea Universities Lifesaving_3476.pdf\".pdf\" target=\"_blank\">Hawken,Sophie from Swansea Universities Lifesaving</a><br />\n\t\t\t<a href=\"BULSCA_System_Output_Sheets\\Ind_Sheets\\Alpha\\Herring_Louisa_Loughborough University_3563.pdf\".pdf\" target=\"_blank\">Herring,Louisa from Loughborough University</a><br />\n\t\t\t<a href=\"BULSCA_System_Output_Sheets\\Ind_Sheets\\Alpha\\Hildyard _Emma _Oxbridge-A combined Club of University of Oxford and University of Cambridge_3529.pdf\".pdf\" target=\"_blank\">Hildyard ,Emma  from Oxbridge-A combined Club of University of Oxford and University of Cambridge</a><br />\n\t\t\t<a href=\"BULSCA_System_Output_Sheets\\Ind_Sheets\\Alpha\\Holloway_Tasmijn_UoB LSC_3615.pdf\".pdf\" target=\"_blank\">Holloway,Tasmijn from UoB LSC</a><br />\n\t\t\t<a href=\"BULSCA_System_Output_Sheets\\Ind_Sheets\\Alpha\\Huntingford_Victoria_University of Birmingham_3475.pdf\".pdf\" target=\"_blank\">Huntingford,Victoria from University of Birmingham</a><br />\n\t\t</p>\n\t\t</blockquote>\n\t\t</p>\n\t\t</blockquote>\n\n\n\t\t\t\t<blockquote>\n\t\t\t<p id=\"indAlphaI\" style=\"display: none;\">\n\n\n<a href=\"#\" onclick=\"return !toggleObject('indAlpha_I_L');\">I to L</a>\n\t\t\t\t<blockquote>\n\t\t\t\t<p id=\"indAlpha_I_L\" style=\"display: none;\">\n\t\t\t<a href=\"BULSCA_System_Output_Sheets\\Ind_Sheets\\Alpha\\Ingham_Conor_Swansea Universities Lifesaving_3463.pdf\".pdf\" target=\"_blank\">Ingham,Conor from Swansea Universities Lifesaving</a><br />\n\t\t\t<a href=\"BULSCA_System_Output_Sheets\\Ind_Sheets\\Alpha\\Jacklin_Michael _Oxbridge-A combined Club of University of Oxford and University of Cambridge_3528.pdf\".pdf\" target=\"_blank\">Jacklin,Michael  from Oxbridge-A combined Club of University of Oxford and University of Cambridge</a><br />\n\t\t\t<a href=\"BULSCA_System_Output_Sheets\\Ind_Sheets\\Alpha\\Jagger_Richard_Crawley Town_3630.pdf\".pdf\" target=\"_blank\">Jagger,Richard from Crawley Town</a><br />\n\t\t\t<a href=\"BULSCA_System_Output_Sheets\\Ind_Sheets\\Alpha\\Jameson_Imogen_University of Sheffield_3503.pdf\".pdf\" target=\"_blank\">Jameson,Imogen from University of Sheffield</a><br />\n\t\t\t<a href=\"BULSCA_System_Output_Sheets\\Ind_Sheets\\Alpha\\Joel_Elsa_University of Warwick_3521.pdf\".pdf\" target=\"_blank\">Joel,Elsa from University of Warwick</a><br />\n\t\t\t<a href=\"BULSCA_System_Output_Sheets\\Ind_Sheets\\Alpha\\Jones_Isabelle_UPSLC_3621.pdf\".pdf\" target=\"_blank\">Jones,Isabelle from UPSLC</a><br />\n\t\t\t<a href=\"BULSCA_System_Output_Sheets\\Ind_Sheets\\Alpha\\Jordan_Claire_UPSLC_3617.pdf\".pdf\" target=\"_blank\">Jordan,Claire from UPSLC</a><br />\n\t\t\t<a href=\"BULSCA_System_Output_Sheets\\Ind_Sheets\\Alpha\\Kane_Andrew_Teeside University_3577.pdf\".pdf\" target=\"_blank\">Kane,Andrew from Teeside University</a><br />\n\t\t\t<a href=\"BULSCA_System_Output_Sheets\\Ind_Sheets\\Alpha\\Khoo_Daniel_University of Southampton_3498.pdf\".pdf\" target=\"_blank\">Khoo,Daniel from University of Southampton</a><br />\n\t\t\t<a href=\"BULSCA_System_Output_Sheets\\Ind_Sheets\\Alpha\\Kirkham_Michael_University of Sheffield_3507.pdf\".pdf\" target=\"_blank\">Kirkham,Michael from University of Sheffield</a><br />\n\t\t\t<a href=\"BULSCA_System_Output_Sheets\\Ind_Sheets\\Alpha\\Lang_Ben_Bristol University_3553.pdf\".pdf\" target=\"_blank\">Lang,Ben from Bristol University</a><br />\n\t\t\t<a href=\"BULSCA_System_Output_Sheets\\Ind_Sheets\\Alpha\\Last_Todd_University of Plymouth_3594.pdf\".pdf\" target=\"_blank\">Last,Todd from University of Plymouth</a><br />\n\t\t\t<a href=\"BULSCA_System_Output_Sheets\\Ind_Sheets\\Alpha\\Lawman_Samuel_University of Sheffield_3510.pdf\".pdf\" target=\"_blank\">Lawman,Samuel from University of Sheffield</a><br />\n\t\t\t<a href=\"BULSCA_System_Output_Sheets\\Ind_Sheets\\Alpha\\Leggott_Daniel_University of Surrey_3576.pdf\".pdf\" target=\"_blank\">Leggott,Daniel from University of Surrey</a><br />\n\t\t\t<a href=\"BULSCA_System_Output_Sheets\\Ind_Sheets\\Alpha\\Longshaw_Evie_University of Birmingham_3450.pdf\".pdf\" target=\"_blank\">Longshaw,Evie from University of Birmingham</a><br />\n\t\t\t<a href=\"BULSCA_System_Output_Sheets\\Ind_Sheets\\Alpha\\Lord_Hannah_UoB LSC_3614.pdf\".pdf\" target=\"_blank\">Lord,Hannah from UoB LSC</a><br />\n\t\t</p>\n\t\t</blockquote>\n\t\t</p>\n\t\t</blockquote>\n\n\n\t\t\t\t<blockquote>\n\t\t\t<p id=\"indAlphaM\" style=\"display: none;\">\n\n\n<a href=\"#\" onclick=\"return !toggleObject('indAlpha_M_O');\">M to O</a>\n\t\t\t\t<blockquote>\n\t\t\t\t<p id=\"indAlpha_M_O\" style=\"display: none;\">\n\t\t\t<a href=\"BULSCA_System_Output_Sheets\\Ind_Sheets\\Alpha\\Mackie_Patrick_University of Birmingham_3452.pdf\".pdf\" target=\"_blank\">Mackie,Patrick from University of Birmingham</a><br />\n\t\t\t<a href=\"BULSCA_System_Output_Sheets\\Ind_Sheets\\Alpha\\Madhar_Joshua_University of Nottingham_3538.pdf\".pdf\" target=\"_blank\">Madhar,Joshua from University of Nottingham</a><br />\n\t\t\t<a href=\"BULSCA_System_Output_Sheets\\Ind_Sheets\\Alpha\\Malhi_Amrit_University of Warwick_3518.pdf\".pdf\" target=\"_blank\">Malhi,Amrit from University of Warwick</a><br />\n\t\t\t<a href=\"BULSCA_System_Output_Sheets\\Ind_Sheets\\Alpha\\Malorey-Vibert_Cara _University of Plymouth_3578.pdf\".pdf\" target=\"_blank\">Malorey-Vibert,Cara  from University of Plymouth</a><br />\n\t\t\t<a href=\"BULSCA_System_Output_Sheets\\Ind_Sheets\\Alpha\\Marshall_Lucy_Bristol University_3551.pdf\".pdf\" target=\"_blank\">Marshall,Lucy from Bristol University</a><br />\n\t\t\t<a href=\"BULSCA_System_Output_Sheets\\Ind_Sheets\\Alpha\\Mccabe_Liam_UPSLC_3623.pdf\".pdf\" target=\"_blank\">Mccabe,Liam from UPSLC</a><br />\n\t\t\t<a href=\"BULSCA_System_Output_Sheets\\Ind_Sheets\\Alpha\\McCorquodale_Mark_University of Nottingham_3539.pdf\".pdf\" target=\"_blank\">McCorquodale,Mark from University of Nottingham</a><br />\n\t\t\t<a href=\"BULSCA_System_Output_Sheets\\Ind_Sheets\\Alpha\\Mckenna_Josh_Swansea Universities Lifesaving_3468.pdf\".pdf\" target=\"_blank\">Mckenna,Josh from Swansea Universities Lifesaving</a><br />\n\t\t\t<a href=\"BULSCA_System_Output_Sheets\\Ind_Sheets\\Alpha\\Miles_Chris_Loughborough University_3559.pdf\".pdf\" target=\"_blank\">Miles,Chris from Loughborough University</a><br />\n\t\t\t<a href=\"BULSCA_System_Output_Sheets\\Ind_Sheets\\Alpha\\Miller_Jessica_Loughborough University_3565.pdf\".pdf\" target=\"_blank\">Miller,Jessica from Loughborough University</a><br />\n\t\t\t<a href=\"BULSCA_System_Output_Sheets\\Ind_Sheets\\Alpha\\Morley_Andrew_Loughborough University_3574.pdf\".pdf\" target=\"_blank\">Morley,Andrew from Loughborough University</a><br />\n\t\t\t<a href=\"BULSCA_System_Output_Sheets\\Ind_Sheets\\Alpha\\Morris_Helen_University of Sheffield_3501.pdf\".pdf\" target=\"_blank\">Morris,Helen from University of Sheffield</a><br />\n\t\t\t<a href=\"BULSCA_System_Output_Sheets\\Ind_Sheets\\Alpha\\Mullet_Lucy_University of Plymouth_3607.pdf\".pdf\" target=\"_blank\">Mullet,Lucy from University of Plymouth</a><br />\n\t\t\t<a href=\"BULSCA_System_Output_Sheets\\Ind_Sheets\\Alpha\\Newman_Josie _Oxbridge-A combined Club of University of Oxford and University of Cambridge_3530.pdf\".pdf\" target=\"_blank\">Newman,Josie  from Oxbridge-A combined Club of University of Oxford and University of Cambridge</a><br />\n\t\t\t<a href=\"BULSCA_System_Output_Sheets\\Ind_Sheets\\Alpha\\Oakey_Andrew_University of Southampton_3485.pdf\".pdf\" target=\"_blank\">Oakey,Andrew from University of Southampton</a><br />\n\t\t\t<a href=\"BULSCA_System_Output_Sheets\\Ind_Sheets\\Alpha\\O'Donnell_Alec_UPSLC_3626.pdf\".pdf\" target=\"_blank\">O'Donnell,Alec from UPSLC</a><br />\n\t\t\t<a href=\"BULSCA_System_Output_Sheets\\Ind_Sheets\\Alpha\\Oliver_Amber_UPSLC_3618.pdf\".pdf\" target=\"_blank\">Oliver,Amber from UPSLC</a><br />\n\t\t</p>\n\t\t</blockquote>\n\t\t</p>\n\t\t</blockquote>"]
["\n\n\n\t\t\t\t<blockquote>\n\t\t\t<p id=\"indAlphaP\" style=\"display: none;\">\n\n\n<a href=\"#\" onclick=\"return !toggleObject('indAlpha_P_S');\">P to S</a>\n\t\t\t\t<blockquote>\n\t\t\t\t<p id=\"indAlpha_P_S\" style=\"display: none;\">\n\t\t\t<a href=\"BULSCA_System_Output_Sheets\\Ind_Sheets\\Alpha\\Panagi_Stephanie_Bristol University_3546.pdf\".pdf\" target=\"_blank\">Panagi,Stephanie from Bristol University</a><br />\n\t\t\t<a href=\"BULSCA_System_Output_Sheets\\Ind_Sheets\\Alpha\\Parslow_Alice_University of Plymouth_3581.pdf\".pdf\" target=\"_blank\">Parslow,Alice from University of Plymouth</a><br />\n\t\t\t<a href=\"BULSCA_System_Output_Sheets\\Ind_Sheets\\Alpha\\Pau_Alfredo_University of Birmingham_3453.pdf\".pdf\" target=\"_blank\">Pau,Alfredo from University of Birmingham</a><br />\n\t\t\t<a href=\"BULSCA_System_Output_Sheets\\Ind_Sheets\\Alpha\\Petta_Luisa_University of Southampton_3545.pdf\".pdf\" target=\"_blank\">Petta,Luisa from University of Southampton</a><br />\n\t\t\t<a href=\"BULSCA_System_Output_Sheets\\Ind_Sheets\\Alpha\\Pollard_India_University of Warwick_3444.pdf\".pdf\" target=\"_blank\">Pollard,India from University of Warwick</a><br />\n\t\t\t<a href=\"BULSCA_System_Output_Sheets\\Ind_Sheets\\Alpha\\Potter_Shannon_University of Sheffield_3505.pdf\".pdf\" target=\"_blank\">Potter,Shannon from University of Sheffield</a><br />\n\t\t\t<a href=\"BULSCA_System_Output_Sheets\\Ind_Sheets\\Alpha\\Power_Jake_Loughborough University_3558.pdf\".pdf\" target=\"_blank\">Power,Jake from Loughborough University</a><br />\n\t\t\t<a href=\"BULSCA_System_Output_Sheets\\Ind_Sheets\\Alpha\\Priddis_Sophie_Bristol University_3548.pdf\".pdf\" target=\"_blank\">Priddis,Sophie from Bristol University</a><br />\n\t\t\t<a href=\"BULSCA_System_Output_Sheets\\Ind_Sheets\\Alpha\\Prime_Benjamin_University of Warwick_3516.pdf\".pdf\" target=\"_blank\">Prime,Benjamin from University of Warwick</a><br />\n\t\t\t<a href=\"BULSCA_System_Output_Sheets\\Ind_Sheets\\Alpha\\Proctor_Bryony_University of Nottingham_3534.pdf\".pdf\" target=\"_blank\">Proctor,Bryony from University of Nottingham</a><br />\n\t\t\t<a href=\"BULSCA_System_Output_Sheets\\Ind_Sheets\\Alpha\\Redhead_Bethany_Swansea Universities Lifesaving_3471.pdf\".pdf\" target=\"_blank\">Redhead,Bethany from Swansea Universities Lifesaving</a><br />\n\t\t\t<a href=\"BULSCA_System_Output_Sheets\\Ind_Sheets\\Alpha\\Reed_Elise _University of Plymouth_3580.pdf\".pdf\" target=\"_blank\">Reed,Elise  from University of Plymouth</a><br />\n\t\t\t<a href=\"BULSCA_System_Output_Sheets\\Ind_Sheets\\Alpha\\Rees_Anwen_UoB LSC_3611.pdf\".pdf\" target=\"_blank\">Rees,Anwen from UoB LSC</a><br />\n\t\t\t<a href=\"BULSCA_System_Output_Sheets\\Ind_Sheets\\Alpha\\Richards_Jessica_University of Birmingham_3462.pdf\".pdf\" target=\"_blank\">Richards,Jessica from University of Birmingham</a><br />\n\t\t\t<a href=\"BULSCA_System_Output_Sheets\\Ind_Sheets\\Alpha\\Richards_Matthew_University of Plymouth_3592.pdf\".pdf\" target=\"_blank\">Richards,Matthew from University of Plymouth</a><br />\n\t\t\t<a href=\"BULSCA_System_Output_Sheets\\Ind_Sheets\\Alpha\\Richardson_Heather_Loughborough University_3567.pdf\".pdf\" target=\"_blank\">Richardson,Heather from Loughborough University</a><br />\n\t\t\t<a href=\"BULSCA_System_Output_Sheets\\Ind_Sheets\\Alpha\\Ridsdale_Adam_Bristol University_3571.pdf\".pdf\" target=\"_blank\">Ridsdale,Adam from Bristol University</a><br />\n\t\t\t<a href=\"BULSCA_System_Output_Sheets\\Ind_Sheets\\Alpha\\Rodgers_Kassia_University of Nottingham_3536.pdf\".pdf\" target=\"_blank\">Rodgers,Kassia from University of Nottingham</a><br />\n\t\t\t<a href=\"BULSCA_System_Output_Sheets\\Ind_Sheets\\Alpha\\Ryde_Benjamin_University of Sheffield_3515.pdf\".pdf\" target=\"_blank\">Ryde,Benjamin from University of Sheffield</a><br />\n\t\t\t<a href=\"BULSCA_System_Output_Sheets\\Ind_Sheets\\Alpha\\Scoones_Andrew_University of Warwick_3523.pdf\".pdf\" target=\"_blank\">Scoones,Andrew from University of Warwick</a><br />\n\t\t\t<a href=\"BULSCA_System_Output_Sheets\\Ind_Sheets\\Alpha\\Sharp_Tom_Swansea Universities Lifesaving_3466.pdf\".pdf\" target=\"_blank\">Sharp,Tom from Swansea Universities Lifesaving</a><br />\n\t\t\t<a href=\"BULSCA_System_Output_Sheets\\Ind_Sheets\\Alpha\\Shaw_Hannah_University of Sheffield_3517.pdf\".pdf\" target=\"_blank\">Shaw,Hannah from University of Sheffield</a><br />\n\t\t\t<a href=\"BULSCA_System_Output_Sheets\\Ind_Sheets\\Alpha\\Shone_Jamie_Loughborough University_3556.pdf\".pdf\" target=\"_blank\">Shone,Jamie from Loughborough University</a><br />\n\t\t\t<a href=\"BULSCA_System_Output_Sheets\\Ind_Sheets\\Alpha\\Sidaoui_Giovanna_University of Southampton_3483.pdf\".pdf\" target=\"_blank\">Sidaoui,Giovanna from University of Southampton</a><br />\n\t\t\t<a href=\"BULSCA_System_Output_Sheets\\Ind_Sheets\\Alpha\\Smallwood_Hannah_University of Nottingham_3445.pdf\".pdf\" target=\"_blank\">Smallwood,Hannah from University of Nottingham</a><br />\n\t\t\t<a href=\"BULSCA_System_Output_Sheets\\Ind_Sheets\\Alpha\\Smith_Emma_University of Birmingham_3458.pdf\".pdf\" target=\"_blank\">Smith,Emma from University of Birmingham</a><br />\n\t\t\t<a href=\"BULSCA_System_Output_Sheets\\Ind_Sheets\\Alpha\\Spode_Sam_UPSLC_3627.pdf\".pdf\" target=\"_blank\">Spode,Sam from UPSLC</a><br />\n\t\t\t<a href=\"BULSCA_System_Output_Sheets\\Ind_Sheets\\Alpha\\Stalion_Jayne_University of Derby_3602.pdf\".pdf\" target=\"_blank\">Stalion,Jayne from University of Derby</a><br />\n\t\t\t<a href=\"BULSCA_System_Output_Sheets\\Ind_Sheets\\Alpha\\Stevens_Zac_UPSLC_3622.pdf\".pdf\" target=\"_blank\">Stevens,Zac from UPSLC</a><br />\n\t\t\t<a href=\"BULSCA_System_Output_Sheets\\Ind_Sheets\\Alpha\\Stevenson_Niall_University of Sheffield_3508.pdf\".pdf\" target=\"_blank\">Stevenson,Niall from University of Sheffield</a><br />\n\t\t\t<a href=\"BULSCA_System_Output_Sheets\\Ind_Sheets\\Alpha\\Stroyde_Dale_University of Birmingham_3454.pdf\".pdf\" target=\"_blank\">Stroyde,Dale from University of Birmingham</a><br />\n\t\t</p>\n\t\t</blockquote>\n\t\t</p>\n\t\t</blockquote>\n\n\n\t\t\t\t<blockquote>\n\t\t\t<p id=\"indAlphaT\" style=\"display: none;\">\n\n\n<a href=\"#\" onclick=\"return !toggleObject('indAlpha_T_Z');\">T to Z</a>\n\t\t\t\t<blockquote>\n\t\t\t\t<p id=\"indAlpha_T_Z\" style=\"display: none;\">\n\t\t\t<a href=\"BULSCA_System_Output_Sheets\\Ind_Sheets\\Alpha\\Tapson_Jack_University of Nottingham_3533.pdf\".pdf\" target=\"_blank\">Tapson,Jack from University of Nottingham</a><br />\n\t\t\t<a href=\"BULSCA_System_Output_Sheets\\Ind_Sheets\\Alpha\\Thomas_Charles_University of Southampton_3482.pdf\".pdf\" target=\"_blank\">Thomas,Charles from University of Southampton</a><br />\n\t\t\t<a href=\"BULSCA_System_Output_Sheets\\Ind_Sheets\\Alpha\\Thompson_Richard_Loughborough University_3557.pdf\".pdf\" target=\"_blank\">Thompson,Richard from Loughborough University</a><br />\n\t\t\t<a href=\"BULSCA_System_Output_Sheets\\Ind_Sheets\\Alpha\\Thompson _Robert_Oxbridge-A combined Club of University of Oxford and University of Cambridge_3527.pdf\".pdf\" target=\"_blank\">Thompson ,Robert from Oxbridge-A combined Club of University of Oxford and University of Cambridge</a><br />\n\t\t\t<a href=\"BULSCA_System_Output_Sheets\\Ind_Sheets\\Alpha\\Turner_Alex_Bristol University_3570.pdf\".pdf\" target=\"_blank\">Turner,Alex from Bristol University</a><br />\n\t\t\t<a href=\"BULSCA_System_Output_Sheets\\Ind_Sheets\\Alpha\\Unsworth_James_University of Plymouth_3590.pdf\".pdf\" target=\"_blank\">Unsworth,James from University of Plymouth</a><br />\n\t\t\t<a href=\"BULSCA_System_Output_Sheets\\Ind_Sheets\\Alpha\\Viner-Waite_Rachel _University of Plymouth_3579.pdf\".pdf\" target=\"_blank\">Viner-Waite,Rachel  from University of Plymouth</a><br />\n\t\t\t<a href=\"BULSCA_System_Output_Sheets\\Ind_Sheets\\Alpha\\Waite_Katie_University of Birmingham_3496.pdf\".pdf\" target=\"_blank\">Waite,Katie from University of Birmingham</a><br />\n\t\t\t<a href=\"BULSCA_System_Output_Sheets\\Ind_Sheets\\Alpha\\Walker_Thomas_University of Southampton_3484.pdf\".pdf\" target=\"_blank\">Walker,Thomas from University of Southampton</a><br />\n\t\t\t<a href=\"BULSCA_System_Output_Sheets\\Ind_Sheets\\Alpha\\Webb_Emily_University of Southampton_3488.pdf\".pdf\" target=\"_blank\">Webb,Emily from University of Southampton</a><br />\n\t\t\t<a href=\"BULSCA_System_Output_Sheets\\Ind_Sheets\\Alpha\\Whitehead_Katie_UPSLC_3620.pdf\".pdf\" target=\"_blank\">Whitehead,Katie from UPSLC</a><br />\n\t\t\t<a href=\"BULSCA_System_Output_Sheets\\Ind_Sheets\\Alpha\\Whittaker_Frazer_University of Nottingham_3459.pdf\".pdf\" target=\"_blank\">Whittaker,Frazer from University of Nottingham</a><br />\n\t\t\t<a href=\"BULSCA_System_Output_Sheets\\Ind_Sheets\\Alpha\\Whitworth_Julia _University of Birmingham_3447.pdf\".pdf\" target=\"_blank\">Whitworth,Julia  from University of Birmingham</a><br />\n\t\t\t<a href=\"BULSCA_System_Output_Sheets\\Ind_Sheets\\Alpha\\Wickham_Katherine_University of Nottingham_3461.pdf\".pdf\" target=\"_blank\">Wickham,Katherine from University of Nottingham</a><br />\n\t\t\t<a href=\"BULSCA_System_Output_Sheets\\Ind_Sheets\\Alpha\\Williams_Stephen_University of Warwick_3513.pdf\".pdf\" target=\"_blank\">Williams,Stephen from University of Warwick</a><br />\n\t\t\t<a href=\"BULSCA_System_Output_Sheets\\Ind_Sheets\\Alpha\\Willing_Holly_University of Birmingham_3456.pdf\".pdf\" target=\"_blank\">Willing,Holly from University of Birmingham</a><br />\n\t\t\t<a href=\"BULSCA_System_Output_Sheets\\Ind_Sheets\\Alpha\\Winter_Thomas_University of Birmingham_3451.pdf\".pdf\" target=\"_blank\">Winter,Thomas from University of Birmingham</a><br />\n\t\t\t<a href=\"BULSCA_System_Output_Sheets\\Ind_Sheets\\Alpha\\Wiser_Joshua_University of Warwick_3512.pdf\".pdf\" target=\"_blank\">Wiser,Joshua from University of Warwick</a><br />\n\t\t\t<a href=\"BULSCA_System_Output_Sheets\\Ind_Sheets\\Alpha\\Withers_Harry_University of Birmingham_3449.pdf\".pdf\" target=\"_blank\">Withers,Harry from University of Birmingham</a><br />\n\t\t\t<a href=\"BULSCA_System_Output_Sheets\\Ind_Sheets\\Alpha\\Worne_Simon_University of Hertfordshire_3634.pdf\".pdf\" target=\"_blank\">Worne,Simon from University of Hertfordshire</a><br />\n\t\t\t<a href=\"BULSCA_System_Output_Sheets\\Ind_Sheets\\Alpha\\Wray_Jared_Bristol University_3554.pdf\".pdf\" target=\"_blank\">Wray,Jared from Bristol University</a><br />\n\t\t</p>\n\t\t</blockquote>\n\t\t</p>\n\t\t</blockquote>\n\t\t</p>\n\t\t</blockquote>\n\t</p>\n</blockquote>"]
["\n<p><a href=\"#\" onclick=\"return !toggleObject('Marshall');\">PDF of Entries By Event for Cheif Time Keeper</a></p>\n\t<blockquote>\n\t\t<p id=\"Marshall\" style=\"display: none;\">\n\t\t\t<a href=\"BULSCA_System_Output_Sheets/CheifTime/CheifTime_Event_1.pdf\" target=\"_blank\">F - 12.5m Line Throw</a><br />\n\t\t\t<a href=\"BULSCA_System_Output_Sheets/CheifTime/CheifTime_Event_2.pdf\" target=\"_blank\">M - 12.5m Line Throw</a><br />\n\t\t\t<a href=\"BULSCA_System_Output_Sheets/CheifTime/CheifTime_Event_3.pdf\" target=\"_blank\">F - 4x12.5 m Line Throw Relay</a><br />\n\t\t\t<a href=\"BULSCA_System_Output_Sheets/CheifTime/CheifTime_Event_4.pdf\" target=\"_blank\">M - 4x12.5 m Line Throw Relay</a><br />\n\t\t\t<a href=\"BULSCA_System_Output_Sheets/CheifTime/CheifTime_Event_5.pdf\" target=\"_blank\">F - 200m Obstacle Swim</a><br />\n\t\t\t<a href=\"BULSCA_System_Output_Sheets/CheifTime/CheifTime_Event_6.pdf\" target=\"_blank\">M - 200m Obstacle Swim</a><br />\n\t\t\t<a href=\"BULSCA_System_Output_Sheets/CheifTime/CheifTime_Event_7.pdf\" target=\"_blank\">F - 4x50m Obstacle Relay</a><br />\n\t\t\t<a href=\"BULSCA_System_Output_Sheets/CheifTime/CheifTime_Event_8.pdf\" target=\"_blank\">M - 4x50m Obstacle Relay</a><br />\n\t\t\t<a href=\"BULSCA_System_Output_Sheets/CheifTime/CheifTime_Event_9.pdf\" target=\"_blank\">F - 50m Manikin Carry</a><br />\n\t\t\t<a href=\"BULSCA_System_Output_Sheets/CheifTime/CheifTime_Event_10.pdf\" target=\"_blank\">M - 50m Manikin Carry</a><br />\n\t\t\t<a href=\"BULSCA_System_Output_Sheets/CheifTime/CheifTime_Event_11.pdf\" target=\"_blank\">F - 100m Manikin Carry with Fins</a><br />\n\t\t\t<a href=\"BULSCA_System_Output_Sheets/CheifTime/CheifTime_Event_12.pdf\" target=\"_blank\">M - 100m Manikin Carry with Fins</a><br />\n\t\t\t<a href=\"BULSCA_System_Output_Sheets/CheifTime/CheifTime_Event_13.pdf\" target=\"_blank\">F - 100m Rescue Medley</a><br />\n\t\t\t<a href=\"BULSCA_System_Output_Sheets/CheifTime/CheifTime_Event_14.pdf\" target=\"_blank\">M - 100m Rescue Medley</a><br />\n\t\t\t<a href=\"BULSCA_System_Output_Sheets/CheifTime/CheifTime_Event_15.pdf\" target=\"_blank\">F -  200m Super Lifesaver</a><br />\n\t\t\t<a href=\"BULSCA_System_Output_Sheets/CheifTime/CheifTime_Event_16.pdf\" target=\"_blank\">M -  200m Super Lifesaver</a><br />\n\t\t\t<a href=\"BULSCA_System_Output_Sheets/CheifTime/CheifTime_Event_17.pdf\" target=\"_blank\">F - 4x25m Manikin Carry Relay</a><br />\n\t\t\t<a href=\"BULSCA_System_Output_Sheets/CheifTime/CheifTime_Event_18.pdf\" target=\"_blank\">M - 4x25m Manikin Carry Relay</a><br />\n\t\t\t<a href=\"BULSCA_System_Output_Sheets/CheifTime/CheifTime_Event_19.pdf\" target=\"_blank\">F - 100m Manikin Tow with Fins</a><br />\n\t\t\t<a href=\"BULSCA_System_Output_Sheets/CheifTime/CheifTime_Event_20.pdf\" target=\"_blank\">M - 100m Manikin Tow with Fins</a><br />\n\t\t\t<a href=\"BULSCA_System_Output_Sheets/CheifTime/CheifTime_Event_21.pdf\" target=\"_blank\">F - 4x50m Medley Relay</a><br />\n\t\t\t<a href=\"BULSCA_System_Output_Sheets/CheifTime/CheifTime_Event_22.pdf\" target=\"_blank\">M - 4x50m Medley Relay</a><br />\n\t\t</p>\n\t</blockquote>\n<p><a href=\"#\" onclick=\"return !toggleObject('Cheif');\">PDF of Entries By Event for the Marshalls</a></p>\n\t<blockquote>\n\t\t<p id=\"Cheif\" style=\"display: none;\">\n\t\t\t<a href=\"BULSCA_System_Output_Sheets/Marshalling/Marshalling_Event_1.pdf\" target=\"_blank\">F - 12.5m Line Throw</a><br />\n\t\t\t<a href=\"BULSCA_System_Output_Sheets/Marshalling/Marshalling_Event_2.pdf\" target=\"_blank\">M - 12.5m Line Throw</a><br />\n\t\t\t<a href=\"BULSCA_System_Output_Sheets/Marshalling/Marshalling_Event_3.pdf\" target=\"_blank\">F - 4x12.5 m Line Throw Relay</a><br />\n\t\t\t<a href=\"BULSCA_System_Output_Sheets/Marshalling/Marshalling_Event_4.pdf\" target=\"_blank\">M - 4x12.5 m Line Throw Relay</a><br />\n\t\t\t<a href=\"BULSCA_System_Output_Sheets/Marshalling/Marshalling_Event_5.pdf\" target=\"_blank\">F - 200m Obstacle Swim</a><br />\n\t\t\t<a href=\"BULSCA_System_Output_Sheets/Marshalling/Marshalling_Event_6.pdf\" target=\"_blank\">M - 200m Obstacle Swim</a><br />\n\t\t\t<a href=\"BULSCA_System_Output_Sheets/Marshalling/Marshalling_Event_7.pdf\" target=\"_blank\">F - 4x50m Obstacle Relay</a><br />\n\t\t\t<a href=\"BULSCA_System_Output_Sheets/Marshalling/Marshalling_Event_8.pdf\" target=\"_blank\">M - 4x50m Obstacle Relay</a><br />\n\t\t\t<a href=\"BULSCA_System_Output_Sheets/Marshalling/Marshalling_Event_9.pdf\" target=\"_blank\">F - 50m Manikin Carry</a><br />\n\t\t\t<a href=\"BULSCA_System_Output_Sheets/Marshalling/Marshalling_Event_10.pdf\" target=\"_blank\">M - 50m Manikin Carry</a><br />\n\t\t\t<a href=\"BULSCA_System_Output_Sheets/Marshalling/Marshalling_Event_11.pdf\" target=\"_blank\">F - 100m Manikin Carry with Fins</a><br />\n\t\t\t<a href=\"BULSCA_System_Output_Sheets/Marshalling/Marshalling_Event_12.pdf\" target=\"_blank\">M - 100m Manikin Carry with Fins</a><br />\n\t\t\t<a href=\"BULSCA_System_Output_Sheets/Marshalling/Marshalling_Event_13.pdf\" target=\"_blank\">F - 100m Rescue Medley</a><br />\n\t\t\t<a href=\"BULSCA_System_Output_Sheets/Marshalling/Marshalling_Event_14.pdf\" target=\"_blank\">M - 100m Rescue Medley</a><br />\n\t\t\t<a href=\"BULSCA_System_Output_Sheets/Marshalling/Marshalling_Event_15.pdf\" target=\"_blank\">F -  200m Super Lifesaver</a><br />\n\t\t\t<a href=\"BULSCA_System_Output_Sheets/Marshalling/Marshalling_Event_16.pdf\" target=\"_blank\">M -  200m Super Lifesaver</a><br />\n\t\t\t<a href=\"BULSCA_System_Output_Sheets/Marshalling/Marshalling_Event_17.pdf\" target=\"_blank\">F - 4x25m Manikin Carry Relay</a><br />\n\t\t\t<a href=\"BULSCA_System_Output_Sheets/Marshalling/Marshalling_Event_18.pdf\" target=\"_blank\">M - 4x25m Manikin Carry Relay</a><br />\n\t\t\t<a href=\"BULSCA_System_Output_Sheets/Marshalling/Marshalling_Event_19.pdf\" target=\"_blank\">F - 100m Manikin Tow with Fins</a><br />\n\t\t\t<a href=\"BULSCA_System_Output_Sheets/Marshalling/Marshalling_Event_20.pdf\" target=\"_blank\">M - 100m Manikin Tow with Fins</a><br />\n\t\t\t<a href=\"BULSCA_System_Output_Sheets/Marshalling/Marshalling_Event_21.pdf\" target=\"_blank\">F - 4x50m Medley Relay</a><br />\n\t\t\t<a href=\"BULSCA_System_Output_Sheets/Marshalling/Marshalling_Event_22.pdf\" target=\"_blank\">M - 4x50m Medley Relay</a><br />\n\t\t</p>\n\t</blockquote>\n<p><a href=\"#\" onclick=\"return !toggleObject('Lane');\">PDF's of Entries by Lane for Time Keepers</a></p>\n\t<blockquote>\n\t\t<p id=\"Lane\" style=\"display: none;\">\n\t\t\t<a href=\"BULSCA_System_Output_Sheets/Lane_Timekeepers/LaneTime_Lane_0.pdf\" target=\"_blank\"> Lane 0</a><br />\n\t\t\t<a href=\"BULSCA_System_Output_Sheets/Lane_Timekeepers/LaneTime_Lane_1.pdf\" target=\"_blank\"> Lane 1</a><br />\n\t\t\t<a href=\"BULSCA_System_Output_Sheets/Lane_Timekeepers/LaneTime_Lane_2.pdf\" target=\"_blank\"> Lane 2</a><br />\n\t\t\t<a href=\"BULSCA_System_Output_Sheets/Lane_Timekeepers/LaneTime_Lane_3.pdf\" target=\"_blank\"> Lane 3</a><br />\n\t\t\t<a href=\"BULSCA_System_Output_Sheets/Lane_Timekeepers/LaneTime_Lane_4.pdf\" target=\"_blank\"> Lane 4</a><br />\n\t\t\t<a href=\"BULSCA_System_Output_Sheets/Lane_Timekeepers/LaneTime_Lane_5.pdf\" target=\"_blank\"> Lane 5</a><br />\n\t\t\t<a href=\"BULSCA_System_Output_Sheets/Lane_Timekeepers/LaneTime_Lane_6.pdf\" target=\"_blank\"> Lane 6</a><br />\n\t\t\t<a href=\"BULSCA_System_Output_Sheets/Lane_Timekeepers/LaneTime_Lane_7.pdf\" target=\"_blank\"> Lane 7</a><br />\n\t\t\t<a href=\"BULSCA_System_Output_Sheets/Lane_Timekeepers/LaneTime_Lane_8.pdf\" target=\"_blank\"> Lane 8</a><br />\n\t\t\t<a href=\"BULSCA_System_Output_Sheets/Lane_Timekeepers/LaneTime_Lane_9.pdf\" target=\"_blank\"> Lane 9</a><br />\n\t\t</p>\n\t</blockquote>"]

{"sheet":"ARES21 File production","index":8,"n_rows":32,"n_cols":16,"rows_kept":32,"cut":false,"hidden":false,"merged":[]}
["Eventcode","idlength","idStyle",null,null,"Sex Category convert",null,null,null,null,null,null,null,"Pre set",null,"lstcat-Once set up is the same for all"]
[1,4,5,null,null,"BULSCA","ARES",null,null,null,null,null,null,"From excel data",null,"lstconc-List of names of compettiors and Club ID's and ID generate"]
[2,1,6,null,null,"M","M",null,null,null,null,null,null,null,null,"lstlong-is fixed and does not need amending"]
[3,2,4,null,null,"F","F",null,null,null,null,null,null,null,null,"lstrace- set all the events with this compeittion"]
[4,2,7,null,null,"SB","B",null,null,null,null,null,null,null,null,"lstround-fixed from ares does not need changing"]
[5,2,6,null,null,"SG","G",null,null,null,null,null,null,null,null,"lstStyle-once fixed not needed to change"]
[6,4,9,null,null,"JG","X",null,null,null,null,null,null,null,null,"littitpr-Set word for score board for eache vent"]
[7,1,8,null,null,"JB","Y",null,null,null,null,null,null,null,null,"lststart-for each seesion folder /session01/"]
[8,8,7,null,null,"RG9","A"]
[9,9,5,null,null,"RB9","C"]
[10,9,4,null,null,"RG11","D"]
[11,8,8,null,null,"RB11","E"]
[12,2,5,null,null,"R9","G"]
[13,0,7,null,null,"R11","H"]
[14,1,4,null,null,"MaF","U"]
[15,1,7,null,null,"MaM","J"]
[16,1,6,null,null,"MI","K"]
[17,2,9,null,null,"ME","L"]
[18,15,7,null,null,"BMF","N"]
[19,8,5,null,null,"JM","O"]
[20,8,4,null,null,"NT","P"]
[21,0,8,null,null,"JME","Q"]
[22,8,8,null,null,"SME","R"]
[23,1,5]
[24]
[25]
[26]
[27,8,0]
[28,0,8]
[29,8,8]
[30,13,5]
[31,13,5]

{"sheet":"CompetittorIDmasslistForCOunt","index":9,"n_rows":1000,"n_cols":16,"rows_kept":1000,"cut":false,"hidden":false,"merged":[]}
["Data1","Data2","Data2","Data4","Data4","Data4","Data4",null,null,"Clubs1","Clubs2","Clubs4"]
[{"$f":"Data_1!G2","v":3444},{"$f":"Data_2!G2","v":3449},{"$f":"Data_2!J2","v":3451},{"$f":"Data_4!G2","v":3522},{"$f":"Data_4!J2","v":3444},{"$f":"Data_4!M2","v":3521},{"$f":"Data_4!P2","v":3511},null,null,{"$f":"Data_1!J2","v":"University of Warwick"},{"$f":"Data_2!M2","v":"University of Birmingham"},{"$f":"Data_4!S2","v":"University of Warwick"},null,null,null,{"$f":"SUM(IF(FREQUENCY(IF(LEN(J:J)>0,MATCH(J:J,J:J,0),\"\"),IF(LEN(J:J)>0,MATCH(J:J,J:J,0),\"\"))>0,1))","v":22}]
[{"$f":"Data_1!G3","v":3444},{"$f":"Data_2!G3","v":3455},{"$f":"Data_2!J3","v":3452},{"$f":"Data_4!G3","v":3511},{"$f":"Data_4!J3","v":3444},{"$f":"Data_4!M3","v":3521},{"$f":"Data_4!P3","v":3522},null,null,{"$f":"Data_1!J3","v":"University of Warwick"},{"$f":"Data_2!M3","v":"University of Birmingham"},{"$f":"Data_4!S3","v":"University of Warwick"}]
[{"$f":"Data_1!G4","v":3445},{"$f":"Data_2!G4","v":3532},{"$f":"Data_2!J4","v":3460},{"$f":"Data_4!G4","v":3522},{"$f":"Data_4!J4","v":3444},{"$f":"Data_4!M4","v":3521},{"$f":"Data_4!P4","v":3511},null,null,{"$f":"Data_1!J4","v":"University of Nottingham"},{"$f":"Data_2!M4","v":"University of Nottingham"},{"$f":"Data_4!S4","v":"University of Warwick"}]
[{"$f":"Data_1!G5","v":3445},{"$f":"Data_2!G5","v":3534},{"$f":"Data_2!J5","v":3461},{"$f":"Data_4!G5","v":3534},{"$f":"Data_4!J5","v":3445},{"$f":"Data_4!M5","v":3461},{"$f":"Data_4!P5","v":3535},null,null,{"$f":"Data_1!J5","v":"University of Nottingham"},{"$f":"Data_2!M5","v":"University of Nottingham"},{"$f":"Data_4!S5","v":"University of Nottingham"}]
[{"$f":"Data_1!G6","v":3447},{"$f":"Data_2!G6","v":3450},{"$f":"Data_2!J6","v":3462},{"$f":"Data_4!G6","v":3456},{"$f":"Data_4!J6","v":3447},{"$f":"Data_4!M6","v":3475},{"$f":"Data_4!P6","v":3458},null,null,{"$f":"Data_1!J6","v":"University of Birmingham"},{"$f":"Data_2!M6","v":"University of Birmingham"},{"$f":"Data_4!S6","v":"University of Birmingham"}]
[{"$f":"Data_1!G7","v":3447},{"$f":"Data_2!G7","v":3464},{"$f":"Data_2!J7","v":3465},{"$f":"Data_4!G7","v":3450},{"$f":"Data_4!J7","v":3447},{"$f":"Data_4!M7","v":3458},{"$f":"Data_4!P7","v":3456},null,null,{"$f":"Data_1!J7","v":"University of Birmingham"},{"$f":"Data_2!M7","v":"Swansea Universities Lifesaving"},{"$f":"Data_4!S7","v":"University of Birmingham"}]
[{"$f":"Data_1!G8","v":3447},{"$f":"Data_2!G8","v":3468},{"$f":"Data_2!J8","v":3466},{"$f":"Data_4!G8","v":3454},{"$f":"Data_4!J8","v":3451},{"$f":"Data_4!M8","v":3452},{"$f":"Data_4!P8","v":3449},null,null,{"$f":"Data_1!J8","v":"University of Birmingham"},{"$f":"Data_2!M8","v":"Swansea Universities Lifesaving"},{"$f":"Data_4!S8","v":"University of Birmingham"}]
[{"$f":"Data_1!G9","v":3449},{"$f":"Data_2!G9","v":3476},{"$f":"Data_2!J9","v":3470},{"$f":"Data_4!G9","v":3452},{"$f":"Data_4!J9","v":3451},{"$f":"Data_4!M9","v":3454},{"$f":"Data_4!P9","v":3449},null,null,{"$f":"Data_1!J9","v":"University of Birmingham"},{"$f":"Data_2!M9","v":"Swansea Universities Lifesaving"},{"$f":"Data_4!S9","v":"University of Birmingham"}]
[{"$f":"Data_1!G10","v":3449},{"$f":"Data_2!G10","v":3471},{"$f":"Data_2!J10","v":3473},{"$f":"Data_4!G10","v":3449},{"$f":"Data_4!J10","v":3451},{"$f":"Data_4!M10","v":3452},{"$f":"Data_4!P10","v":3453},null,null,{"$f":"Data_1!J10","v":"University of Birmingham"},{"$f":"Data_2!M10","v":"Swansea Universities Lifesaving"},{"$f":"Data_4!S10","v":"University of Birmingham"}]
[{"$f":"Data_1!G11","v":3450},{"$f":"Data_2!G11","v":3447},{"$f":"Data_2!J11","v":3475},{"$f":"Data_4!G11","v":3454},{"$f":"Data_4!J11","v":3452},{"$f":"Data_4!M11","v":3451},{"$f":"Data_4!P11","v":3449},null,null,{"$f":"Data_1!J11","v":"University of Birmingham"},{"$f":"Data_2!M11","v":"University of Birmingham"},{"$f":"Data_4!S11","v":"University of Birmingham"}]
[{"$f":"Data_1!G12","v":3450},{"$f":"Data_2!G12","v":3488},{"$f":"Data_2!J12","v":3481},{"$f":"Data_4!G12","v":3532},{"$f":"Data_4!J12","v":3460},{"$f":"Data_4!M12","v":3539},{"$f":"Data_4!P12","v":3459},null,null,{"$f":"Data_1!J12","v":"University of Birmingham"},{"$f":"Data_2!M12","v":"University of Southampton"},{"$f":"Data_4!S12","v":"University of Nottingham"}]
[{"$f":"Data_1!G13","v":3451},{"$f":"Data_2!G13","v":3478},{"$f":"Data_2!J13","v":3484},{"$f":"Data_4!G13","v":3458},{"$f":"Data_4!J13","v":3462},{"$f":"Data_4!M13","v":3447},{"$f":"Data_4!P13","v":3475},null,null,{"$f":"Data_1!J13","v":"University of Birmingham"},{"$f":"Data_2!M13","v":"University of Southampton"},{"$f":"Data_4!S13","v":"University of Birmingham"}]
[{"$f":"Data_1!G14","v":3451},{"$f":"Data_2!G14","v":3498},{"$f":"Data_2!J14","v":3485},{"$f":"Data_4!G14","v":3475},{"$f":"Data_4!J14","v":3462},{"$f":"Data_4!M14","v":3458},{"$f":"Data_4!P14","v":3450},null,null,{"$f":"Data_1!J14","v":"University of Birmingham"},{"$f":"Data_2!M14","v":"University of Southampton"},{"$f":"Data_4!S14","v":"University of Birmingham"}]
[{"$f":"Data_1!G15","v":3452},{"$f":"Data_2!G15","v":3487},{"$f":"Data_2!J15","v":3486},{"$f":"Data_4!G15","v":3464},{"$f":"Data_4!J15","v":3463},{"$f":"Data_4!M15","v":3465},{"$f":"Data_4!P15","v":3468},null,null,{"$f":"Data_1!J15","v":"University of Birmingham"},{"$f":"Data_2!M15","v":"University of Southampton"},{"$f":"Data_4!S15","v":"Swansea Universities Lifesaving"}]
[{"$f":"Data_1!G16","v":3452},{"$f":"Data_2!G16","v":3496},{"$f":"Data_2!J16","v":3492},{"$f":"Data_4!G16","v":3467},{"$f":"Data_4!J16","v":3464},{"$f":"Data_4!M16","v":3465},{"$f":"Data_4!P16","v":3463},null,null,{"$f":"Data_1!J16","v":"University of Birmingham"},{"$f":"Data_2!M16","v":"University of Birmingham"},{"$f":"Data_4!S16","v":"Swansea Universities Lifesaving"}]
[{"$f":"Data_1!G17","v":3453},{"$f":"Data_2!G17","v":3456},{"$f":"Data_2!J17","v":3493},{"$f":"Data_4!G17","v":3467},{"$f":"Data_4!J17","v":3465},{"$f":"Data_4!M17","v":3466},{"$f":"Data_4!P17","v":3463},null,null,{"$f":"Data_1!J17","v":"University of Birmingham"},{"$f":"Data_2!M17","v":"University of Birmingham"},{"$f":"Data_4!S17","v":"Swansea Universities Lifesaving"}]
[{"$f":"Data_1!G18","v":3453},{"$f":"Data_2!G18","v":3503},{"$f":"Data_2!J18","v":3505},{"$f":"Data_4!G18","v":3467},{"$f":"Data_4!J18","v":3465},{"$f":"Data_4!M18","v":3463},{"$f":"Data_4!P18","v":3466},null,null,{"$f":"Data_1!J18","v":"University of Birmingham"},{"$f":"Data_2!M18","v":"University of Sheffield"},{"$f":"Data_4!S18","v":"Swansea Universities Lifesaving"}]
[{"$f":"Data_1!G19","v":3453},{"$f":"Data_2!G19","v":3507},{"$f":"Data_2!J19","v":3508},{"$f":"Data_4!G19","v":3474},{"$f":"Data_4!J19","v":3470},{"$f":"Data_4!M19","v":3473},{"$f":"Data_4!P19","v":3476},null,null,{"$f":"Data_1!J19","v":"University of Birmingham"},{"$f":"Data_2!M19","v":"University of Sheffield"},{"$f":"Data_4!S19","v":"Swansea Universities Lifesaving"}]
[{"$f":"Data_1!G20","v":3454},{"$f":"Data_2!G20","v":3522},{"$f":"Data_2!J20","v":3511},{"$f":"Data_4!G20","v":3474},{"$f":"Data_4!J20","v":3471},{"$f":"Data_4!M20","v":3473},{"$f":"Data_4!P20","v":3476},null,null,{"$f":"Data_1!J20","v":"University of Birmingham"},{"$f":"Data_2!M20","v":"University of Warwick"},{"$f":"Data_4!S20","v":"Swansea Universities Lifesaving"}]
[{"$f":"Data_1!G21","v":3454},{"$f":"Data_2!G21","v":3524},{"$f":"Data_2!J21","v":3512},{"$f":"Data_4!G21","v":3476},{"$f":"Data_4!J21","v":3471},{"$f":"Data_4!M21","v":3474},{"$f":"Data_4!P21","v":3472},null,null,{"$f":"Data_1!J21","v":"University of Birmingham"},{"$f":"Data_2!M21","v":"University of Warwick"},{"$f":"Data_4!S21","v":"Swansea Universities Lifesaving"}]
[{"$f":"Data_1!G22","v":3454},{"$f":"Data_2!G22","v":3509},{"$f":"Data_2!J22","v":3515},{"$f":"Data_4!G22","v":3474},{"$f":"Data_4!J22","v":3472},{"$f":"Data_4!M22","v":3470},{"$f":"Data_4!P22","v":3476},null,null,{"$f":"Data_1!J22","v":"University of Birmingham"},{"$f":"Data_2!M22","v":"University of Sheffield"},{"$f":"Data_4!S22","v":"Swansea Universities Lifesaving"}]
[{"$f":"Data_1!G23","v":3455},{"$f":"Data_2!G23","v":3501},{"$f":"Data_2!J23","v":3517},{"$f":"Data_4!G23","v":3489},{"$f":"Data_4!J23","v":3482},{"$f":"Data_4!M23","v":3484},{"$f":"Data_4!P23","v":3485},null,null,{"$f":"Data_1!J23","v":"University of Birmingham"},{"$f":"Data_2!M23","v":"University of Sheffield"},{"$f":"Data_4!S23","v":"University of Southampton"}]
[{"$f":"Data_1!G24","v":3456},{"$f":"Data_2!G24","v":3444},{"$f":"Data_2!J24","v":3521},{"$f":"Data_4!G24","v":3488},{"$f":"Data_4!J24","v":3483},{"$f":"Data_4!M24","v":3481},{"$f":"Data_4!P24","v":3545},null,null,{"$f":"Data_1!J24","v":"University of Birmingham"},{"$f":"Data_2!M24","v":"University of Warwick"},{"$f":"Data_4!S24","v":"University of Southampton"}]
[{"$f":"Data_1!G25","v":3456},{"$f":"Data_2!G25","v":3516},{"$f":"Data_2!J25","v":3525},{"$f":"Data_4!G25","v":3488},{"$f":"Data_4!J25","v":3483},{"$f":"Data_4!M25","v":3486},{"$f":"Data_4!P25","v":3481},null,null,{"$f":"Data_1!J25","v":"University of Birmingham"},{"$f":"Data_2!M25","v":"University of Warwick"},{"$f":"Data_4!S25","v":"University of Southampton"}]
[{"$f":"Data_1!G26","v":3458},{"$f":"Data_2!G26","v":3527},{"$f":"Data_2!J26","v":3526},{"$f":"Data_4!G26","v":3478},{"$f":"Data_4!J26","v":3484},{"$f":"Data_4!M26","v":3482},{"$f":"Data_4!P26","v":3498},null,null,{"$f":"Data_1!J26","v":"University of Birmingham"},{"$f":"Data_2!M26","v":"Oxbridge-A combined Club of University of Oxford and University of Cambridge"},{"$f":"Data_4!S26","v":"University of Southampton"}]
[{"$f":"Data_1!G27","v":3458},{"$f":"Data_2!G27","v":3526},{"$f":"Data_2!J27","v":3529},{"$f":"Data_4!G27","v":3478},{"$f":"Data_4!J27","v":3485},{"$f":"Data_4!M27","v":3498},{"$f":"Data_4!P27","v":3482},null,null,{"$f":"Data_1!J27","v":"University of Birmingham"},{"$f":"Data_2!M27","v":"Oxbridge-A combined Club of University of Oxford and University of Cambridge"},{"$f":"Data_4!S27","v":"University of Southampton"}]
[{"$f":"Data_1!G28","v":3459},{"$f":"Data_2!G28","v":3528},{"$f":"Data_2!J28","v":3530},{"$f":"Data_4!G28","v":3481},{"$f":"Data_4!J28","v":3487},{"$f":"Data_4!M28","v":3486},{"$f":"Data_4!P28","v":3545},null,null,{"$f":"Data_1!J28","v":"University of Nottingham"},{"$f":"Data_2!M28","v":"Oxbridge-A combined Club of University of Oxford and University of Cambridge"},{"$f":"Data_4!S28","v":"University of Southampton"}]
[{"$f":"Data_1!G29","v":3459},{"$f":"Data_2!G29","v":3445},{"$f":"Data_2!J29","v":3535},{"$f":"Data_4!G29","v":3483},{"$f":"Data_4!J29","v":3487},{"$f":"Data_4!M29","v":3486},{"$f":"Data_4!P29","v":3488},null,null,{"$f":"Data_1!J29","v":"University of Nottingham"},{"$f":"Data_2!M29","v":"University of Nottingham"},{"$f":"Data_4!S29","v":"University of Southampton"}]
[{"$f":"Data_1!G30","v":3460},{"$f":"Data_2!G30","v":3459},{"$f":"Data_2!J30","v":3539},{"$f":"Data_4!G30","v":3478},{"$f":"Data_4!J30","v":3489},{"$f":"Data_4!M30","v":3498},{"$f":"Data_4!P30","v":3485},null,null,{"$f":"Data_1!J30","v":"University of Nottingham"},{"$f":"Data_2!M30","v":"University of Nottingham"},{"$f":"Data_4!S30","v":"University of Southampton"}]
[{"$f":"Data_1!G31","v":3460},{"$f":"Data_2!G31","v":3548},{"$f":"Data_2!J31","v":3546},{"$f":"Data_4!G31","v":3515},{"$f":"Data_4!J31","v":3500},{"$f":"Data_4!M31","v":3509},{"$f":"Data_4!P31","v":3510},null,null,{"$f":"Data_1!J31","v":"University of Nottingham"},{"$f":"Data_2!M31","v":"Bristol University"},{"$f":"Data_4!S31","v":"University of Sheffield"}]
[{"$f":"Data_1!G32","v":3461},{"$f":"Data_2!G32","v":3550},{"$f":"Data_2!J32","v":3551},{"$f":"Data_4!G32","v":3506},{"$f":"Data_4!J32","v":3501},{"$f":"Data_4!M32","v":3505},{"$f":"Data_4!P32","v":3504},null,null,{"$f":"Data_1!J32","v":"University of Nottingham"},{"$f":"Data_2!M32","v":"Bristol University"},{"$f":"Data_4!S32","v":"University of Sheffield"}]
[{"$f":"Data_1!G33","v":3461},{"$f":"Data_2!G33","v":3558},{"$f":"Data_2!J33","v":3557},{"$f":"Data_4!G33","v":3506},{"$f":"Data_4!J33","v":3501},{"$f":"Data_4!M33","v":3504},{"$f":"Data_4!P33","v":3505},null,null,{"$f":"Data_1!J33","v":"University of Nottingham"},{"$f":"Data_2!M33","v":"Loughborough University"},{"$f":"Data_4!S33","v":"University of Sheffield"}]
[{"$f":"Data_1!G34","v":3462},{"$f":"Data_2!G34","v":3631},{"$f":"Data_2!J34","v":3562},{"$f":"Data_4!G34","v":3505},{"$f":"Data_4!J34","v":3501},{"$f":"Data_4!M34","v":3503},{"$f":"Data_4!P34","v":3504},null,null,{"$f":"Data_1!J34","v":"University of Birmingham"},{"$f":"Data_2!M34","v":"Loughborough University"},{"$f":"Data_4!S34","v":"University of Sheffield"}]
[{"$f":"Data_1!G35","v":3463},{"$f":"Data_2!G35","v":3562},{"$f":"Data_2!J35","v":3564},{"$f":"Data_4!G35","v":3501},{"$f":"Data_4!J35","v":3505},{"$f":"Data_4!M35","v":3506},{"$f":"Data_4!P35","v":3504},null,null,{"$f":"Data_1!J35","v":"Swansea Universities Lifesaving"},{"$f":"Data_2!M35","v":"Loughborough University"},{"$f":"Data_4!S35","v":"University of Sheffield"}]
[{"$f":"Data_1!G36","v":3463},{"$f":"Data_2!G36","v":3565},{"$f":"Data_2!J36","v":3567},{"$f":"Data_4!G36","v":3508},{"$f":"Data_4!J36","v":3509},{"$f":"Data_4!M36","v":3500},{"$f":"Data_4!P36","v":3510},null,null,{"$f":"Data_1!J36","v":"Swansea Universities Lifesaving"},{"$f":"Data_2!M36","v":"Loughborough University"},{"$f":"Data_4!S36","v":"University of Sheffield"}]
[{"$f":"Data_1!G37","v":3463},{"$f":"Data_2!G37","v":3552},{"$f":"Data_2!J37","v":3570},{"$f":"Data_4!G37","v":3500},{"$f":"Data_4!J37","v":3510},{"$f":"Data_4!M37","v":3509},{"$f":"Data_4!P37","v":3515},null,null,{"$f":"Data_1!J37","v":"Swansea Universities Lifesaving"},{"$f":"Data_2!M37","v":"Bristol University"},{"$f":"Data_4!S37","v":"University of Sheffield"}]
[{"$f":"Data_1!G38","v":3464},{"$f":"Data_2!G38","v":3554},{"$f":"Data_2!J38","v":3571},{"$f":"Data_4!G38","v":3507},{"$f":"Data_4!J38","v":3510},{"$f":"Data_4!M38","v":3500},{"$f":"Data_4!P38","v":3509},null,null,{"$f":"Data_1!J38","v":"Swansea Universities Lifesaving"},{"$f":"Data_2!M38","v":"Bristol University"},{"$f":"Data_4!S38","v":"University of Sheffield"}]
[{"$f":"Data_1!G39","v":3464},{"$f":"Data_2!G39","v":3561},{"$f":"Data_2!J39","v":3574},{"$f":"Data_4!G39","v":3516},{"$f":"Data_4!J39","v":3512},{"$f":"Data_4!M39","v":3524},{"$f":"Data_4!P39","v":3525},null,null,{"$f":"Data_1!J39","v":"Swansea Universities Lifesaving"},{"$f":"Data_2!M39","v":"Loughborough University"},{"$f":"Data_4!S39","v":"University of Warwick"}]
[{"$f":"Data_1!G40","v":3465},{"$f":"Data_2!G40","v":3576},{"$f":"Data_2!J40","v":3576},{"$f":"Data_4!G40","v":3524},{"$f":"Data_4!J40","v":3516},{"$f":"Data_4!M40","v":3523},{"$f":"Data_4!P40","v":3525},null,null,{"$f":"Data_1!J40","v":"Swansea Universities Lifesaving"},{"$f":"Data_2!M40","v":"University of Surrey"},{"$f":"Data_4!S40","v":"University of Warwick"}]
[{"$f":"Data_1!G41","v":3465},{"$f":"Data_2!G41","v":3577},{"$f":"Data_2!J41","v":3577},{"$f":"Data_4!G41","v":3444},{"$f":"Data_4!J41","v":3522},{"$f":"Data_4!M41","v":3511},{"$f":"Data_4!P41","v":3521},null,null,{"$f":"Data_1!J41","v":"Swansea Universities Lifesaving"},{"$f":"Data_2!M41","v":"Teeside University"},{"$f":"Data_4!S41","v":"University of Warwick"}]
[{"$f":"Data_1!G42","v":3466},{"$f":"Data_2!G42","v":3578},{"$f":"Data_2!J42","v":3579},{"$f":"Data_4!G42","v":3525},{"$f":"Data_4!J42","v":3523},{"$f":"Data_4!M42","v":3524},{"$f":"Data_4!P42","v":3516},null,null,{"$f":"Data_1!J42","v":"Swansea Universities Lifesaving"},{"$f":"Data_2!M42","v":"University of Plymouth"},{"$f":"Data_4!S42","v":"University of Warwick"}]
[{"$f":"Data_1!G43","v":3466},{"$f":"Data_2!G43","v":3581},{"$f":"Data_2!J43","v":3580},{"$f":"Data_4!G43","v":3516},{"$f":"Data_4!J43","v":3524},{"$f":"Data_4!M43","v":3523},{"$f":"Data_4!P43","v":3525},null,null,{"$f":"Data_1!J43","v":"Swansea Universities Lifesaving"},{"$f":"Data_2!M43","v":"University of Plymouth"},{"$f":"Data_4!S43","v":"University of Warwick"}]
[{"$f":"Data_1!G44","v":3466},{"$f":"Data_2!G44","v":3591},{"$f":"Data_2!J44","v":3592},{"$f":"Data_4!G44","v":3529},{"$f":"Data_4!J44","v":3527},{"$f":"Data_4!M44","v":3526},{"$f":"Data_4!P44","v":3528},null,null,{"$f":"Data_1!J44","v":"Swansea Universities Lifesaving"},{"$f":"Data_2!M44","v":"University of Plymouth"},{"$f":"Data_4!S44","v":"Oxbridge-A combined Club of University of Oxford and University of Cambridge"}]
[{"$f":"Data_1!G45","v":3467},{"$f":"Data_2!G45","v":3595},{"$f":"Data_2!J45","v":3593},{"$f":"Data_4!G45","v":3527},{"$f":"Data_4!J45","v":3530},{"$f":"Data_4!M45","v":3526},{"$f":"Data_4!P45","v":3528},null,null,{"$f":"Data_1!J45","v":"Swansea Universities Lifesaving"},{"$f":"Data_2!M45","v":"University of Plymouth"},{"$f":"Data_4!S45","v":"Oxbridge-A combined Club of University of Oxford and University of Cambridge"}]
[{"$f":"Data_1!G46","v":3467},{"$f":"Data_2!G46","v":3590},{"$f":"Data_2!J46","v":3594},{"$f":"Data_4!G46","v":3529},{"$f":"Data_4!J46","v":3530},{"$f":"Data_4!M46","v":3526},{"$f":"Data_4!P46","v":3528},null,null,{"$f":"Data_1!J46","v":"Swansea Universities Lifesaving"},{"$f":"Data_2!M46","v":"University of Plymouth"},{"$f":"Data_4!S46","v":"Oxbridge-A combined Club of University of Oxford and University of Cambridge"}]
[{"$f":"Data_1!G47","v":3470},{"$f":"Data_2!G47","v":3602},{"$f":"Data_2!J47","v":3602},{"$f":"Data_4!G47","v":3529},{"$f":"Data_4!J47","v":3530},{"$f":"Data_4!M47","v":3526},{"$f":"Data_4!P47","v":3527},null,null,{"$f":"Data_1!J47","v":"Swansea Universities Lifesaving"},{"$f":"Data_2!M47","v":"University of Derby"},{"$f":"Data_4!S47","v":"Oxbridge-A combined Club of University of Oxford and University of Cambridge"}]
[{"$f":"Data_1!G48","v":3471},{"$f":"Data_2!G48","v":3603},{"$f":"Data_2!J48","v":3603},{"$f":"Data_4!G48","v":3537},{"$f":"Data_4!J48","v":3535},{"$f":"Data_4!M48","v":3445},{"$f":"Data_4!P48","v":3534},null,null,{"$f":"Data_1!J48","v":"Swansea Universities Lifesaving"},{"$f":"Data_2!M48","v":"Heanor"},{"$f":"Data_4!S48","v":"University of Nottingham"}]
[{"$f":"Data_1!G49","v":3472},{"$f":"Data_2!G49","v":3604},{"$f":"Data_2!J49","v":3605},{"$f":"Data_4!G49","v":3461},{"$f":"Data_4!J49","v":3536},{"$f":"Data_4!M49","v":3537},{"$f":"Data_4!P49","v":3445},null,null,{"$f":"Data_1!J49","v":"Swansea Universities Lifesaving"},{"$f":"Data_2!M49","v":"Keynsham"},{"$f":"Data_4!S49","v":"University of Nottingham"}]
[{"$f":"Data_1!G50","v":3473},{"$f":"Data_2!G50","v":3606},{"$f":"Data_2!J50","v":3607},{"$f":"Data_4!G50","v":3534},{"$f":"Data_4!J50","v":3537},{"$f":"Data_4!M50","v":3536},{"$f":"Data_4!P50","v":3535},null,null,{"$f":"Data_1!J50","v":"Swansea Universities Lifesaving"},{"$f":"Data_2!M50","v":"University of Plymouth"},{"$f":"Data_4!S50","v":"University of Nottingham"}]
[{"$f":"Data_1!G51","v":3473},{"$f":"Data_2!G51","v":3614},{"$f":"Data_2!J51","v":3610},{"$f":"Data_4!G51","v":3460},{"$f":"Data_4!J51","v":3538},{"$f":"Data_4!M51","v":3533},{"$f":"Data_4!P51","v":3539},null,null,{"$f":"Data_1!J51","v":"Swansea Universities Lifesaving"},{"$f":"Data_2!M51","v":"UoB LSC"},{"$f":"Data_4!S51","v":"University of Nottingham"}]
[{"$f":"Data_1!G52","v":3473},{"$f":"Data_2!G52","v":3611},{"$f":"Data_2!J52","v":3615},{"$f":"Data_4!G52","v":3532},{"$f":"Data_4!J52","v":3538},{"$f":"Data_4!M52","v":3533},{"$f":"Data_4!P52","v":3459},null,null,{"$f":"Data_1!J52","v":"Swansea Universities Lifesaving"},{"$f":"Data_2!M52","v":"UoB LSC"},{"$f":"Data_4!S52","v":"University of Nottingham"}]
[{"$f":"Data_1!G53","v":3474},{"$f":"Data_2!G53","v":3618},{"$f":"Data_2!J53","v":3616},{"$f":"Data_4!G53","v":3459},{"$f":"Data_4!J53","v":3539},{"$f":"Data_4!M53","v":3532},{"$f":"Data_4!P53","v":3460},null,null,{"$f":"Data_1!J53","v":"Swansea Universities Lifesaving"},{"$f":"Data_2!M53","v":"UPSLC"},{"$f":"Data_4!S53","v":"University of Nottingham"}]
[{"$f":"Data_1!G54","v":3474},{"$f":"Data_2!G54","v":3617},{"$f":"Data_2!J54","v":3619},{"$f":"Data_4!G54","v":3549},{"$f":"Data_4!J54","v":3546},{"$f":"Data_4!M54","v":3547},{"$f":"Data_4!P54","v":3548},null,null,{"$f":"Data_1!J54","v":"Swansea Universities Lifesaving"},{"$f":"Data_2!M54","v":"UPSLC"},{"$f":"Data_4!S54","v":"Bristol University"}]
[{"$f":"Data_1!G55","v":3474},{"$f":"Data_2!G55","v":3621},{"$f":"Data_2!J55","v":3620},{"$f":"Data_4!G55","v":3547},{"$f":"Data_4!J55","v":3549},{"$f":"Data_4!M55","v":3548},{"$f":"Data_4!P55","v":3546},null,null,{"$f":"Data_1!J55","v":"Swansea Universities Lifesaving"},{"$f":"Data_2!M55","v":"UPSLC"},{"$f":"Data_4!S55","v":"Bristol University"}]
[{"$f":"Data_1!G56","v":3475},{"$f":"Data_2!G56","v":3623},{"$f":"Data_2!J56","v":3622},{"$f":"Data_4!G56","v":3549},{"$f":"Data_4!J56","v":3550},{"$f":"Data_4!M56","v":3548},{"$f":"Data_4!P56","v":3547},null,null,{"$f":"Data_1!J56","v":"University of Birmingham"},{"$f":"Data_2!M56","v":"UPSLC"},{"$f":"Data_4!S56","v":"Bristol University"}]
[{"$f":"Data_1!G57","v":3475},{"$f":"Data_2!G57","v":3624},{"$f":"Data_2!J57","v":3625},{"$f":"Data_4!G57","v":3548},{"$f":"Data_4!J57","v":3550},{"$f":"Data_4!M57","v":3549},{"$f":"Data_4!P57","v":3547},null,null,{"$f":"Data_1!J57","v":"University of Birmingham"},{"$f":"Data_2!M57","v":"UPSLC"},{"$f":"Data_4!S57","v":"Bristol University"}]
[{"$f":"Data_1!G58","v":3475},{"$f":"Data_2!G58","v":3626},{"$f":"Data_2!J58","v":3627},{"$f":"Data_4!G58","v":3571},{"$f":"Data_4!J58","v":3552},{"$f":"Data_4!M58","v":3554},{"$f":"Data_4!P58","v":3553},null,null,{"$f":"Data_1!J58","v":"University of Birmingham"},{"$f":"Data_2!M58","v":"UPSLC"},{"$f":"Data_4!S58","v":"Bristol University"}]
[{"$f":"Data_1!G59","v":3476},{"$f":"Data_2!G59","v":3630},{"$f":"Data_2!J59","v":3629},{"$f":"Data_4!G59","v":3571},{"$f":"Data_4!J59","v":3552},{"$f":"Data_4!M59","v":3555},{"$f":"Data_4!P59","v":3553},null,null,{"$f":"Data_1!J59","v":"Swansea Universities Lifesaving"},{"$f":"Data_2!M59","v":"Crawley Town"},{"$f":"Data_4!S59","v":"Bristol University"}]
[{"$f":"Data_1!G60","v":3476},{"$f":"Data_2!G60","v":3632},{"$f":"Data_2!J60","v":3635},{"$f":"Data_4!G60","v":3559},{"$f":"Data_4!J60","v":3557},{"$f":"Data_4!M60","v":3558},{"$f":"Data_4!P60","v":3574},null,null,{"$f":"Data_1!J60","v":"Swansea Universities Lifesaving"},{"$f":"Data_2!M60","v":"University of Birmingham"},{"$f":"Data_4!S60","v":"Loughborough University"}]
[{"$f":"Data_1!G61","v":3476},{"$f":"Data_2!G61","v":0},{"$f":"Data_2!J61","v":0},{"$f":"Data_4!G61","v":3557},{"$f":"Data_4!J61","v":3558},{"$f":"Data_4!M61","v":3574},{"$f":"Data_4!P61","v":3559},null,null,{"$f":"Data_1!J61","v":"Swansea Universities Lifesaving"},{"$f":"Data_2!M61","v":0},{"$f":"Data_4!S61","v":"Loughborough University"}]
[{"$f":"Data_1!G62","v":3478},{"$f":"Data_2!G62","v":0},{"$f":"Data_2!J62","v":0},{"$f":"Data_4!G62","v":3561},{"$f":"Data_4!J62","v":3558},{"$f":"Data_4!M62","v":3556},{"$f":"Data_4!P62","v":3559},null,null,{"$f":"Data_1!J62","v":"University of Southampton"},{"$f":"Data_2!M62","v":0},{"$f":"Data_4!S62","v":"Loughborough University"}]
[{"$f":"Data_1!G63","v":3481},{"$f":"Data_2!G63","v":0},{"$f":"Data_2!J63","v":0},{"$f":"Data_4!G63","v":3565},{"$f":"Data_4!J63","v":3562},{"$f":"Data_4!M63","v":3563},{"$f":"Data_4!P63","v":3566},null,null,{"$f":"Data_1!J63","v":"University of Southampton"},{"$f":"Data_2!M63","v":0},{"$f":"Data_4!S63","v":"Loughborough University"}]
[{"$f":"Data_1!G64","v":3481},{"$f":"Data_2!G64","v":0},{"$f":"Data_2!J64","v":0},{"$f":"Data_4!G64","v":3563},{"$f":"Data_4!J64","v":3566},{"$f":"Data_4!M64","v":3567},{"$f":"Data_4!P64","v":3562},null,null,{"$f":"Data_1!J64","v":"University of Southampton"},{"$f":"Data_2!M64","v":0},{"$f":"Data_4!S64","v":"Loughborough University"}]
[{"$f":"Data_1!G65","v":3482},{"$f":"Data_2!G65","v":0},{"$f":"Data_2!J65","v":0},{"$f":"Data_4!G65","v":3566},{"$f":"Data_4!J65","v":3567},{"$f":"Data_4!M65","v":3563},{"$f":"Data_4!P65","v":3562},null,null,{"$f":"Data_1!J65","v":"University of Southampton"},{"$f":"Data_2!M65","v":0},{"$f":"Data_4!S65","v":"Loughborough University"}]
[{"$f":"Data_1!G66","v":3482},{"$f":"Data_2!G66","v":0},{"$f":"Data_2!J66","v":0},{"$f":"Data_4!G66","v":3563},{"$f":"Data_4!J66","v":3567},{"$f":"Data_4!M66","v":3566},{"$f":"Data_4!P66","v":3562},null,null,{"$f":"Data_1!J66","v":"University of Southampton"},{"$f":"Data_2!M66","v":0},{"$f":"Data_4!S66","v":"Loughborough University"}]
[{"$f":"Data_1!G67","v":3483},{"$f":"Data_2!G67","v":0},{"$f":"Data_2!J67","v":0},{"$f":"Data_4!G67","v":3571},{"$f":"Data_4!J67","v":3570},{"$f":"Data_4!M67","v":3555},{"$f":"Data_4!P67","v":3552},null,null,{"$f":"Data_1!J67","v":"University of Southampton"},{"$f":"Data_2!M67","v":0},{"$f":"Data_4!S67","v":"Bristol University"}]
[{"$f":"Data_1!G68","v":3483},{"$f":"Data_2!G68","v":0},{"$f":"Data_2!J68","v":0},{"$f":"Data_4!G68","v":3554},{"$f":"Data_4!J68","v":3571},{"$f":"Data_4!M68","v":3555},{"$f":"Data_4!P68","v":3552},null,null,{"$f":"Data_1!J68","v":"University of Southampton"},{"$f":"Data_2!M68","v":0},{"$f":"Data_4!S68","v":"Bristol University"}]
[{"$f":"Data_1!G69","v":3484},{"$f":"Data_2!G69","v":0},{"$f":"Data_2!J69","v":0},{"$f":"Data_4!G69","v":3558},{"$f":"Data_4!J69","v":3574},{"$f":"Data_4!M69","v":3557},{"$f":"Data_4!P69","v":3559},null,null,{"$f":"Data_1!J69","v":"University of Southampton"},{"$f":"Data_2!M69","v":0},{"$f":"Data_4!S69","v":"Loughborough University"}]
[{"$f":"Data_1!G70","v":3484},{"$f":"Data_2!G70","v":0},{"$f":"Data_2!J70","v":0},{"$f":"Data_4!G70","v":3580},{"$f":"Data_4!J70","v":3581},{"$f":"Data_4!M70","v":3579},{"$f":"Data_4!P70","v":3578},null,null,{"$f":"Data_1!J70","v":"University of Southampton"},{"$f":"Data_2!M70","v":0},{"$f":"Data_4!S70","v":"University of Plymouth"}]
[{"$f":"Data_1!G71","v":3485},{"$f":"Data_2!G71","v":0},{"$f":"Data_2!J71","v":0},{"$f":"Data_4!G71","v":3580},{"$f":"Data_4!J71","v":3581},{"$f":"Data_4!M71","v":3579},{"$f":"Data_4!P71","v":3578},null,null,{"$f":"Data_1!J71","v":"University of Southampton"},{"$f":"Data_2!M71","v":0},{"$f":"Data_4!S71","v":"University of Plymouth"}]
[{"$f":"Data_1!G72","v":3485},{"$f":"Data_2!G72","v":0},{"$f":"Data_2!J72","v":0},{"$f":"Data_4!G72","v":3578},{"$f":"Data_4!J72","v":3581},{"$f":"Data_4!M72","v":3606},{"$f":"Data_4!P72","v":3579},null,null,{"$f":"Data_1!J72","v":"University of Southampton"},{"$f":"Data_2!M72","v":0},{"$f":"Data_4!S72","v":"University of Plymouth"}]
[{"$f":"Data_1!G73","v":3485},{"$f":"Data_2!G73","v":0},{"$f":"Data_2!J73","v":0},{"$f":"Data_4!G73","v":3595},{"$f":"Data_4!J73","v":3590},{"$f":"Data_4!M73","v":3594},{"$f":"Data_4!P73","v":3591},null,null,{"$f":"Data_1!J73","v":"University of Southampton"},{"$f":"Data_2!M73","v":0},{"$f":"Data_4!S73","v":"University of Plymouth"}]
[{"$f":"Data_1!G74","v":3486},{"$f":"Data_2!G74","v":0},{"$f":"Data_2!J74","v":0},{"$f":"Data_4!G74","v":3590},{"$f":"Data_4!J74","v":3591},{"$f":"Data_4!M74","v":3595},{"$f":"Data_4!P74","v":3594},null,null,{"$f":"Data_1!J74","v":"University of Southampton"},{"$f":"Data_2!M74","v":0},{"$f":"Data_4!S74","v":"University of Plymouth"}]
[{"$f":"Data_1!G75","v":3486},{"$f":"Data_2!G75","v":0},{"$f":"Data_2!J75","v":0},{"$f":"Data_4!G75","v":3591},{"$f":"Data_4!J75","v":3592},{"$f":"Data_4!M75","v":3594},{"$f":"Data_4!P75","v":3590},null,null,{"$f":"Data_1!J75","v":"University of Southampton"},{"$f":"Data_2!M75","v":0},{"$f":"Data_4!S75","v":"University of Plymouth"}]
[{"$f":"Data_1!G76","v":3487},{"$f":"Data_2!G76","v":0},{"$f":"Data_2!J76","v":0},{"$f":"Data_4!G76","v":3591},{"$f":"Data_4!J76","v":3592},{"$f":"Data_4!M76","v":3594},{"$f":"Data_4!P76","v":3590},null,null,{"$f":"Data_1!J76","v":"University of Southampton"},{"$f":"Data_2!M76","v":0},{"$f":"Data_4!S76","v":"University of Plymouth"}]
[{"$f":"Data_1!G77","v":3487},{"$f":"Data_2!G77","v":0},{"$f":"Data_2!J77","v":0},{"$f":"Data_4!G77","v":3614},{"$f":"Data_4!J77","v":3611},{"$f":"Data_4!M77","v":3610},{"$f":"Data_4!P77","v":3612},null,null,{"$f":"Data_1!J77","v":"University of Southampton"},{"$f":"Data_2!M77","v":0},{"$f":"Data_4!S77","v":"UoB LSC"}]
[{"$f":"Data_1!G78","v":3488},{"$f":"Data_2!G78","v":0},{"$f":"Data_2!J78","v":0},{"$f":"Data_4!G78","v":3610},{"$f":"Data_4!J78","v":3613},{"$f":"Data_4!M78","v":3615},{"$f":"Data_4!P78","v":3614},null,null,{"$f":"Data_1!J78","v":"University of Southampton"},{"$f":"Data_2!M78","v":0},{"$f":"Data_4!S78","v":"UoB LSC"}]
[{"$f":"Data_1!G79","v":3489},{"$f":"Data_2!G79","v":0},{"$f":"Data_2!J79","v":0},{"$f":"Data_4!G79","v":3612},{"$f":"Data_4!J79","v":3614},{"$f":"Data_4!M79","v":3610},{"$f":"Data_4!P79","v":3611},null,null,{"$f":"Data_1!J79","v":"University of Southampton"},{"$f":"Data_2!M79","v":0},{"$f":"Data_4!S79","v":"UoB LSC"}]
[{"$f":"Data_1!G80","v":3489},{"$f":"Data_2!G80","v":0},{"$f":"Data_2!J80","v":0},{"$f":"Data_4!G80","v":3611},{"$f":"Data_4!J80","v":3614},{"$f":"Data_4!M80","v":3610},{"$f":"Data_4!P80","v":3612},null,null,{"$f":"Data_1!J80","v":"University of Southampton"},{"$f":"Data_2!M80","v":0},{"$f":"Data_4!S80","v":"UoB LSC"}]
[{"$f":"Data_1!G81","v":3496},{"$f":"Data_2!G81","v":0},{"$f":"Data_2!J81","v":0},{"$f":"Data_4!G81","v":3616},{"$f":"Data_4!J81","v":3617},{"$f":"Data_4!M81","v":3619},{"$f":"Data_4!P81","v":3618},null,null,{"$f":"Data_1!J81","v":"University of Birmingham"},{"$f":"Data_2!M81","v":0},{"$f":"Data_4!S81","v":"UPSLC"}]
[{"$f":"Data_1!G82","v":3497},{"$f":"Data_2!G82","v":0},{"$f":"Data_2!J82","v":0},{"$f":"Data_4!G82","v":3616},{"$f":"Data_4!J82","v":3617},{"$f":"Data_4!M82","v":3619},{"$f":"Data_4!P82","v":3618},null,null,{"$f":"Data_1!J82","v":"University of Birmingham"},{"$f":"Data_2!M82","v":0},{"$f":"Data_4!S82","v":"UPSLC"}]
[{"$f":"Data_1!G83","v":3497},{"$f":"Data_2!G83","v":0},{"$f":"Data_2!J83","v":0},{"$f":"Data_4!G83","v":3616},{"$f":"Data_4!J83","v":3617},{"$f":"Data_4!M83","v":3619},{"$f":"Data_4!P83","v":3618},null,null,{"$f":"Data_1!J83","v":"University of Birmingham"},{"$f":"Data_2!M83","v":0},{"$f":"Data_4!S83","v":"UPSLC"}]
[{"$f":"Data_1!G84","v":3498},{"$f":"Data_2!G84","v":0},{"$f":"Data_2!J84","v":0},{"$f":"Data_4!G84","v":3616},{"$f":"Data_4!J84","v":3617},{"$f":"Data_4!M84","v":3619},{"$f":"Data_4!P84","v":3618},null,null,{"$f":"Data_1!J84","v":"University of Southampton"},{"$f":"Data_2!M84","v":0},{"$f":"Data_4!S84","v":"UPSLC"}]
[{"$f":"Data_1!G85","v":3498},{"$f":"Data_2!G85","v":0},{"$f":"Data_2!J85","v":0},{"$f":"Data_4!G85","v":3623},{"$f":"Data_4!J85","v":3624},{"$f":"Data_4!M85","v":3622},{"$f":"Data_4!P85","v":3627},null,null,{"$f":"Data_1!J85","v":"University of Southampton"},{"$f":"Data_2!M85","v":0},{"$f":"Data_4!S85","v":"UPSLC"}]
[{"$f":"Data_1!G86","v":3500},{"$f":"Data_2!G86","v":0},{"$f":"Data_2!J86","v":0},{"$f":"Data_4!G86","v":3623},{"$f":"Data_4!J86","v":3624},{"$f":"Data_4!M86","v":3622},{"$f":"Data_4!P86","v":3627},null,null,{"$f":"Data_1!J86","v":"University of Sheffield"},{"$f":"Data_2!M86","v":0},{"$f":"Data_4!S86","v":"UPSLC"}]
[{"$f":"Data_1!G87","v":3501},{"$f":"Data_2!G87","v":0},{"$f":"Data_2!J87","v":0},{"$f":"Data_4!G87","v":3623},{"$f":"Data_4!J87","v":3624},{"$f":"Data_4!M87","v":3622},{"$f":"Data_4!P87","v":3627},null,null,{"$f":"Data_1!J87","v":"University of Sheffield"},{"$f":"Data_2!M87","v":0},{"$f":"Data_4!S87","v":"UPSLC"}]
[{"$f":"Data_1!G88","v":3503},{"$f":"Data_2!G88","v":0},{"$f":"Data_2!J88","v":0},{"$f":"Data_4!G88","v":3623},{"$f":"Data_4!J88","v":3624},{"$f":"Data_4!M88","v":3622},{"$f":"Data_4!P88","v":3627},null,null,{"$f":"Data_1!J88","v":"University of Sheffield"},{"$f":"Data_2!M88","v":0},{"$f":"Data_4!S88","v":"UPSLC"}]
[{"$f":"Data_1!G89","v":3503},{"$f":"Data_2!G89","v":0},{"$f":"Data_2!J89","v":0},{"$f":"Data_4!G89","v":0},{"$f":"Data_4!J89","v":0},{"$f":"Data_4!M89","v":0},{"$f":"Data_4!P89","v":0},null,null,{"$f":"Data_1!J89","v":"University of Sheffield"},{"$f":"Data_2!M89","v":0},{"$f":"Data_4!S89","v":0}]
[{"$f":"Data_1!G90","v":3504},{"$f":"Data_2!G90","v":0},{"$f":"Data_2!J90","v":0},{"$f":"Data_4!G90","v":0},{"$f":"Data_4!J90","v":0},{"$f":"Data_4!M90","v":0},{"$f":"Data_4!P90","v":0},null,null,{"$f":"Data_1!J90","v":"University of Sheffield"},{"$f":"Data_2!M90","v":0},{"$f":"Data_4!S90","v":0}]
[{"$f":"Data_1!G91","v":3504},{"$f":"Data_2!G91","v":0},{"$f":"Data_2!J91","v":0},{"$f":"Data_4!G91","v":0},{"$f":"Data_4!J91","v":0},{"$f":"Data_4!M91","v":0},{"$f":"Data_4!P91","v":0},null,null,{"$f":"Data_1!J91","v":"University of Sheffield"},{"$f":"Data_2!M91","v":0},{"$f":"Data_4!S91","v":0}]
[{"$f":"Data_1!G92","v":3504},{"$f":"Data_2!G92","v":0},{"$f":"Data_2!J92","v":0},{"$f":"Data_4!G92","v":0},{"$f":"Data_4!J92","v":0},{"$f":"Data_4!M92","v":0},{"$f":"Data_4!P92","v":0},null,null,{"$f":"Data_1!J92","v":"University of Sheffield"},{"$f":"Data_2!M92","v":0},{"$f":"Data_4!S92","v":0}]
[{"$f":"Data_1!G93","v":3504},{"$f":"Data_2!G93","v":0},{"$f":"Data_2!J93","v":0},{"$f":"Data_4!G93","v":0},{"$f":"Data_4!J93","v":0},{"$f":"Data_4!M93","v":0},{"$f":"Data_4!P93","v":0},null,null,{"$f":"Data_1!J93","v":"University of Sheffield"},{"$f":"Data_2!M93","v":0},{"$f":"Data_4!S93","v":0}]
[{"$f":"Data_1!G94","v":3505},{"$f":"Data_2!G94","v":0},{"$f":"Data_2!J94","v":0},{"$f":"Data_4!G94","v":0},{"$f":"Data_4!J94","v":0},{"$f":"Data_4!M94","v":0},{"$f":"Data_4!P94","v":0},null,null,{"$f":"Data_1!J94","v":"University of Sheffield"},{"$f":"Data_2!M94","v":0},{"$f":"Data_4!S94","v":0}]
[{"$f":"Data_1!G95","v":3505},{"$f":"Data_2!G95","v":0},{"$f":"Data_2!J95","v":0},{"$f":"Data_4!G95","v":0},{"$f":"Data_4!J95","v":0},{"$f":"Data_4!M95","v":0},{"$f":"Data_4!P95","v":0},null,null,{"$f":"Data_1!J95","v":"University of Sheffield"},{"$f":"Data_2!M95","v":0},{"$f":"Data_4!S95","v":0}]
[{"$f":"Data_1!G96","v":3505},{"$f":"Data_2!G96","v":0},{"$f":"Data_2!J96","v":0},{"$f":"Data_4!G96","v":0},{"$f":"Data_4!J96","v":0},{"$f":"Data_4!M96","v":0},{"$f":"Data_4!P96","v":0},null,null,{"$f":"Data_1!J96","v":"University of Sheffield"},{"$f":"Data_2!M96","v":0},{"$f":"Data_4!S96","v":0}]
[{"$f":"Data_1!G97","v":3506},{"$f":"Data_2!G97","v":0},{"$f":"Data_2!J97","v":0},{"$f":"Data_4!G97","v":0},{"$f":"Data_4!J97","v":0},{"$f":"Data_4!M97","v":0},{"$f":"Data_4!P97","v":0},null,null,{"$f":"Data_1!J97","v":"University of Sheffield"},{"$f":"Data_2!M97","v":0},{"$f":"Data_4!S97","v":0}]
[{"$f":"Data_1!G98","v":3507},{"$f":"Data_2!G98","v":0},{"$f":"Data_2!J98","v":0},{"$f":"Data_4!G98","v":0},{"$f":"Data_4!J98","v":0},{"$f":"Data_4!M98","v":0},{"$f":"Data_4!P98","v":0},null,null,{"$f":"Data_1!J98","v":"University of Sheffield"},{"$f":"Data_2!M98","v":0},{"$f":"Data_4!S98","v":0}]
[{"$f":"Data_1!G99","v":3508},{"$f":"Data_2!G99","v":0},{"$f":"Data_2!J99","v":0},{"$f":"Data_4!G99","v":0},{"$f":"Data_4!J99","v":0},{"$f":"Data_4!M99","v":0},{"$f":"Data_4!P99","v":0},null,null,{"$f":"Data_1!J99","v":"University of Sheffield"},{"$f":"Data_2!M99","v":0},{"$f":"Data_4!S99","v":0}]
[{"$f":"Data_1!G100","v":3509},{"$f":"Data_2!G100","v":0},{"$f":"Data_2!J100","v":0},{"$f":"Data_4!G100","v":0},{"$f":"Data_4!J100","v":0},{"$f":"Data_4!M100","v":0},{"$f":"Data_4!P100","v":0},null,null,{"$f":"Data_1!J100","v":"University of Sheffield"},{"$f":"Data_2!M100","v":0},{"$f":"Data_4!S100","v":0}]
[{"$f":"Data_1!G101","v":3510},{"$f":"Data_2!G101","v":0},{"$f":"Data_2!J101","v":0},{"$f":"Data_4!G101","v":0},{"$f":"Data_4!J101","v":0},{"$f":"Data_4!M101","v":0},{"$f":"Data_4!P101","v":0},null,null,{"$f":"Data_1!J101","v":"University of Sheffield"},{"$f":"Data_2!M101","v":0},{"$f":"Data_4!S101","v":0}]
[{"$f":"Data_1!G102","v":3510},{"$f":"Data_2!G102","v":0},{"$f":"Data_2!J102","v":0},{"$f":"Data_4!G102","v":0},{"$f":"Data_4!J102","v":0},{"$f":"Data_4!M102","v":0},{"$f":"Data_4!P102","v":0},null,null,{"$f":"Data_1!J102","v":"University of Sheffield"},{"$f":"Data_2!M102","v":0},{"$f":"Data_4!S102","v":0}]
[{"$f":"Data_1!G103","v":3510},{"$f":"Data_2!G103","v":0},{"$f":"Data_2!J103","v":0},{"$f":"Data_4!G103","v":0},{"$f":"Data_4!J103","v":0},{"$f":"Data_4!M103","v":0},{"$f":"Data_4!P103","v":0},null,null,{"$f":"Data_1!J103","v":"University of Sheffield"},{"$f":"Data_2!M103","v":0},{"$f":"Data_4!S103","v":0}]
[{"$f":"Data_1!G104","v":3510},{"$f":"Data_2!G104","v":0},{"$f":"Data_2!J104","v":0},{"$f":"Data_4!G104","v":0},{"$f":"Data_4!J104","v":0},{"$f":"Data_4!M104","v":0},{"$f":"Data_4!P104","v":0},null,null,{"$f":"Data_1!J104","v":"University of Sheffield"},{"$f":"Data_2!M104","v":0},{"$f":"Data_4!S104","v":0}]
[{"$f":"Data_1!G105","v":3510},{"$f":"Data_2!G105","v":0},{"$f":"Data_2!J105","v":0},{"$f":"Data_4!G105","v":0},{"$f":"Data_4!J105","v":0},{"$f":"Data_4!M105","v":0},{"$f":"Data_4!P105","v":0},null,null,{"$f":"Data_1!J105","v":"University of Sheffield"},{"$f":"Data_2!M105","v":0},{"$f":"Data_4!S105","v":0}]
[{"$f":"Data_1!G106","v":3511},{"$f":"Data_2!G106","v":0},{"$f":"Data_2!J106","v":0},{"$f":"Data_4!G106","v":0},{"$f":"Data_4!J106","v":0},{"$f":"Data_4!M106","v":0},{"$f":"Data_4!P106","v":0},null,null,{"$f":"Data_1!J106","v":"University of Warwick"},{"$f":"Data_2!M106","v":0},{"$f":"Data_4!S106","v":0}]
[{"$f":"Data_1!G107","v":3511},{"$f":"Data_2!G107","v":0},{"$f":"Data_2!J107","v":0},{"$f":"Data_4!G107","v":0},{"$f":"Data_4!J107","v":0},{"$f":"Data_4!M107","v":0},{"$f":"Data_4!P107","v":0},null,null,{"$f":"Data_1!J107","v":"University of Warwick"},{"$f":"Data_2!M107","v":0},{"$f":"Data_4!S107","v":0}]
[{"$f":"Data_1!G108","v":3511},{"$f":"Data_2!G108","v":0},{"$f":"Data_2!J108","v":0},{"$f":"Data_4!G108","v":0},{"$f":"Data_4!J108","v":0},{"$f":"Data_4!M108","v":0},{"$f":"Data_4!P108","v":0},null,null,{"$f":"Data_1!J108","v":"University of Warwick"},{"$f":"Data_2!M108","v":0},{"$f":"Data_4!S108","v":0}]
[{"$f":"Data_1!G109","v":3512},{"$f":"Data_2!G109","v":0},{"$f":"Data_2!J109","v":0},{"$f":"Data_4!G109","v":0},{"$f":"Data_4!J109","v":0},{"$f":"Data_4!M109","v":0},{"$f":"Data_4!P109","v":0},null,null,{"$f":"Data_1!J109","v":"University of Warwick"},{"$f":"Data_2!M109","v":0},{"$f":"Data_4!S109","v":0}]
[{"$f":"Data_1!G110","v":3513},{"$f":"Data_2!G110","v":0},{"$f":"Data_2!J110","v":0},{"$f":"Data_4!G110","v":0},{"$f":"Data_4!J110","v":0},{"$f":"Data_4!M110","v":0},{"$f":"Data_4!P110","v":0},null,null,{"$f":"Data_1!J110","v":"University of Warwick"},{"$f":"Data_2!M110","v":0},{"$f":"Data_4!S110","v":0}]
[{"$f":"Data_1!G111","v":3514},{"$f":"Data_2!G111","v":0},{"$f":"Data_2!J111","v":0},{"$f":"Data_4!G111","v":0},{"$f":"Data_4!J111","v":0},{"$f":"Data_4!M111","v":0},{"$f":"Data_4!P111","v":0},null,null,{"$f":"Data_1!J111","v":"University of Warwick"},{"$f":"Data_2!M111","v":0},{"$f":"Data_4!S111","v":0}]
[{"$f":"Data_1!G112","v":3515},{"$f":"Data_2!G112","v":0},{"$f":"Data_2!J112","v":0},{"$f":"Data_4!G112","v":0},{"$f":"Data_4!J112","v":0},{"$f":"Data_4!M112","v":0},{"$f":"Data_4!P112","v":0},null,null,{"$f":"Data_1!J112","v":"University of Sheffield"},{"$f":"Data_2!M112","v":0},{"$f":"Data_4!S112","v":0}]
[{"$f":"Data_1!G113","v":3515},{"$f":"Data_2!G113","v":0},{"$f":"Data_2!J113","v":0},{"$f":"Data_4!G113","v":0},{"$f":"Data_4!J113","v":0},{"$f":"Data_4!M113","v":0},{"$f":"Data_4!P113","v":0},null,null,{"$f":"Data_1!J113","v":"University of Sheffield"},{"$f":"Data_2!M113","v":0},{"$f":"Data_4!S113","v":0}]
[{"$f":"Data_1!G114","v":3515},{"$f":"Data_2!G114","v":0},{"$f":"Data_2!J114","v":0},{"$f":"Data_4!G114","v":0},{"$f":"Data_4!J114","v":0},{"$f":"Data_4!M114","v":0},{"$f":"Data_4!P114","v":0},null,null,{"$f":"Data_1!J114","v":"University of Sheffield"},{"$f":"Data_2!M114","v":0},{"$f":"Data_4!S114","v":0}]
[{"$f":"Data_1!G115","v":3516},{"$f":"Data_2!G115","v":0},{"$f":"Data_2!J115","v":0},{"$f":"Data_4!G115","v":0},{"$f":"Data_4!J115","v":0},{"$f":"Data_4!M115","v":0},{"$f":"Data_4!P115","v":0},null,null,{"$f":"Data_1!J115","v":"University of Warwick"},{"$f":"Data_2!M115","v":0},{"$f":"Data_4!S115","v":0}]
[{"$f":"Data_1!G116","v":3516},{"$f":"Data_2!G116","v":0},{"$f":"Data_2!J116","v":0},{"$f":"Data_4!G116","v":0},{"$f":"Data_4!J116","v":0},{"$f":"Data_4!M116","v":0},{"$f":"Data_4!P116","v":0},null,null,{"$f":"Data_1!J116","v":"University of Warwick"},{"$f":"Data_2!M116","v":0},{"$f":"Data_4!S116","v":0}]
[{"$f":"Data_1!G117","v":3516},{"$f":"Data_2!G117","v":0},{"$f":"Data_2!J117","v":0},{"$f":"Data_4!G117","v":0},{"$f":"Data_4!J117","v":0},{"$f":"Data_4!M117","v":0},{"$f":"Data_4!P117","v":0},null,null,{"$f":"Data_1!J117","v":"University of Warwick"},{"$f":"Data_2!M117","v":0},{"$f":"Data_4!S117","v":0}]
[{"$f":"Data_1!G118","v":3517},{"$f":"Data_2!G118","v":0},{"$f":"Data_2!J118","v":0},{"$f":"Data_4!G118","v":0},{"$f":"Data_4!J118","v":0},{"$f":"Data_4!M118","v":0},{"$f":"Data_4!P118","v":0},null,null,{"$f":"Data_1!J118","v":"University of Sheffield"},{"$f":"Data_2!M118","v":0},{"$f":"Data_4!S118","v":0}]
[{"$f":"Data_1!G119","v":3518},{"$f":"Data_2!G119","v":0},{"$f":"Data_2!J119","v":0},{"$f":"Data_4!G119","v":0},{"$f":"Data_4!J119","v":0},{"$f":"Data_4!M119","v":0},{"$f":"Data_4!P119","v":0},null,null,{"$f":"Data_1!J119","v":"University of Warwick"},{"$f":"Data_2!M119","v":0},{"$f":"Data_4!S119","v":0}]
[{"$f":"Data_1!G120","v":3521},{"$f":"Data_2!G120","v":0},{"$f":"Data_2!J120","v":0},{"$f":"Data_4!G120","v":0},{"$f":"Data_4!J120","v":0},{"$f":"Data_4!M120","v":0},{"$f":"Data_4!P120","v":0},null,null,{"$f":"Data_1!J120","v":"University of Warwick"},{"$f":"Data_2!M120","v":0},{"$f":"Data_4!S120","v":0}]
[{"$f":"Data_1!G121","v":3521},{"$f":"Data_2!G121","v":0},{"$f":"Data_2!J121","v":0},{"$f":"Data_4!G121","v":0},{"$f":"Data_4!J121","v":0},{"$f":"Data_4!M121","v":0},{"$f":"Data_4!P121","v":0},null,null,{"$f":"Data_1!J121","v":"University of Warwick"},{"$f":"Data_2!M121","v":0},{"$f":"Data_4!S121","v":0}]
[{"$f":"Data_1!G122","v":3522},{"$f":"Data_2!G122","v":0},{"$f":"Data_2!J122","v":0},{"$f":"Data_4!G122","v":0},{"$f":"Data_4!J122","v":0},{"$f":"Data_4!M122","v":0},{"$f":"Data_4!P122","v":0},null,null,{"$f":"Data_1!J122","v":"University of Warwick"},{"$f":"Data_2!M122","v":0},{"$f":"Data_4!S122","v":0}]
[{"$f":"Data_1!G123","v":3522},{"$f":"Data_2!G123","v":0},{"$f":"Data_2!J123","v":0},{"$f":"Data_4!G123","v":0},{"$f":"Data_4!J123","v":0},{"$f":"Data_4!M123","v":0},{"$f":"Data_4!P123","v":0},null,null,{"$f":"Data_1!J123","v":"University of Warwick"},{"$f":"Data_2!M123","v":0},{"$f":"Data_4!S123","v":0}]
[{"$f":"Data_1!G124","v":3522},{"$f":"Data_2!G124","v":0},{"$f":"Data_2!J124","v":0},{"$f":"Data_4!G124","v":0},{"$f":"Data_4!J124","v":0},{"$f":"Data_4!M124","v":0},{"$f":"Data_4!P124","v":0},null,null,{"$f":"Data_1!J124","v":"University of Warwick"},{"$f":"Data_2!M124","v":0},{"$f":"Data_4!S124","v":0}]
[{"$f":"Data_1!G125","v":3523},{"$f":"Data_2!G125","v":0},{"$f":"Data_2!J125","v":0},{"$f":"Data_4!G125","v":0},{"$f":"Data_4!J125","v":0},{"$f":"Data_4!M125","v":0},{"$f":"Data_4!P125","v":0},null,null,{"$f":"Data_1!J125","v":"University of Warwick"},{"$f":"Data_2!M125","v":0},{"$f":"Data_4!S125","v":0}]
[{"$f":"Data_1!G126","v":3524},{"$f":"Data_2!G126","v":0},{"$f":"Data_2!J126","v":0},{"$f":"Data_4!G126","v":0},{"$f":"Data_4!J126","v":0},{"$f":"Data_4!M126","v":0},{"$f":"Data_4!P126","v":0},null,null,{"$f":"Data_1!J126","v":"University of Warwick"},{"$f":"Data_2!M126","v":0},{"$f":"Data_4!S126","v":0}]
[{"$f":"Data_1!G127","v":3524},{"$f":"Data_2!G127","v":0},{"$f":"Data_2!J127","v":0},{"$f":"Data_4!G127","v":0},{"$f":"Data_4!J127","v":0},{"$f":"Data_4!M127","v":0},{"$f":"Data_4!P127","v":0},null,null,{"$f":"Data_1!J127","v":"University of Warwick"},{"$f":"Data_2!M127","v":0},{"$f":"Data_4!S127","v":0}]
[{"$f":"Data_1!G128","v":3525},{"$f":"Data_2!G128","v":0},{"$f":"Data_2!J128","v":0},{"$f":"Data_4!G128","v":0},{"$f":"Data_4!J128","v":0},{"$f":"Data_4!M128","v":0},{"$f":"Data_4!P128","v":0},null,null,{"$f":"Data_1!J128","v":"University of Warwick"},{"$f":"Data_2!M128","v":0},{"$f":"Data_4!S128","v":0}]
[{"$f":"Data_1!G129","v":3525},{"$f":"Data_2!G129","v":0},{"$f":"Data_2!J129","v":0},{"$f":"Data_4!G129","v":0},{"$f":"Data_4!J129","v":0},{"$f":"Data_4!M129","v":0},{"$f":"Data_4!P129","v":0},null,null,{"$f":"Data_1!J129","v":"University of Warwick"},{"$f":"Data_2!M129","v":0},{"$f":"Data_4!S129","v":0}]
[{"$f":"Data_1!G130","v":3525},{"$f":"Data_2!G130","v":0},{"$f":"Data_2!J130","v":0},{"$f":"Data_4!G130","v":0},{"$f":"Data_4!J130","v":0},{"$f":"Data_4!M130","v":0},{"$f":"Data_4!P130","v":0},null,null,{"$f":"Data_1!J130","v":"University of Warwick"},{"$f":"Data_2!M130","v":0},{"$f":"Data_4!S130","v":0}]
[{"$f":"Data_1!G131","v":3525},{"$f":"Data_2!G131","v":0},{"$f":"Data_2!J131","v":0},{"$f":"Data_4!G131","v":0},{"$f":"Data_4!J131","v":0},{"$f":"Data_4!M131","v":0},{"$f":"Data_4!P131","v":0},null,null,{"$f":"Data_1!J131","v":"University of Warwick"},{"$f":"Data_2!M131","v":0},{"$f":"Data_4!S131","v":0}]
[{"$f":"Data_1!G132","v":3526},{"$f":"Data_2!G132","v":0},{"$f":"Data_2!J132","v":0},{"$f":"Data_4!G132","v":0},{"$f":"Data_4!J132","v":0},{"$f":"Data_4!M132","v":0},{"$f":"Data_4!P132","v":0},null,null,{"$f":"Data_1!J132","v":"Oxbridge-A combined Club of University of Oxford and University of Cambridge"},{"$f":"Data_2!M132","v":0},{"$f":"Data_4!S132","v":0}]
[{"$f":"Data_1!G133","v":3526},{"$f":"Data_2!G133","v":0},{"$f":"Data_2!J133","v":0},{"$f":"Data_4!G133","v":0},{"$f":"Data_4!J133","v":0},{"$f":"Data_4!M133","v":0},{"$f":"Data_4!P133","v":0},null,null,{"$f":"Data_1!J133","v":"Oxbridge-A combined Club of University of Oxford and University of Cambridge"},{"$f":"Data_2!M133","v":0},{"$f":"Data_4!S133","v":0}]
[{"$f":"Data_1!G134","v":3528},{"$f":"Data_2!G134","v":0},{"$f":"Data_2!J134","v":0},{"$f":"Data_4!G134","v":0},{"$f":"Data_4!J134","v":0},{"$f":"Data_4!M134","v":0},{"$f":"Data_4!P134","v":0},null,null,{"$f":"Data_1!J134","v":"Oxbridge-A combined Club of University of Oxford and University of Cambridge"},{"$f":"Data_2!M134","v":0},{"$f":"Data_4!S134","v":0}]
[{"$f":"Data_1!G135","v":3528},{"$f":"Data_2!G135","v":0},{"$f":"Data_2!J135","v":0},{"$f":"Data_4!G135","v":0},{"$f":"Data_4!J135","v":0},{"$f":"Data_4!M135","v":0},{"$f":"Data_4!P135","v":0},null,null,{"$f":"Data_1!J135","v":"Oxbridge-A combined Club of University of Oxford and University of Cambridge"},{"$f":"Data_2!M135","v":0},{"$f":"Data_4!S135","v":0}]
[{"$f":"Data_1!G136","v":3529},{"$f":"Data_2!G136","v":0},{"$f":"Data_2!J136","v":0},{"$f":"Data_4!G136","v":0},{"$f":"Data_4!J136","v":0},{"$f":"Data_4!M136","v":0},{"$f":"Data_4!P136","v":0},null,null,{"$f":"Data_1!J136","v":"Oxbridge-A combined Club of University of Oxford and University of Cambridge"},{"$f":"Data_2!M136","v":0},{"$f":"Data_4!S136","v":0}]
[{"$f":"Data_1!G137","v":3529},{"$f":"Data_2!G137","v":0},{"$f":"Data_2!J137","v":0},{"$f":"Data_4!G137","v":0},{"$f":"Data_4!J137","v":0},{"$f":"Data_4!M137","v":0},{"$f":"Data_4!P137","v":0},null,null,{"$f":"Data_1!J137","v":"Oxbridge-A combined Club of University of Oxford and University of Cambridge"},{"$f":"Data_2!M137","v":0},{"$f":"Data_4!S137","v":0}]
[{"$f":"Data_1!G138","v":3532},{"$f":"Data_2!G138","v":0},{"$f":"Data_2!J138","v":0},{"$f":"Data_4!G138","v":0},{"$f":"Data_4!J138","v":0},{"$f":"Data_4!M138","v":0},{"$f":"Data_4!P138","v":0},null,null,{"$f":"Data_1!J138","v":"University of Nottingham"},{"$f":"Data_2!M138","v":0},{"$f":"Data_4!S138","v":0}]
[{"$f":"Data_1!G139","v":3532},{"$f":"Data_2!G139","v":0},{"$f":"Data_2!J139","v":0},{"$f":"Data_4!G139","v":0},{"$f":"Data_4!J139","v":0},{"$f":"Data_4!M139","v":0},{"$f":"Data_4!P139","v":0},null,null,{"$f":"Data_1!J139","v":"University of Nottingham"},{"$f":"Data_2!M139","v":0},{"$f":"Data_4!S139","v":0}]
[{"$f":"Data_1!G140","v":3533},{"$f":"Data_2!G140","v":0},{"$f":"Data_2!J140","v":0},{"$f":"Data_4!G140","v":0},{"$f":"Data_4!J140","v":0},{"$f":"Data_4!M140","v":0},{"$f":"Data_4!P140","v":0},null,null,{"$f":"Data_1!J140","v":"University of Nottingham"},{"$f":"Data_2!M140","v":0},{"$f":"Data_4!S140","v":0}]
[{"$f":"Data_1!G141","v":3533},{"$f":"Data_2!G141","v":0},{"$f":"Data_2!J141","v":0},{"$f":"Data_4!G141","v":0},{"$f":"Data_4!J141","v":0},{"$f":"Data_4!M141","v":0},{"$f":"Data_4!P141","v":0},null,null,{"$f":"Data_1!J141","v":"University of Nottingham"},{"$f":"Data_2!M141","v":0},{"$f":"Data_4!S141","v":0}]
[{"$f":"Data_1!G142","v":3534},{"$f":"Data_2!G142","v":0},{"$f":"Data_2!J142","v":0},{"$f":"Data_4!G142","v":0},{"$f":"Data_4!J142","v":0},{"$f":"Data_4!M142","v":0},{"$f":"Data_4!P142","v":0},null,null,{"$f":"Data_1!J142","v":"University of Nottingham"},{"$f":"Data_2!M142","v":0},{"$f":"Data_4!S142","v":0}]
[{"$f":"Data_1!G143","v":3534},{"$f":"Data_2!G143","v":0},{"$f":"Data_2!J143","v":0},{"$f":"Data_4!G143","v":0},{"$f":"Data_4!J143","v":0},{"$f":"Data_4!M143","v":0},{"$f":"Data_4!P143","v":0},null,null,{"$f":"Data_1!J143","v":"University of Nottingham"},{"$f":"Data_2!M143","v":0},{"$f":"Data_4!S143","v":0}]
[{"$f":"Data_1!G144","v":3535},{"$f":"Data_2!G144","v":0},{"$f":"Data_2!J144","v":0},{"$f":"Data_4!G144","v":0},{"$f":"Data_4!J144","v":0},{"$f":"Data_4!M144","v":0},{"$f":"Data_4!P144","v":0},null,null,{"$f":"Data_1!J144","v":"University of Nottingham"},{"$f":"Data_2!M144","v":0},{"$f":"Data_4!S144","v":0}]
[{"$f":"Data_1!G145","v":3535},{"$f":"Data_2!G145","v":0},{"$f":"Data_2!J145","v":0},{"$f":"Data_4!G145","v":0},{"$f":"Data_4!J145","v":0},{"$f":"Data_4!M145","v":0},{"$f":"Data_4!P145","v":0},null,null,{"$f":"Data_1!J145","v":"University of Nottingham"},{"$f":"Data_2!M145","v":0},{"$f":"Data_4!S145","v":0}]
[{"$f":"Data_1!G146","v":3536},{"$f":"Data_2!G146","v":0},{"$f":"Data_2!J146","v":0},{"$f":"Data_4!G146","v":0},{"$f":"Data_4!J146","v":0},{"$f":"Data_4!M146","v":0},{"$f":"Data_4!P146","v":0},null,null,{"$f":"Data_1!J146","v":"University of Nottingham"},{"$f":"Data_2!M146","v":0},{"$f":"Data_4!S146","v":0}]
[{"$f":"Data_1!G147","v":3536},{"$f":"Data_2!G147","v":0},{"$f":"Data_2!J147","v":0},{"$f":"Data_4!G147","v":0},{"$f":"Data_4!J147","v":0},{"$f":"Data_4!M147","v":0},{"$f":"Data_4!P147","v":0},null,null,{"$f":"Data_1!J147","v":"University of Nottingham"},{"$f":"Data_2!M147","v":0},{"$f":"Data_4!S147","v":0}]
[{"$f":"Data_1!G148","v":3537},{"$f":"Data_2!G148","v":0},{"$f":"Data_2!J148","v":0},{"$f":"Data_4!G148","v":0},{"$f":"Data_4!J148","v":0},{"$f":"Data_4!M148","v":0},{"$f":"Data_4!P148","v":0},null,null,{"$f":"Data_1!J148","v":"University of Nottingham"},{"$f":"Data_2!M148","v":0},{"$f":"Data_4!S148","v":0}]
[{"$f":"Data_1!G149","v":3537},{"$f":"Data_2!G149","v":0},{"$f":"Data_2!J149","v":0},{"$f":"Data_4!G149","v":0},{"$f":"Data_4!J149","v":0},{"$f":"Data_4!M149","v":0},{"$f":"Data_4!P149","v":0},null,null,{"$f":"Data_1!J149","v":"University of Nottingham"},{"$f":"Data_2!M149","v":0},{"$f":"Data_4!S149","v":0}]
[{"$f":"Data_1!G150","v":3538},{"$f":"Data_2!G150","v":0},{"$f":"Data_2!J150","v":0},{"$f":"Data_4!G150","v":0},{"$f":"Data_4!J150","v":0},{"$f":"Data_4!M150","v":0},{"$f":"Data_4!P150","v":0},null,null,{"$f":"Data_1!J150","v":"University of Nottingham"},{"$f":"Data_2!M150","v":0},{"$f":"Data_4!S150","v":0}]
[{"$f":"Data_1!G151","v":3538},{"$f":"Data_2!G151","v":0},{"$f":"Data_2!J151","v":0},{"$f":"Data_4!G151","v":0},{"$f":"Data_4!J151","v":0},{"$f":"Data_4!M151","v":0},{"$f":"Data_4!P151","v":0},null,null,{"$f":"Data_1!J151","v":"University of Nottingham"},{"$f":"Data_2!M151","v":0},{"$f":"Data_4!S151","v":0}]
[{"$f":"Data_1!G152","v":3539},{"$f":"Data_2!G152","v":0},{"$f":"Data_2!J152","v":0},{"$f":"Data_4!G152","v":0},{"$f":"Data_4!J152","v":0},{"$f":"Data_4!M152","v":0},{"$f":"Data_4!P152","v":0},null,null,{"$f":"Data_1!J152","v":"University of Nottingham"},{"$f":"Data_2!M152","v":0},{"$f":"Data_4!S152","v":0}]
[{"$f":"Data_1!G153","v":3539},{"$f":"Data_2!G153","v":0},{"$f":"Data_2!J153","v":0},{"$f":"Data_4!G153","v":0},{"$f":"Data_4!J153","v":0},{"$f":"Data_4!M153","v":0},{"$f":"Data_4!P153","v":0},null,null,{"$f":"Data_1!J153","v":"University of Nottingham"},{"$f":"Data_2!M153","v":0},{"$f":"Data_4!S153","v":0}]
[{"$f":"Data_1!G154","v":3545},{"$f":"Data_2!G154","v":0},{"$f":"Data_2!J154","v":0},{"$f":"Data_4!G154","v":0},{"$f":"Data_4!J154","v":0},{"$f":"Data_4!M154","v":0},{"$f":"Data_4!P154","v":0},null,null,{"$f":"Data_1!J154","v":"University of Southampton"},{"$f":"Data_2!M154","v":0},{"$f":"Data_4!S154","v":0}]
[{"$f":"Data_1!G155","v":3545},{"$f":"Data_2!G155","v":0},{"$f":"Data_2!J155","v":0},{"$f":"Data_4!G155","v":0},{"$f":"Data_4!J155","v":0},{"$f":"Data_4!M155","v":0},{"$f":"Data_4!P155","v":0},null,null,{"$f":"Data_1!J155","v":"University of Southampton"},{"$f":"Data_2!M155","v":0},{"$f":"Data_4!S155","v":0}]
[{"$f":"Data_1!G156","v":3545},{"$f":"Data_2!G156","v":0},{"$f":"Data_2!J156","v":0},{"$f":"Data_4!G156","v":0},{"$f":"Data_4!J156","v":0},{"$f":"Data_4!M156","v":0},{"$f":"Data_4!P156","v":0},null,null,{"$f":"Data_1!J156","v":"University of Southampton"},{"$f":"Data_2!M156","v":0},{"$f":"Data_4!S156","v":0}]
[{"$f":"Data_1!G157","v":3547},{"$f":"Data_2!G157","v":0},{"$f":"Data_2!J157","v":0},{"$f":"Data_4!G157","v":0},{"$f":"Data_4!J157","v":0},{"$f":"Data_4!M157","v":0},{"$f":"Data_4!P157","v":0},null,null,{"$f":"Data_1!J157","v":"Bristol University"},{"$f":"Data_2!M157","v":0},{"$f":"Data_4!S157","v":0}]
[{"$f":"Data_1!G158","v":3547},{"$f":"Data_2!G158","v":0},{"$f":"Data_2!J158","v":0},{"$f":"Data_4!G158","v":0},{"$f":"Data_4!J158","v":0},{"$f":"Data_4!M158","v":0},{"$f":"Data_4!P158","v":0},null,null,{"$f":"Data_1!J158","v":"Bristol University"},{"$f":"Data_2!M158","v":0},{"$f":"Data_4!S158","v":0}]
[{"$f":"Data_1!G159","v":3547},{"$f":"Data_2!G159","v":0},{"$f":"Data_2!J159","v":0},{"$f":"Data_4!G159","v":0},{"$f":"Data_4!J159","v":0},{"$f":"Data_4!M159","v":0},{"$f":"Data_4!P159","v":0},null,null,{"$f":"Data_1!J159","v":"Bristol University"},{"$f":"Data_2!M159","v":0},{"$f":"Data_4!S159","v":0}]
[{"$f":"Data_1!G160","v":3548},{"$f":"Data_2!G160","v":0},{"$f":"Data_2!J160","v":0},{"$f":"Data_4!G160","v":0},{"$f":"Data_4!J160","v":0},{"$f":"Data_4!M160","v":0},{"$f":"Data_4!P160","v":0},null,null,{"$f":"Data_1!J160","v":"Bristol University"},{"$f":"Data_2!M160","v":0},{"$f":"Data_4!S160","v":0}]
[{"$f":"Data_1!G161","v":3548},{"$f":"Data_2!G161","v":0},{"$f":"Data_2!J161","v":0},{"$f":"Data_4!G161","v":0},{"$f":"Data_4!J161","v":0},{"$f":"Data_4!M161","v":0},{"$f":"Data_4!P161","v":0},null,null,{"$f":"Data_1!J161","v":"Bristol University"},{"$f":"Data_2!M161","v":0},{"$f":"Data_4!S161","v":0}]
[{"$f":"Data_1!G162","v":3548},{"$f":"Data_2!G162","v":0},{"$f":"Data_2!J162","v":0},{"$f":"Data_4!G162","v":0},{"$f":"Data_4!J162","v":0},{"$f":"Data_4!M162","v":0},{"$f":"Data_4!P162","v":0},null,null,{"$f":"Data_1!J162","v":"Bristol University"},{"$f":"Data_2!M162","v":0},{"$f":"Data_4!S162","v":0}]
[{"$f":"Data_1!G163","v":3549},{"$f":"Data_2!G163","v":0},{"$f":"Data_2!J163","v":0},{"$f":"Data_4!G163","v":0},{"$f":"Data_4!J163","v":0},{"$f":"Data_4!M163","v":0},{"$f":"Data_4!P163","v":0},null,null,{"$f":"Data_1!J163","v":"Bristol University"},{"$f":"Data_2!M163","v":0},{"$f":"Data_4!S163","v":0}]
[{"$f":"Data_1!G164","v":3549},{"$f":"Data_2!G164","v":0},{"$f":"Data_2!J164","v":0},{"$f":"Data_4!G164","v":0},{"$f":"Data_4!J164","v":0},{"$f":"Data_4!M164","v":0},{"$f":"Data_4!P164","v":0},null,null,{"$f":"Data_1!J164","v":"Bristol University"},{"$f":"Data_2!M164","v":0},{"$f":"Data_4!S164","v":0}]
[{"$f":"Data_1!G165","v":3549},{"$f":"Data_2!G165","v":0},{"$f":"Data_2!J165","v":0},{"$f":"Data_4!G165","v":0},{"$f":"Data_4!J165","v":0},{"$f":"Data_4!M165","v":0},{"$f":"Data_4!P165","v":0},null,null,{"$f":"Data_1!J165","v":"Bristol University"},{"$f":"Data_2!M165","v":0},{"$f":"Data_4!S165","v":0}]
[{"$f":"Data_1!G166","v":3550},{"$f":"Data_2!G166","v":0},{"$f":"Data_2!J166","v":0},{"$f":"Data_4!G166","v":0},{"$f":"Data_4!J166","v":0},{"$f":"Data_4!M166","v":0},{"$f":"Data_4!P166","v":0},null,null,{"$f":"Data_1!J166","v":"Bristol University"},{"$f":"Data_2!M166","v":0},{"$f":"Data_4!S166","v":0}]
[{"$f":"Data_1!G167","v":3550},{"$f":"Data_2!G167","v":0},{"$f":"Data_2!J167","v":0},{"$f":"Data_4!G167","v":0},{"$f":"Data_4!J167","v":0},{"$f":"Data_4!M167","v":0},{"$f":"Data_4!P167","v":0},null,null,{"$f":"Data_1!J167","v":"Bristol University"},{"$f":"Data_2!M167","v":0},{"$f":"Data_4!S167","v":0}]
[{"$f":"Data_1!G168","v":3551},{"$f":"Data_2!G168","v":0},{"$f":"Data_2!J168","v":0},{"$f":"Data_4!G168","v":0},{"$f":"Data_4!J168","v":0},{"$f":"Data_4!M168","v":0},{"$f":"Data_4!P168","v":0},null,null,{"$f":"Data_1!J168","v":"Bristol University"},{"$f":"Data_2!M168","v":0},{"$f":"Data_4!S168","v":0}]
[{"$f":"Data_1!G169","v":3552},{"$f":"Data_2!G169","v":0},{"$f":"Data_2!J169","v":0},{"$f":"Data_4!G169","v":0},{"$f":"Data_4!J169","v":0},{"$f":"Data_4!M169","v":0},{"$f":"Data_4!P169","v":0},null,null,{"$f":"Data_1!J169","v":"Bristol University"},{"$f":"Data_2!M169","v":0},{"$f":"Data_4!S169","v":0}]
[{"$f":"Data_1!G170","v":3552},{"$f":"Data_2!G170","v":0},{"$f":"Data_2!J170","v":0},{"$f":"Data_4!G170","v":0},{"$f":"Data_4!J170","v":0},{"$f":"Data_4!M170","v":0},{"$f":"Data_4!P170","v":0},null,null,{"$f":"Data_1!J170","v":"Bristol University"},{"$f":"Data_2!M170","v":0},{"$f":"Data_4!S170","v":0}]
[{"$f":"Data_1!G171","v":3553},{"$f":"Data_2!G171","v":0},{"$f":"Data_2!J171","v":0},{"$f":"Data_4!G171","v":0},{"$f":"Data_4!J171","v":0},{"$f":"Data_4!M171","v":0},{"$f":"Data_4!P171","v":0},null,null,{"$f":"Data_1!J171","v":"Bristol University"},{"$f":"Data_2!M171","v":0},{"$f":"Data_4!S171","v":0}]
[{"$f":"Data_1!G172","v":3553},{"$f":"Data_2!G172","v":0},{"$f":"Data_2!J172","v":0},{"$f":"Data_4!G172","v":0},{"$f":"Data_4!J172","v":0},{"$f":"Data_4!M172","v":0},{"$f":"Data_4!P172","v":0},null,null,{"$f":"Data_1!J172","v":"Bristol University"},{"$f":"Data_2!M172","v":0},{"$f":"Data_4!S172","v":0}]
[{"$f":"Data_1!G173","v":3554},{"$f":"Data_2!G173","v":0},{"$f":"Data_2!J173","v":0},{"$f":"Data_4!G173","v":0},{"$f":"Data_4!J173","v":0},{"$f":"Data_4!M173","v":0},{"$f":"Data_4!P173","v":0},null,null,{"$f":"Data_1!J173","v":"Bristol University"},{"$f":"Data_2!M173","v":0},{"$f":"Data_4!S173","v":0}]
[{"$f":"Data_1!G174","v":3555},{"$f":"Data_2!G174","v":0},{"$f":"Data_2!J174","v":0},{"$f":"Data_4!G174","v":0},{"$f":"Data_4!J174","v":0},{"$f":"Data_4!M174","v":0},{"$f":"Data_4!P174","v":0},null,null,{"$f":"Data_1!J174","v":"Bristol University"},{"$f":"Data_2!M174","v":0},{"$f":"Data_4!S174","v":0}]
[{"$f":"Data_1!G175","v":3555},{"$f":"Data_2!G175","v":0},{"$f":"Data_2!J175","v":0},{"$f":"Data_4!G175","v":0},{"$f":"Data_4!J175","v":0},{"$f":"Data_4!M175","v":0},{"$f":"Data_4!P175","v":0},null,null,{"$f":"Data_1!J175","v":"Bristol University"},{"$f":"Data_2!M175","v":0},{"$f":"Data_4!S175","v":0}]
[{"$f":"Data_1!G176","v":3557},{"$f":"Data_2!G176","v":0},{"$f":"Data_2!J176","v":0},{"$f":"Data_4!G176","v":0},{"$f":"Data_4!J176","v":0},{"$f":"Data_4!M176","v":0},{"$f":"Data_4!P176","v":0},null,null,{"$f":"Data_1!J176","v":"Loughborough University"},{"$f":"Data_2!M176","v":0},{"$f":"Data_4!S176","v":0}]
[{"$f":"Data_1!G177","v":3557},{"$f":"Data_2!G177","v":0},{"$f":"Data_2!J177","v":0},{"$f":"Data_4!G177","v":0},{"$f":"Data_4!J177","v":0},{"$f":"Data_4!M177","v":0},{"$f":"Data_4!P177","v":0},null,null,{"$f":"Data_1!J177","v":"Loughborough University"},{"$f":"Data_2!M177","v":0},{"$f":"Data_4!S177","v":0}]
[{"$f":"Data_1!G178","v":3557},{"$f":"Data_2!G178","v":0},{"$f":"Data_2!J178","v":0},{"$f":"Data_4!G178","v":0},{"$f":"Data_4!J178","v":0},{"$f":"Data_4!M178","v":0},{"$f":"Data_4!P178","v":0},null,null,{"$f":"Data_1!J178","v":"Loughborough University"},{"$f":"Data_2!M178","v":0},{"$f":"Data_4!S178","v":0}]
[{"$f":"Data_1!G179","v":3558},{"$f":"Data_2!G179","v":0},{"$f":"Data_2!J179","v":0},{"$f":"Data_4!G179","v":0},{"$f":"Data_4!J179","v":0},{"$f":"Data_4!M179","v":0},{"$f":"Data_4!P179","v":0},null,null,{"$f":"Data_1!J179","v":"Loughborough University"},{"$f":"Data_2!M179","v":0},{"$f":"Data_4!S179","v":0}]
[{"$f":"Data_1!G180","v":3558},{"$f":"Data_2!G180","v":0},{"$f":"Data_2!J180","v":0},{"$f":"Data_4!G180","v":0},{"$f":"Data_4!J180","v":0},{"$f":"Data_4!M180","v":0},{"$f":"Data_4!P180","v":0},null,null,{"$f":"Data_1!J180","v":"Loughborough University"},{"$f":"Data_2!M180","v":0},{"$f":"Data_4!S180","v":0}]
[{"$f":"Data_1!G181","v":3558},{"$f":"Data_2!G181","v":0},{"$f":"Data_2!J181","v":0},{"$f":"Data_4!G181","v":0},{"$f":"Data_4!J181","v":0},{"$f":"Data_4!M181","v":0},{"$f":"Data_4!P181","v":0},null,null,{"$f":"Data_1!J181","v":"Loughborough University"},{"$f":"Data_2!M181","v":0},{"$f":"Data_4!S181","v":0}]
[{"$f":"Data_1!G182","v":3558},{"$f":"Data_2!G182","v":0},{"$f":"Data_2!J182","v":0},{"$f":"Data_4!G182","v":0},{"$f":"Data_4!J182","v":0},{"$f":"Data_4!M182","v":0},{"$f":"Data_4!P182","v":0},null,null,{"$f":"Data_1!J182","v":"Loughborough University"},{"$f":"Data_2!M182","v":0},{"$f":"Data_4!S182","v":0}]
[{"$f":"Data_1!G183","v":3559},{"$f":"Data_2!G183","v":0},{"$f":"Data_2!J183","v":0},{"$f":"Data_4!G183","v":0},{"$f":"Data_4!J183","v":0},{"$f":"Data_4!M183","v":0},{"$f":"Data_4!P183","v":0},null,null,{"$f":"Data_1!J183","v":"Loughborough University"},{"$f":"Data_2!M183","v":0},{"$f":"Data_4!S183","v":0}]
[{"$f":"Data_1!G184","v":3559},{"$f":"Data_2!G184","v":0},{"$f":"Data_2!J184","v":0},{"$f":"Data_4!G184","v":0},{"$f":"Data_4!J184","v":0},{"$f":"Data_4!M184","v":0},{"$f":"Data_4!P184","v":0},null,null,{"$f":"Data_1!J184","v":"Loughborough University"},{"$f":"Data_2!M184","v":0},{"$f":"Data_4!S184","v":0}]
[{"$f":"Data_1!G185","v":3562},{"$f":"Data_2!G185","v":0},{"$f":"Data_2!J185","v":0},{"$f":"Data_4!G185","v":0},{"$f":"Data_4!J185","v":0},{"$f":"Data_4!M185","v":0},{"$f":"Data_4!P185","v":0},null,null,{"$f":"Data_1!J185","v":"Loughborough University"},{"$f":"Data_2!M185","v":0},{"$f":"Data_4!S185","v":0}]
[{"$f":"Data_1!G186","v":3562},{"$f":"Data_2!G186","v":0},{"$f":"Data_2!J186","v":0},{"$f":"Data_4!G186","v":0},{"$f":"Data_4!J186","v":0},{"$f":"Data_4!M186","v":0},{"$f":"Data_4!P186","v":0},null,null,{"$f":"Data_1!J186","v":"Loughborough University"},{"$f":"Data_2!M186","v":0},{"$f":"Data_4!S186","v":0}]
[{"$f":"Data_1!G187","v":3563},{"$f":"Data_2!G187","v":0},{"$f":"Data_2!J187","v":0},{"$f":"Data_4!G187","v":0},{"$f":"Data_4!J187","v":0},{"$f":"Data_4!M187","v":0},{"$f":"Data_4!P187","v":0},null,null,{"$f":"Data_1!J187","v":"Loughborough University"},{"$f":"Data_2!M187","v":0},{"$f":"Data_4!S187","v":0}]
[{"$f":"Data_1!G188","v":3563},{"$f":"Data_2!G188","v":0},{"$f":"Data_2!J188","v":0},{"$f":"Data_4!G188","v":0},{"$f":"Data_4!J188","v":0},{"$f":"Data_4!M188","v":0},{"$f":"Data_4!P188","v":0},null,null,{"$f":"Data_1!J188","v":"Loughborough University"},{"$f":"Data_2!M188","v":0},{"$f":"Data_4!S188","v":0}]
[{"$f":"Data_1!G189","v":3563},{"$f":"Data_2!G189","v":0},{"$f":"Data_2!J189","v":0},{"$f":"Data_4!G189","v":0},{"$f":"Data_4!J189","v":0},{"$f":"Data_4!M189","v":0},{"$f":"Data_4!P189","v":0},null,null,{"$f":"Data_1!J189","v":"Loughborough University"},{"$f":"Data_2!M189","v":0},{"$f":"Data_4!S189","v":0}]
[{"$f":"Data_1!G190","v":3566},{"$f":"Data_2!G190","v":0},{"$f":"Data_2!J190","v":0},{"$f":"Data_4!G190","v":0},{"$f":"Data_4!J190","v":0},{"$f":"Data_4!M190","v":0},{"$f":"Data_4!P190","v":0},null,null,{"$f":"Data_1!J190","v":"Loughborough University"},{"$f":"Data_2!M190","v":0},{"$f":"Data_4!S190","v":0}]
[{"$f":"Data_1!G191","v":3566},{"$f":"Data_2!G191","v":0},{"$f":"Data_2!J191","v":0},{"$f":"Data_4!G191","v":0},{"$f":"Data_4!J191","v":0},{"$f":"Data_4!M191","v":0},{"$f":"Data_4!P191","v":0},null,null,{"$f":"Data_1!J191","v":"Loughborough University"},{"$f":"Data_2!M191","v":0},{"$f":"Data_4!S191","v":0}]
[{"$f":"Data_1!G192","v":3566},{"$f":"Data_2!G192","v":0},{"$f":"Data_2!J192","v":0},{"$f":"Data_4!G192","v":0},{"$f":"Data_4!J192","v":0},{"$f":"Data_4!M192","v":0},{"$f":"Data_4!P192","v":0},null,null,{"$f":"Data_1!J192","v":"Loughborough University"},{"$f":"Data_2!M192","v":0},{"$f":"Data_4!S192","v":0}]
[{"$f":"Data_1!G193","v":3566},{"$f":"Data_2!G193","v":0},{"$f":"Data_2!J193","v":0},{"$f":"Data_4!G193","v":0},{"$f":"Data_4!J193","v":0},{"$f":"Data_4!M193","v":0},{"$f":"Data_4!P193","v":0},null,null,{"$f":"Data_1!J193","v":"Loughborough University"},{"$f":"Data_2!M193","v":0},{"$f":"Data_4!S193","v":0}]
[{"$f":"Data_1!G194","v":3567},{"$f":"Data_2!G194","v":0},{"$f":"Data_2!J194","v":0},{"$f":"Data_4!G194","v":0},{"$f":"Data_4!J194","v":0},{"$f":"Data_4!M194","v":0},{"$f":"Data_4!P194","v":0},null,null,{"$f":"Data_1!J194","v":"Loughborough University"},{"$f":"Data_2!M194","v":0},{"$f":"Data_4!S194","v":0}]
[{"$f":"Data_1!G195","v":3567},{"$f":"Data_2!G195","v":0},{"$f":"Data_2!J195","v":0},{"$f":"Data_4!G195","v":0},{"$f":"Data_4!J195","v":0},{"$f":"Data_4!M195","v":0},{"$f":"Data_4!P195","v":0},null,null,{"$f":"Data_1!J195","v":"Loughborough University"},{"$f":"Data_2!M195","v":0},{"$f":"Data_4!S195","v":0}]
[{"$f":"Data_1!G196","v":3567},{"$f":"Data_2!G196","v":0},{"$f":"Data_2!J196","v":0},{"$f":"Data_4!G196","v":0},{"$f":"Data_4!J196","v":0},{"$f":"Data_4!M196","v":0},{"$f":"Data_4!P196","v":0},null,null,{"$f":"Data_1!J196","v":"Loughborough University"},{"$f":"Data_2!M196","v":0},{"$f":"Data_4!S196","v":0}]
[{"$f":"Data_1!G197","v":3570},{"$f":"Data_2!G197","v":0},{"$f":"Data_2!J197","v":0},{"$f":"Data_4!G197","v":0},{"$f":"Data_4!J197","v":0},{"$f":"Data_4!M197","v":0},{"$f":"Data_4!P197","v":0},null,null,{"$f":"Data_1!J197","v":"Bristol University"},{"$f":"Data_2!M197","v":0},{"$f":"Data_4!S197","v":0}]
[{"$f":"Data_1!G198","v":3570},{"$f":"Data_2!G198","v":0},{"$f":"Data_2!J198","v":0},{"$f":"Data_4!G198","v":0},{"$f":"Data_4!J198","v":0},{"$f":"Data_4!M198","v":0},{"$f":"Data_4!P198","v":0},null,null,{"$f":"Data_1!J198","v":"Bristol University"},{"$f":"Data_2!M198","v":0},{"$f":"Data_4!S198","v":0}]
[{"$f":"Data_1!G199","v":3571},{"$f":"Data_2!G199","v":0},{"$f":"Data_2!J199","v":0},{"$f":"Data_4!G199","v":0},{"$f":"Data_4!J199","v":0},{"$f":"Data_4!M199","v":0},{"$f":"Data_4!P199","v":0},null,null,{"$f":"Data_1!J199","v":"Bristol University"},{"$f":"Data_2!M199","v":0},{"$f":"Data_4!S199","v":0}]
[{"$f":"Data_1!G200","v":3571},{"$f":"Data_2!G200","v":0},{"$f":"Data_2!J200","v":0},{"$f":"Data_4!G200","v":0},{"$f":"Data_4!J200","v":0},{"$f":"Data_4!M200","v":0},{"$f":"Data_4!P200","v":0},null,null,{"$f":"Data_1!J200","v":"Bristol University"},{"$f":"Data_2!M200","v":0},{"$f":"Data_4!S200","v":0}]
[{"$f":"Data_1!G201","v":3571},{"$f":"Data_2!G201","v":0},{"$f":"Data_2!J201","v":0},{"$f":"Data_4!G201","v":0},{"$f":"Data_4!J201","v":0},{"$f":"Data_4!M201","v":0},{"$f":"Data_4!P201","v":0},null,null,{"$f":"Data_1!J201","v":"Bristol University"},{"$f":"Data_2!M201","v":0},{"$f":"Data_4!S201","v":0}]
[{"$f":"Data_1!G202","v":3574},{"$f":"Data_2!G202","v":0},{"$f":"Data_2!J202","v":0},{"$f":"Data_4!G202","v":0},{"$f":"Data_4!J202","v":0},{"$f":"Data_4!M202","v":0},{"$f":"Data_4!P202","v":0},null,null,{"$f":"Data_1!J202","v":"Loughborough University"},{"$f":"Data_2!M202","v":0},{"$f":"Data_4!S202","v":0}]
[{"$f":"Data_1!G203","v":3574},{"$f":"Data_2!G203","v":0},{"$f":"Data_2!J203","v":0},{"$f":"Data_4!G203","v":0},{"$f":"Data_4!J203","v":0},{"$f":"Data_4!M203","v":0},{"$f":"Data_4!P203","v":0},null,null,{"$f":"Data_1!J203","v":"Loughborough University"},{"$f":"Data_2!M203","v":0},{"$f":"Data_4!S203","v":0}]
[{"$f":"Data_1!G204","v":3574},{"$f":"Data_2!G204","v":0},{"$f":"Data_2!J204","v":0},{"$f":"Data_4!G204","v":0},{"$f":"Data_4!J204","v":0},{"$f":"Data_4!M204","v":0},{"$f":"Data_4!P204","v":0},null,null,{"$f":"Data_1!J204","v":"Loughborough University"},{"$f":"Data_2!M204","v":0},{"$f":"Data_4!S204","v":0}]
[{"$f":"Data_1!G205","v":3576},{"$f":"Data_2!G205","v":0},{"$f":"Data_2!J205","v":0},{"$f":"Data_4!G205","v":0},{"$f":"Data_4!J205","v":0},{"$f":"Data_4!M205","v":0},{"$f":"Data_4!P205","v":0},null,null,{"$f":"Data_1!J205","v":"University of Surrey"},{"$f":"Data_2!M205","v":0},{"$f":"Data_4!S205","v":0}]
[{"$f":"Data_1!G206","v":3576},{"$f":"Data_2!G206","v":0},{"$f":"Data_2!J206","v":0},{"$f":"Data_4!G206","v":0},{"$f":"Data_4!J206","v":0},{"$f":"Data_4!M206","v":0},{"$f":"Data_4!P206","v":0},null,null,{"$f":"Data_1!J206","v":"University of Surrey"},{"$f":"Data_2!M206","v":0},{"$f":"Data_4!S206","v":0}]
[{"$f":"Data_1!G207","v":3576},{"$f":"Data_2!G207","v":0},{"$f":"Data_2!J207","v":0},{"$f":"Data_4!G207","v":0},{"$f":"Data_4!J207","v":0},{"$f":"Data_4!M207","v":0},{"$f":"Data_4!P207","v":0},null,null,{"$f":"Data_1!J207","v":"University of Surrey"},{"$f":"Data_2!M207","v":0},{"$f":"Data_4!S207","v":0}]
[{"$f":"Data_1!G208","v":3576},{"$f":"Data_2!G208","v":0},{"$f":"Data_2!J208","v":0},{"$f":"Data_4!G208","v":0},{"$f":"Data_4!J208","v":0},{"$f":"Data_4!M208","v":0},{"$f":"Data_4!P208","v":0},null,null,{"$f":"Data_1!J208","v":"University of Surrey"},{"$f":"Data_2!M208","v":0},{"$f":"Data_4!S208","v":0}]
[{"$f":"Data_1!G209","v":3576},{"$f":"Data_2!G209","v":0},{"$f":"Data_2!J209","v":0},{"$f":"Data_4!G209","v":0},{"$f":"Data_4!J209","v":0},{"$f":"Data_4!M209","v":0},{"$f":"Data_4!P209","v":0},null,null,{"$f":"Data_1!J209","v":"University of Surrey"},{"$f":"Data_2!M209","v":0},{"$f":"Data_4!S209","v":0}]
[{"$f":"Data_1!G210","v":3576},{"$f":"Data_2!G210","v":0},{"$f":"Data_2!J210","v":0},{"$f":"Data_4!G210","v":0},{"$f":"Data_4!J210","v":0},{"$f":"Data_4!M210","v":0},{"$f":"Data_4!P210","v":0},null,null,{"$f":"Data_1!J210","v":"University of Surrey"},{"$f":"Data_2!M210","v":0},{"$f":"Data_4!S210","v":0}]
[{"$f":"Data_1!G211","v":3577},{"$f":"Data_2!G211","v":0},{"$f":"Data_2!J211","v":0},{"$f":"Data_4!G211","v":0},{"$f":"Data_4!J211","v":0},{"$f":"Data_4!M211","v":0},{"$f":"Data_4!P211","v":0},null,null,{"$f":"Data_1!J211","v":"Teeside University"},{"$f":"Data_2!M211","v":0},{"$f":"Data_4!S211","v":0}]
[{"$f":"Data_1!G212","v":3577},{"$f":"Data_2!G212","v":0},{"$f":"Data_2!J212","v":0},{"$f":"Data_4!G212","v":0},{"$f":"Data_4!J212","v":0},{"$f":"Data_4!M212","v":0},{"$f":"Data_4!P212","v":0},null,null,{"$f":"Data_1!J212","v":"Teeside University"},{"$f":"Data_2!M212","v":0},{"$f":"Data_4!S212","v":0}]
[{"$f":"Data_1!G213","v":3577},{"$f":"Data_2!G213","v":0},{"$f":"Data_2!J213","v":0},{"$f":"Data_4!G213","v":0},{"$f":"Data_4!J213","v":0},{"$f":"Data_4!M213","v":0},{"$f":"Data_4!P213","v":0},null,null,{"$f":"Data_1!J213","v":"Teeside University"},{"$f":"Data_2!M213","v":0},{"$f":"Data_4!S213","v":0}]
[{"$f":"Data_1!G214","v":3577},{"$f":"Data_2!G214","v":0},{"$f":"Data_2!J214","v":0},{"$f":"Data_4!G214","v":0},{"$f":"Data_4!J214","v":0},{"$f":"Data_4!M214","v":0},{"$f":"Data_4!P214","v":0},null,null,{"$f":"Data_1!J214","v":"Teeside University"},{"$f":"Data_2!M214","v":0},{"$f":"Data_4!S214","v":0}]
[{"$f":"Data_1!G215","v":3577},{"$f":"Data_2!G215","v":0},{"$f":"Data_2!J215","v":0},{"$f":"Data_4!G215","v":0},{"$f":"Data_4!J215","v":0},{"$f":"Data_4!M215","v":0},{"$f":"Data_4!P215","v":0},null,null,{"$f":"Data_1!J215","v":"Teeside University"},{"$f":"Data_2!M215","v":0},{"$f":"Data_4!S215","v":0}]
[{"$f":"Data_1!G216","v":3577},{"$f":"Data_2!G216","v":0},{"$f":"Data_2!J216","v":0},{"$f":"Data_4!G216","v":0},{"$f":"Data_4!J216","v":0},{"$f":"Data_4!M216","v":0},{"$f":"Data_4!P216","v":0},null,null,{"$f":"Data_1!J216","v":"Teeside University"},{"$f":"Data_2!M216","v":0},{"$f":"Data_4!S216","v":0}]
[{"$f":"Data_1!G217","v":3578},{"$f":"Data_2!G217","v":0},{"$f":"Data_2!J217","v":0},{"$f":"Data_4!G217","v":0},{"$f":"Data_4!J217","v":0},{"$f":"Data_4!M217","v":0},{"$f":"Data_4!P217","v":0},null,null,{"$f":"Data_1!J217","v":"University of Plymouth"},{"$f":"Data_2!M217","v":0},{"$f":"Data_4!S217","v":0}]
[{"$f":"Data_1!G218","v":3578},{"$f":"Data_2!G218","v":0},{"$f":"Data_2!J218","v":0},{"$f":"Data_4!G218","v":0},{"$f":"Data_4!J218","v":0},{"$f":"Data_4!M218","v":0},{"$f":"Data_4!P218","v":0},null,null,{"$f":"Data_1!J218","v":"University of Plymouth"},{"$f":"Data_2!M218","v":0},{"$f":"Data_4!S218","v":0}]
[{"$f":"Data_1!G219","v":3578},{"$f":"Data_2!G219","v":0},{"$f":"Data_2!J219","v":0},{"$f":"Data_4!G219","v":0},{"$f":"Data_4!J219","v":0},{"$f":"Data_4!M219","v":0},{"$f":"Data_4!P219","v":0},null,null,{"$f":"Data_1!J219","v":"University of Plymouth"},{"$f":"Data_2!M219","v":0},{"$f":"Data_4!S219","v":0}]
[{"$f":"Data_1!G220","v":3578},{"$f":"Data_2!G220","v":0},{"$f":"Data_2!J220","v":0},{"$f":"Data_4!G220","v":0},{"$f":"Data_4!J220","v":0},{"$f":"Data_4!M220","v":0},{"$f":"Data_4!P220","v":0},null,null,{"$f":"Data_1!J220","v":"University of Plymouth"},{"$f":"Data_2!M220","v":0},{"$f":"Data_4!S220","v":0}]
[{"$f":"Data_1!G221","v":3578},{"$f":"Data_2!G221","v":0},{"$f":"Data_2!J221","v":0},{"$f":"Data_4!G221","v":0},{"$f":"Data_4!J221","v":0},{"$f":"Data_4!M221","v":0},{"$f":"Data_4!P221","v":0},null,null,{"$f":"Data_1!J221","v":"University of Plymouth"},{"$f":"Data_2!M221","v":0},{"$f":"Data_4!S221","v":0}]
[{"$f":"Data_1!G222","v":3578},{"$f":"Data_2!G222","v":0},{"$f":"Data_2!J222","v":0},{"$f":"Data_4!G222","v":0},{"$f":"Data_4!J222","v":0},{"$f":"Data_4!M222","v":0},{"$f":"Data_4!P222","v":0},null,null,{"$f":"Data_1!J222","v":"University of Plymouth"},{"$f":"Data_2!M222","v":0},{"$f":"Data_4!S222","v":0}]
[{"$f":"Data_1!G223","v":3579},{"$f":"Data_2!G223","v":0},{"$f":"Data_2!J223","v":0},{"$f":"Data_4!G223","v":0},{"$f":"Data_4!J223","v":0},{"$f":"Data_4!M223","v":0},{"$f":"Data_4!P223","v":0},null,null,{"$f":"Data_1!J223","v":"University of Plymouth"},{"$f":"Data_2!M223","v":0},{"$f":"Data_4!S223","v":0}]
[{"$f":"Data_1!G224","v":3579},{"$f":"Data_2!G224","v":0},{"$f":"Data_2!J224","v":0},{"$f":"Data_4!G224","v":0},{"$f":"Data_4!J224","v":0},{"$f":"Data_4!M224","v":0},{"$f":"Data_4!P224","v":0},null,null,{"$f":"Data_1!J224","v":"University of Plymouth"},{"$f":"Data_2!M224","v":0},{"$f":"Data_4!S224","v":0}]
[{"$f":"Data_1!G225","v":3579},{"$f":"Data_2!G225","v":0},{"$f":"Data_2!J225","v":0},{"$f":"Data_4!G225","v":0},{"$f":"Data_4!J225","v":0},{"$f":"Data_4!M225","v":0},{"$f":"Data_4!P225","v":0},null,null,{"$f":"Data_1!J225","v":"University of Plymouth"},{"$f":"Data_2!M225","v":0},{"$f":"Data_4!S225","v":0}]
[{"$f":"Data_1!G226","v":3579},{"$f":"Data_2!G226","v":0},{"$f":"Data_2!J226","v":0},{"$f":"Data_4!G226","v":0},{"$f":"Data_4!J226","v":0},{"$f":"Data_4!M226","v":0},{"$f":"Data_4!P226","v":0},null,null,{"$f":"Data_1!J226","v":"University of Plymouth"},{"$f":"Data_2!M226","v":0},{"$f":"Data_4!S226","v":0}]
[{"$f":"Data_1!G227","v":3580},{"$f":"Data_2!G227","v":0},{"$f":"Data_2!J227","v":0},{"$f":"Data_4!G227","v":0},{"$f":"Data_4!J227","v":0},{"$f":"Data_4!M227","v":0},{"$f":"Data_4!P227","v":0},null,null,{"$f":"Data_1!J227","v":"University of Plymouth"},{"$f":"Data_2!M227","v":0},{"$f":"Data_4!S227","v":0}]
[{"$f":"Data_1!G228","v":3581},{"$f":"Data_2!G228","v":0},{"$f":"Data_2!J228","v":0},{"$f":"Data_4!G228","v":0},{"$f":"Data_4!J228","v":0},{"$f":"Data_4!M228","v":0},{"$f":"Data_4!P228","v":0},null,null,{"$f":"Data_1!J228","v":"University of Plymouth"},{"$f":"Data_2!M228","v":0},{"$f":"Data_4!S228","v":0}]
[{"$f":"Data_1!G229","v":3581},{"$f":"Data_2!G229","v":0},{"$f":"Data_2!J229","v":0},{"$f":"Data_4!G229","v":0},{"$f":"Data_4!J229","v":0},{"$f":"Data_4!M229","v":0},{"$f":"Data_4!P229","v":0},null,null,{"$f":"Data_1!J229","v":"University of Plymouth"},{"$f":"Data_2!M229","v":0},{"$f":"Data_4!S229","v":0}]
[{"$f":"Data_1!G230","v":3591},{"$f":"Data_2!G230","v":0},{"$f":"Data_2!J230","v":0},{"$f":"Data_4!G230","v":0},{"$f":"Data_4!J230","v":0},{"$f":"Data_4!M230","v":0},{"$f":"Data_4!P230","v":0},null,null,{"$f":"Data_1!J230","v":"University of Plymouth"},{"$f":"Data_2!M230","v":0},{"$f":"Data_4!S230","v":0}]
[{"$f":"Data_1!G231","v":3591},{"$f":"Data_2!G231","v":0},{"$f":"Data_2!J231","v":0},{"$f":"Data_4!G231","v":0},{"$f":"Data_4!J231","v":0},{"$f":"Data_4!M231","v":0},{"$f":"Data_4!P231","v":0},null,null,{"$f":"Data_1!J231","v":"University of Plymouth"},{"$f":"Data_2!M231","v":0},{"$f":"Data_4!S231","v":0}]
[{"$f":"Data_1!G232","v":3592},{"$f":"Data_2!G232","v":0},{"$f":"Data_2!J232","v":0},{"$f":"Data_4!G232","v":0},{"$f":"Data_4!J232","v":0},{"$f":"Data_4!M232","v":0},{"$f":"Data_4!P232","v":0},null,null,{"$f":"Data_1!J232","v":"University of Plymouth"},{"$f":"Data_2!M232","v":0},{"$f":"Data_4!S232","v":0}]
[{"$f":"Data_1!G233","v":3592},{"$f":"Data_2!G233","v":0},{"$f":"Data_2!J233","v":0},{"$f":"Data_4!G233","v":0},{"$f":"Data_4!J233","v":0},{"$f":"Data_4!M233","v":0},{"$f":"Data_4!P233","v":0},null,null,{"$f":"Data_1!J233","v":"University of Plymouth"},{"$f":"Data_2!M233","v":0},{"$f":"Data_4!S233","v":0}]
[{"$f":"Data_1!G234","v":3592},{"$f":"Data_2!G234","v":0},{"$f":"Data_2!J234","v":0},{"$f":"Data_4!G234","v":0},{"$f":"Data_4!J234","v":0},{"$f":"Data_4!M234","v":0},{"$f":"Data_4!P234","v":0},null,null,{"$f":"Data_1!J234","v":"University of Plymouth"},{"$f":"Data_2!M234","v":0},{"$f":"Data_4!S234","v":0}]
[{"$f":"Data_1!G235","v":3593},{"$f":"Data_2!G235","v":0},{"$f":"Data_2!J235","v":0},{"$f":"Data_4!G235","v":0},{"$f":"Data_4!J235","v":0},{"$f":"Data_4!M235","v":0},{"$f":"Data_4!P235","v":0},null,null,{"$f":"Data_1!J235","v":"University of Plymouth"},{"$f":"Data_2!M235","v":0},{"$f":"Data_4!S235","v":0}]
[{"$f":"Data_1!G236","v":3593},{"$f":"Data_2!G236","v":0},{"$f":"Data_2!J236","v":0},{"$f":"Data_4!G236","v":0},{"$f":"Data_4!J236","v":0},{"$f":"Data_4!M236","v":0},{"$f":"Data_4!P236","v":0},null,null,{"$f":"Data_1!J236","v":"University of Plymouth"},{"$f":"Data_2!M236","v":0},{"$f":"Data_4!S236","v":0}]
[{"$f":"Data_1!G237","v":3594},{"$f":"Data_2!G237","v":0},{"$f":"Data_2!J237","v":0},{"$f":"Data_4!G237","v":0},{"$f":"Data_4!J237","v":0},{"$f":"Data_4!M237","v":0},{"$f":"Data_4!P237","v":0},null,null,{"$f":"Data_1!J237","v":"University of Plymouth"},{"$f":"Data_2!M237","v":0},{"$f":"Data_4!S237","v":0}]
[{"$f":"Data_1!G238","v":3594},{"$f":"Data_2!G238","v":0},{"$f":"Data_2!J238","v":0},{"$f":"Data_4!G238","v":0},{"$f":"Data_4!J238","v":0},{"$f":"Data_4!M238","v":0},{"$f":"Data_4!P238","v":0},null,null,{"$f":"Data_1!J238","v":"University of Plymouth"},{"$f":"Data_2!M238","v":0},{"$f":"Data_4!S238","v":0}]
[{"$f":"Data_1!G239","v":3594},{"$f":"Data_2!G239","v":0},{"$f":"Data_2!J239","v":0},{"$f":"Data_4!G239","v":0},{"$f":"Data_4!J239","v":0},{"$f":"Data_4!M239","v":0},{"$f":"Data_4!P239","v":0},null,null,{"$f":"Data_1!J239","v":"University of Plymouth"},{"$f":"Data_2!M239","v":0},{"$f":"Data_4!S239","v":0}]
[{"$f":"Data_1!G240","v":3594},{"$f":"Data_2!G240","v":0},{"$f":"Data_2!J240","v":0},{"$f":"Data_4!G240","v":0},{"$f":"Data_4!J240","v":0},{"$f":"Data_4!M240","v":0},{"$f":"Data_4!P240","v":0},null,null,{"$f":"Data_1!J240","v":"University of Plymouth"},{"$f":"Data_2!M240","v":0},{"$f":"Data_4!S240","v":0}]
[{"$f":"Data_1!G241","v":3594},{"$f":"Data_2!G241","v":0},{"$f":"Data_2!J241","v":0},{"$f":"Data_4!G241","v":0},{"$f":"Data_4!J241","v":0},{"$f":"Data_4!M241","v":0},{"$f":"Data_4!P241","v":0},null,null,{"$f":"Data_1!J241","v":"University of Plymouth"},{"$f":"Data_2!M241","v":0},{"$f":"Data_4!S241","v":0}]
[{"$f":"Data_1!G242","v":3595},{"$f":"Data_2!G242","v":0},{"$f":"Data_2!J242","v":0},{"$f":"Data_4!G242","v":0},{"$f":"Data_4!J242","v":0},{"$f":"Data_4!M242","v":0},{"$f":"Data_4!P242","v":0},null,null,{"$f":"Data_1!J242","v":"University of Plymouth"},{"$f":"Data_2!M242","v":0},{"$f":"Data_4!S242","v":0}]
[{"$f":"Data_1!G243","v":3595},{"$f":"Data_2!G243","v":0},{"$f":"Data_2!J243","v":0},{"$f":"Data_4!G243","v":0},{"$f":"Data_4!J243","v":0},{"$f":"Data_4!M243","v":0},{"$f":"Data_4!P243","v":0},null,null,{"$f":"Data_1!J243","v":"University of Plymouth"},{"$f":"Data_2!M243","v":0},{"$f":"Data_4!S243","v":0}]
[{"$f":"Data_1!G244","v":3595},{"$f":"Data_2!G244","v":0},{"$f":"Data_2!J244","v":0},{"$f":"Data_4!G244","v":0},{"$f":"Data_4!J244","v":0},{"$f":"Data_4!M244","v":0},{"$f":"Data_4!P244","v":0},null,null,{"$f":"Data_1!J244","v":"University of Plymouth"},{"$f":"Data_2!M244","v":0},{"$f":"Data_4!S244","v":0}]
[{"$f":"Data_1!G245","v":3602},{"$f":"Data_2!G245","v":0},{"$f":"Data_2!J245","v":0},{"$f":"Data_4!G245","v":0},{"$f":"Data_4!J245","v":0},{"$f":"Data_4!M245","v":0},{"$f":"Data_4!P245","v":0},null,null,{"$f":"Data_1!J245","v":"University of Derby"},{"$f":"Data_2!M245","v":0},{"$f":"Data_4!S245","v":0}]
[{"$f":"Data_1!G246","v":3602},{"$f":"Data_2!G246","v":0},{"$f":"Data_2!J246","v":0},{"$f":"Data_4!G246","v":0},{"$f":"Data_4!J246","v":0},{"$f":"Data_4!M246","v":0},{"$f":"Data_4!P246","v":0},null,null,{"$f":"Data_1!J246","v":"University of Derby"},{"$f":"Data_2!M246","v":0},{"$f":"Data_4!S246","v":0}]
[{"$f":"Data_1!G247","v":3602},{"$f":"Data_2!G247","v":0},{"$f":"Data_2!J247","v":0},{"$f":"Data_4!G247","v":0},{"$f":"Data_4!J247","v":0},{"$f":"Data_4!M247","v":0},{"$f":"Data_4!P247","v":0},null,null,{"$f":"Data_1!J247","v":"University of Derby"},{"$f":"Data_2!M247","v":0},{"$f":"Data_4!S247","v":0}]
[{"$f":"Data_1!G248","v":3602},{"$f":"Data_2!G248","v":0},{"$f":"Data_2!J248","v":0},{"$f":"Data_4!G248","v":0},{"$f":"Data_4!J248","v":0},{"$f":"Data_4!M248","v":0},{"$f":"Data_4!P248","v":0},null,null,{"$f":"Data_1!J248","v":"University of Derby"},{"$f":"Data_2!M248","v":0},{"$f":"Data_4!S248","v":0}]
[{"$f":"Data_1!G249","v":3602},{"$f":"Data_2!G249","v":0},{"$f":"Data_2!J249","v":0},{"$f":"Data_4!G249","v":0},{"$f":"Data_4!J249","v":0},{"$f":"Data_4!M249","v":0},{"$f":"Data_4!P249","v":0},null,null,{"$f":"Data_1!J249","v":"University of Derby"},{"$f":"Data_2!M249","v":0},{"$f":"Data_4!S249","v":0}]
[{"$f":"Data_1!G250","v":3602},{"$f":"Data_2!G250","v":0},{"$f":"Data_2!J250","v":0},{"$f":"Data_4!G250","v":0},{"$f":"Data_4!J250","v":0},{"$f":"Data_4!M250","v":0},{"$f":"Data_4!P250","v":0},null,null,{"$f":"Data_1!J250","v":"University of Derby"},{"$f":"Data_2!M250","v":0},{"$f":"Data_4!S250","v":0}]
[{"$f":"Data_1!G251","v":3603},{"$f":"Data_2!G251","v":0},{"$f":"Data_2!J251","v":0},{"$f":"Data_4!G251","v":0},{"$f":"Data_4!J251","v":0},{"$f":"Data_4!M251","v":0},{"$f":"Data_4!P251","v":0},null,null,{"$f":"Data_1!J251","v":"Heanor"},{"$f":"Data_2!M251","v":0},{"$f":"Data_4!S251","v":0}]
[{"$f":"Data_1!G252","v":3603},{"$f":"Data_2!G252","v":0},{"$f":"Data_2!J252","v":0},{"$f":"Data_4!G252","v":0},{"$f":"Data_4!J252","v":0},{"$f":"Data_4!M252","v":0},{"$f":"Data_4!P252","v":0},null,null,{"$f":"Data_1!J252","v":"Heanor"},{"$f":"Data_2!M252","v":0},{"$f":"Data_4!S252","v":0}]
[{"$f":"Data_1!G253","v":3603},{"$f":"Data_2!G253","v":0},{"$f":"Data_2!J253","v":0},{"$f":"Data_4!G253","v":0},{"$f":"Data_4!J253","v":0},{"$f":"Data_4!M253","v":0},{"$f":"Data_4!P253","v":0},null,null,{"$f":"Data_1!J253","v":"Heanor"},{"$f":"Data_2!M253","v":0},{"$f":"Data_4!S253","v":0}]
[{"$f":"Data_1!G254","v":3603},{"$f":"Data_2!G254","v":0},{"$f":"Data_2!J254","v":0},{"$f":"Data_4!G254","v":0},{"$f":"Data_4!J254","v":0},{"$f":"Data_4!M254","v":0},{"$f":"Data_4!P254","v":0},null,null,{"$f":"Data_1!J254","v":"Heanor"},{"$f":"Data_2!M254","v":0},{"$f":"Data_4!S254","v":0}]
[{"$f":"Data_1!G255","v":3603},{"$f":"Data_2!G255","v":0},{"$f":"Data_2!J255","v":0},{"$f":"Data_4!G255","v":0},{"$f":"Data_4!J255","v":0},{"$f":"Data_4!M255","v":0},{"$f":"Data_4!P255","v":0},null,null,{"$f":"Data_1!J255","v":"Heanor"},{"$f":"Data_2!M255","v":0},{"$f":"Data_4!S255","v":0}]
[{"$f":"Data_1!G256","v":3603},{"$f":"Data_2!G256","v":0},{"$f":"Data_2!J256","v":0},{"$f":"Data_4!G256","v":0},{"$f":"Data_4!J256","v":0},{"$f":"Data_4!M256","v":0},{"$f":"Data_4!P256","v":0},null,null,{"$f":"Data_1!J256","v":"Heanor"},{"$f":"Data_2!M256","v":0},{"$f":"Data_4!S256","v":0}]
[{"$f":"Data_1!G257","v":3604},{"$f":"Data_2!G257","v":0},{"$f":"Data_2!J257","v":0},{"$f":"Data_4!G257","v":0},{"$f":"Data_4!J257","v":0},{"$f":"Data_4!M257","v":0},{"$f":"Data_4!P257","v":0},null,null,{"$f":"Data_1!J257","v":"Keynsham"},{"$f":"Data_2!M257","v":0},{"$f":"Data_4!S257","v":0}]
[{"$f":"Data_1!G258","v":3604},{"$f":"Data_2!G258","v":0},{"$f":"Data_2!J258","v":0},{"$f":"Data_4!G258","v":0},{"$f":"Data_4!J258","v":0},{"$f":"Data_4!M258","v":0},{"$f":"Data_4!P258","v":0},null,null,{"$f":"Data_1!J258","v":"Keynsham"},{"$f":"Data_2!M258","v":0},{"$f":"Data_4!S258","v":0}]
[{"$f":"Data_1!G259","v":3606},{"$f":"Data_2!G259","v":0},{"$f":"Data_2!J259","v":0},{"$f":"Data_4!G259","v":0},{"$f":"Data_4!J259","v":0},{"$f":"Data_4!M259","v":0},{"$f":"Data_4!P259","v":0},null,null,{"$f":"Data_1!J259","v":"University of Plymouth"},{"$f":"Data_2!M259","v":0},{"$f":"Data_4!S259","v":0}]
[{"$f":"Data_1!G260","v":3606},{"$f":"Data_2!G260","v":0},{"$f":"Data_2!J260","v":0},{"$f":"Data_4!G260","v":0},{"$f":"Data_4!J260","v":0},{"$f":"Data_4!M260","v":0},{"$f":"Data_4!P260","v":0},null,null,{"$f":"Data_1!J260","v":"University of Plymouth"},{"$f":"Data_2!M260","v":0},{"$f":"Data_4!S260","v":0}]
[{"$f":"Data_1!G261","v":3606},{"$f":"Data_2!G261","v":0},{"$f":"Data_2!J261","v":0},{"$f":"Data_4!G261","v":0},{"$f":"Data_4!J261","v":0},{"$f":"Data_4!M261","v":0},{"$f":"Data_4!P261","v":0},null,null,{"$f":"Data_1!J261","v":"University of Plymouth"},{"$f":"Data_2!M261","v":0},{"$f":"Data_4!S261","v":0}]
[{"$f":"Data_1!G262","v":3607},{"$f":"Data_2!G262","v":0},{"$f":"Data_2!J262","v":0},{"$f":"Data_4!G262","v":0},{"$f":"Data_4!J262","v":0},{"$f":"Data_4!M262","v":0},{"$f":"Data_4!P262","v":0},null,null,{"$f":"Data_1!J262","v":"University of Plymouth"},{"$f":"Data_2!M262","v":0},{"$f":"Data_4!S262","v":0}]
[{"$f":"Data_1!G263","v":3607},{"$f":"Data_2!G263","v":0},{"$f":"Data_2!J263","v":0},{"$f":"Data_4!G263","v":0},{"$f":"Data_4!J263","v":0},{"$f":"Data_4!M263","v":0},{"$f":"Data_4!P263","v":0},null,null,{"$f":"Data_1!J263","v":"University of Plymouth"},{"$f":"Data_2!M263","v":0},{"$f":"Data_4!S263","v":0}]
[{"$f":"Data_1!G264","v":3610},{"$f":"Data_2!G264","v":0},{"$f":"Data_2!J264","v":0},{"$f":"Data_4!G264","v":0},{"$f":"Data_4!J264","v":0},{"$f":"Data_4!M264","v":0},{"$f":"Data_4!P264","v":0},null,null,{"$f":"Data_1!J264","v":"UoB LSC"},{"$f":"Data_2!M264","v":0},{"$f":"Data_4!S264","v":0}]
[{"$f":"Data_1!G265","v":3610},{"$f":"Data_2!G265","v":0},{"$f":"Data_2!J265","v":0},{"$f":"Data_4!G265","v":0},{"$f":"Data_4!J265","v":0},{"$f":"Data_4!M265","v":0},{"$f":"Data_4!P265","v":0},null,null,{"$f":"Data_1!J265","v":"UoB LSC"},{"$f":"Data_2!M265","v":0},{"$f":"Data_4!S265","v":0}]
[{"$f":"Data_1!G266","v":3611},{"$f":"Data_2!G266","v":0},{"$f":"Data_2!J266","v":0},{"$f":"Data_4!G266","v":0},{"$f":"Data_4!J266","v":0},{"$f":"Data_4!M266","v":0},{"$f":"Data_4!P266","v":0},null,null,{"$f":"Data_1!J266","v":"UoB LSC"},{"$f":"Data_2!M266","v":0},{"$f":"Data_4!S266","v":0}]
[{"$f":"Data_1!G267","v":3611},{"$f":"Data_2!G267","v":0},{"$f":"Data_2!J267","v":0},{"$f":"Data_4!G267","v":0},{"$f":"Data_4!J267","v":0},{"$f":"Data_4!M267","v":0},{"$f":"Data_4!P267","v":0},null,null,{"$f":"Data_1!J267","v":"UoB LSC"},{"$f":"Data_2!M267","v":0},{"$f":"Data_4!S267","v":0}]
[{"$f":"Data_1!G268","v":3612},{"$f":"Data_2!G268","v":0},{"$f":"Data_2!J268","v":0},{"$f":"Data_4!G268","v":0},{"$f":"Data_4!J268","v":0},{"$f":"Data_4!M268","v":0},{"$f":"Data_4!P268","v":0},null,null,{"$f":"Data_1!J268","v":"UoB LSC"},{"$f":"Data_2!M268","v":0},{"$f":"Data_4!S268","v":0}]
[{"$f":"Data_1!G269","v":3612},{"$f":"Data_2!G269","v":0},{"$f":"Data_2!J269","v":0},{"$f":"Data_4!G269","v":0},{"$f":"Data_4!J269","v":0},{"$f":"Data_4!M269","v":0},{"$f":"Data_4!P269","v":0},null,null,{"$f":"Data_1!J269","v":"UoB LSC"},{"$f":"Data_2!M269","v":0},{"$f":"Data_4!S269","v":0}]
[{"$f":"Data_1!G270","v":3613},{"$f":"Data_2!G270","v":0},{"$f":"Data_2!J270","v":0},{"$f":"Data_4!G270","v":0},{"$f":"Data_4!J270","v":0},{"$f":"Data_4!M270","v":0},{"$f":"Data_4!P270","v":0},null,null,{"$f":"Data_1!J270","v":"UoB LSC"},{"$f":"Data_2!M270","v":0},{"$f":"Data_4!S270","v":0}]
[{"$f":"Data_1!G271","v":3613},{"$f":"Data_2!G271","v":0},{"$f":"Data_2!J271","v":0},{"$f":"Data_4!G271","v":0},{"$f":"Data_4!J271","v":0},{"$f":"Data_4!M271","v":0},{"$f":"Data_4!P271","v":0},null,null,{"$f":"Data_1!J271","v":"UoB LSC"},{"$f":"Data_2!M271","v":0},{"$f":"Data_4!S271","v":0}]
[{"$f":"Data_1!G272","v":3614},{"$f":"Data_2!G272","v":0},{"$f":"Data_2!J272","v":0},{"$f":"Data_4!G272","v":0},{"$f":"Data_4!J272","v":0},{"$f":"Data_4!M272","v":0},{"$f":"Data_4!P272","v":0},null,null,{"$f":"Data_1!J272","v":"UoB LSC"},{"$f":"Data_2!M272","v":0},{"$f":"Data_4!S272","v":0}]
[{"$f":"Data_1!G273","v":3614},{"$f":"Data_2!G273","v":0},{"$f":"Data_2!J273","v":0},{"$f":"Data_4!G273","v":0},{"$f":"Data_4!J273","v":0},{"$f":"Data_4!M273","v":0},{"$f":"Data_4!P273","v":0},null,null,{"$f":"Data_1!J273","v":"UoB LSC"},{"$f":"Data_2!M273","v":0},{"$f":"Data_4!S273","v":0}]
[{"$f":"Data_1!G274","v":3615},{"$f":"Data_2!G274","v":0},{"$f":"Data_2!J274","v":0},{"$f":"Data_4!G274","v":0},{"$f":"Data_4!J274","v":0},{"$f":"Data_4!M274","v":0},{"$f":"Data_4!P274","v":0},null,null,{"$f":"Data_1!J274","v":"UoB LSC"},{"$f":"Data_2!M274","v":0},{"$f":"Data_4!S274","v":0}]
[{"$f":"Data_1!G275","v":3615},{"$f":"Data_2!G275","v":0},{"$f":"Data_2!J275","v":0},{"$f":"Data_4!G275","v":0},{"$f":"Data_4!J275","v":0},{"$f":"Data_4!M275","v":0},{"$f":"Data_4!P275","v":0},null,null,{"$f":"Data_1!J275","v":"UoB LSC"},{"$f":"Data_2!M275","v":0},{"$f":"Data_4!S275","v":0}]
[{"$f":"Data_1!G276","v":3616},{"$f":"Data_2!G276","v":0},{"$f":"Data_2!J276","v":0},{"$f":"Data_4!G276","v":0},{"$f":"Data_4!J276","v":0},{"$f":"Data_4!M276","v":0},{"$f":"Data_4!P276","v":0},null,null,{"$f":"Data_1!J276","v":"UPSLC"},{"$f":"Data_2!M276","v":0},{"$f":"Data_4!S276","v":0}]
[{"$f":"Data_1!G277","v":3617},{"$f":"Data_2!G277","v":0},{"$f":"Data_2!J277","v":0},{"$f":"Data_4!G277","v":0},{"$f":"Data_4!J277","v":0},{"$f":"Data_4!M277","v":0},{"$f":"Data_4!P277","v":0},null,null,{"$f":"Data_1!J277","v":"UPSLC"},{"$f":"Data_2!M277","v":0},{"$f":"Data_4!S277","v":0}]
[{"$f":"Data_1!G278","v":3618},{"$f":"Data_2!G278","v":0},{"$f":"Data_2!J278","v":0},{"$f":"Data_4!G278","v":0},{"$f":"Data_4!J278","v":0},{"$f":"Data_4!M278","v":0},{"$f":"Data_4!P278","v":0},null,null,{"$f":"Data_1!J278","v":"UPSLC"},{"$f":"Data_2!M278","v":0},{"$f":"Data_4!S278","v":0}]
[{"$f":"Data_1!G279","v":3619},{"$f":"Data_2!G279","v":0},{"$f":"Data_2!J279","v":0},{"$f":"Data_4!G279","v":0},{"$f":"Data_4!J279","v":0},{"$f":"Data_4!M279","v":0},{"$f":"Data_4!P279","v":0},null,null,{"$f":"Data_1!J279","v":"UPSLC"},{"$f":"Data_2!M279","v":0},{"$f":"Data_4!S279","v":0}]
[{"$f":"Data_1!G280","v":3620},{"$f":"Data_2!G280","v":0},{"$f":"Data_2!J280","v":0},{"$f":"Data_4!G280","v":0},{"$f":"Data_4!J280","v":0},{"$f":"Data_4!M280","v":0},{"$f":"Data_4!P280","v":0},null,null,{"$f":"Data_1!J280","v":"UPSLC"},{"$f":"Data_2!M280","v":0},{"$f":"Data_4!S280","v":0}]
[{"$f":"Data_1!G281","v":3621},{"$f":"Data_2!G281","v":0},{"$f":"Data_2!J281","v":0},{"$f":"Data_4!G281","v":0},{"$f":"Data_4!J281","v":0},{"$f":"Data_4!M281","v":0},{"$f":"Data_4!P281","v":0},null,null,{"$f":"Data_1!J281","v":"UPSLC"},{"$f":"Data_2!M281","v":0},{"$f":"Data_4!S281","v":0}]
[{"$f":"Data_1!G282","v":3622},{"$f":"Data_2!G282","v":0},{"$f":"Data_2!J282","v":0},{"$f":"Data_4!G282","v":0},{"$f":"Data_4!J282","v":0},{"$f":"Data_4!M282","v":0},{"$f":"Data_4!P282","v":0},null,null,{"$f":"Data_1!J282","v":"UPSLC"},{"$f":"Data_2!M282","v":0},{"$f":"Data_4!S282","v":0}]
[{"$f":"Data_1!G283","v":3622},{"$f":"Data_2!G283","v":0},{"$f":"Data_2!J283","v":0},{"$f":"Data_4!G283","v":0},{"$f":"Data_4!J283","v":0},{"$f":"Data_4!M283","v":0},{"$f":"Data_4!P283","v":0},null,null,{"$f":"Data_1!J283","v":"UPSLC"},{"$f":"Data_2!M283","v":0},{"$f":"Data_4!S283","v":0}]
[{"$f":"Data_1!G284","v":3622},{"$f":"Data_2!G284","v":0},{"$f":"Data_2!J284","v":0},{"$f":"Data_4!G284","v":0},{"$f":"Data_4!J284","v":0},{"$f":"Data_4!M284","v":0},{"$f":"Data_4!P284","v":0},null,null,{"$f":"Data_1!J284","v":"UPSLC"},{"$f":"Data_2!M284","v":0},{"$f":"Data_4!S284","v":0}]
[{"$f":"Data_1!G285","v":3623},{"$f":"Data_2!G285","v":0},{"$f":"Data_2!J285","v":0},{"$f":"Data_4!G285","v":0},{"$f":"Data_4!J285","v":0},{"$f":"Data_4!M285","v":0},{"$f":"Data_4!P285","v":0},null,null,{"$f":"Data_1!J285","v":"UPSLC"},{"$f":"Data_2!M285","v":0},{"$f":"Data_4!S285","v":0}]
[{"$f":"Data_1!G286","v":3624},{"$f":"Data_2!G286","v":0},{"$f":"Data_2!J286","v":0},{"$f":"Data_4!G286","v":0},{"$f":"Data_4!J286","v":0},{"$f":"Data_4!M286","v":0},{"$f":"Data_4!P286","v":0},null,null,{"$f":"Data_1!J286","v":"UPSLC"},{"$f":"Data_2!M286","v":0},{"$f":"Data_4!S286","v":0}]
[{"$f":"Data_1!G287","v":3624},{"$f":"Data_2!G287","v":0},{"$f":"Data_2!J287","v":0},{"$f":"Data_4!G287","v":0},{"$f":"Data_4!J287","v":0},{"$f":"Data_4!M287","v":0},{"$f":"Data_4!P287","v":0},null,null,{"$f":"Data_1!J287","v":"UPSLC"},{"$f":"Data_2!M287","v":0},{"$f":"Data_4!S287","v":0}]
[{"$f":"Data_1!G288","v":3625},{"$f":"Data_2!G288","v":0},{"$f":"Data_2!J288","v":0},{"$f":"Data_4!G288","v":0},{"$f":"Data_4!J288","v":0},{"$f":"Data_4!M288","v":0},{"$f":"Data_4!P288","v":0},null,null,{"$f":"Data_1!J288","v":"UPSLC"},{"$f":"Data_2!M288","v":0},{"$f":"Data_4!S288","v":0}]
[{"$f":"Data_1!G289","v":3625},{"$f":"Data_2!G289","v":0},{"$f":"Data_2!J289","v":0},{"$f":"Data_4!G289","v":0},{"$f":"Data_4!J289","v":0},{"$f":"Data_4!M289","v":0},{"$f":"Data_4!P289","v":0},null,null,{"$f":"Data_1!J289","v":"UPSLC"},{"$f":"Data_2!M289","v":0},{"$f":"Data_4!S289","v":0}]
[{"$f":"Data_1!G290","v":3625},{"$f":"Data_2!G290","v":0},{"$f":"Data_2!J290","v":0},{"$f":"Data_4!G290","v":0},{"$f":"Data_4!J290","v":0},{"$f":"Data_4!M290","v":0},{"$f":"Data_4!P290","v":0},null,null,{"$f":"Data_1!J290","v":"UPSLC"},{"$f":"Data_2!M290","v":0},{"$f":"Data_4!S290","v":0}]
[{"$f":"Data_1!G291","v":3626},{"$f":"Data_2!G291","v":0},{"$f":"Data_2!J291","v":0},{"$f":"Data_4!G291","v":0},{"$f":"Data_4!J291","v":0},{"$f":"Data_4!M291","v":0},{"$f":"Data_4!P291","v":0},null,null,{"$f":"Data_1!J291","v":"UPSLC"},{"$f":"Data_2!M291","v":0},{"$f":"Data_4!S291","v":0}]
[{"$f":"Data_1!G292","v":3626},{"$f":"Data_2!G292","v":0},{"$f":"Data_2!J292","v":0},{"$f":"Data_4!G292","v":0},{"$f":"Data_4!J292","v":0},{"$f":"Data_4!M292","v":0},{"$f":"Data_4!P292","v":0},null,null,{"$f":"Data_1!J292","v":"UPSLC"},{"$f":"Data_2!M292","v":0},{"$f":"Data_4!S292","v":0}]
[{"$f":"Data_1!G293","v":3627},{"$f":"Data_2!G293","v":0},{"$f":"Data_2!J293","v":0},{"$f":"Data_4!G293","v":0},{"$f":"Data_4!J293","v":0},{"$f":"Data_4!M293","v":0},{"$f":"Data_4!P293","v":0},null,null,{"$f":"Data_1!J293","v":"UPSLC"},{"$f":"Data_2!M293","v":0},{"$f":"Data_4!S293","v":0}]
[{"$f":"Data_1!G294","v":3629},{"$f":"Data_2!G294","v":0},{"$f":"Data_2!J294","v":0},{"$f":"Data_4!G294","v":0},{"$f":"Data_4!J294","v":0},{"$f":"Data_4!M294","v":0},{"$f":"Data_4!P294","v":0},null,null,{"$f":"Data_1!J294","v":"Crawley Town"},{"$f":"Data_2!M294","v":0},{"$f":"Data_4!S294","v":0}]
[{"$f":"Data_1!G295","v":3629},{"$f":"Data_2!G295","v":0},{"$f":"Data_2!J295","v":0},{"$f":"Data_4!G295","v":0},{"$f":"Data_4!J295","v":0},{"$f":"Data_4!M295","v":0},{"$f":"Data_4!P295","v":0},null,null,{"$f":"Data_1!J295","v":"Crawley Town"},{"$f":"Data_2!M295","v":0},{"$f":"Data_4!S295","v":0}]
[{"$f":"Data_1!G296","v":3629},{"$f":"Data_2!G296","v":0},{"$f":"Data_2!J296","v":0},{"$f":"Data_4!G296","v":0},{"$f":"Data_4!J296","v":0},{"$f":"Data_4!M296","v":0},{"$f":"Data_4!P296","v":0},null,null,{"$f":"Data_1!J296","v":"Crawley Town"},{"$f":"Data_2!M296","v":0},{"$f":"Data_4!S296","v":0}]
[{"$f":"Data_1!G297","v":3630},{"$f":"Data_2!G297","v":0},{"$f":"Data_2!J297","v":0},{"$f":"Data_4!G297","v":0},{"$f":"Data_4!J297","v":0},{"$f":"Data_4!M297","v":0},{"$f":"Data_4!P297","v":0},null,null,{"$f":"Data_1!J297","v":"Crawley Town"},{"$f":"Data_2!M297","v":0},{"$f":"Data_4!S297","v":0}]
[{"$f":"Data_1!G298","v":3630},{"$f":"Data_2!G298","v":0},{"$f":"Data_2!J298","v":0},{"$f":"Data_4!G298","v":0},{"$f":"Data_4!J298","v":0},{"$f":"Data_4!M298","v":0},{"$f":"Data_4!P298","v":0},null,null,{"$f":"Data_1!J298","v":"Crawley Town"},{"$f":"Data_2!M298","v":0},{"$f":"Data_4!S298","v":0}]
[{"$f":"Data_1!G299","v":3630},{"$f":"Data_2!G299","v":0},{"$f":"Data_2!J299","v":0},{"$f":"Data_4!G299","v":0},{"$f":"Data_4!J299","v":0},{"$f":"Data_4!M299","v":0},{"$f":"Data_4!P299","v":0},null,null,{"$f":"Data_1!J299","v":"Crawley Town"},{"$f":"Data_2!M299","v":0},{"$f":"Data_4!S299","v":0}]
[{"$f":"Data_1!G300","v":3630},{"$f":"Data_2!G300","v":0},{"$f":"Data_2!J300","v":0},{"$f":"Data_4!G300","v":0},{"$f":"Data_4!J300","v":0},{"$f":"Data_4!M300","v":0},{"$f":"Data_4!P300","v":0},null,null,{"$f":"Data_1!J300","v":"Crawley Town"},{"$f":"Data_2!M300","v":0},{"$f":"Data_4!S300","v":0}]
[{"$f":"Data_1!G301","v":3630},{"$f":"Data_2!G301","v":0},{"$f":"Data_2!J301","v":0},{"$f":"Data_4!G301","v":0},{"$f":"Data_4!J301","v":0},{"$f":"Data_4!M301","v":0},{"$f":"Data_4!P301","v":0},null,null,{"$f":"Data_1!J301","v":"Crawley Town"},{"$f":"Data_2!M301","v":0},{"$f":"Data_4!S301","v":0}]
[{"$f":"Data_1!G302","v":3630},{"$f":"Data_2!G302","v":0},{"$f":"Data_2!J302","v":0},{"$f":"Data_4!G302","v":0},{"$f":"Data_4!J302","v":0},{"$f":"Data_4!M302","v":0},{"$f":"Data_4!P302","v":0},null,null,{"$f":"Data_1!J302","v":"Crawley Town"},{"$f":"Data_2!M302","v":0},{"$f":"Data_4!S302","v":0}]
[{"$f":"Data_1!G303","v":3631},{"$f":"Data_2!G303","v":0},{"$f":"Data_2!J303","v":0},{"$f":"Data_4!G303","v":0},{"$f":"Data_4!J303","v":0},{"$f":"Data_4!M303","v":0},{"$f":"Data_4!P303","v":0},null,null,{"$f":"Data_1!J303","v":"Loughborough University"},{"$f":"Data_2!M303","v":0},{"$f":"Data_4!S303","v":0}]
[{"$f":"Data_1!G304","v":3631},{"$f":"Data_2!G304","v":0},{"$f":"Data_2!J304","v":0},{"$f":"Data_4!G304","v":0},{"$f":"Data_4!J304","v":0},{"$f":"Data_4!M304","v":0},{"$f":"Data_4!P304","v":0},null,null,{"$f":"Data_1!J304","v":"Loughborough University"},{"$f":"Data_2!M304","v":0},{"$f":"Data_4!S304","v":0}]
[{"$f":"Data_1!G305","v":3631},{"$f":"Data_2!G305","v":0},{"$f":"Data_2!J305","v":0},{"$f":"Data_4!G305","v":0},{"$f":"Data_4!J305","v":0},{"$f":"Data_4!M305","v":0},{"$f":"Data_4!P305","v":0},null,null,{"$f":"Data_1!J305","v":"Loughborough University"},{"$f":"Data_2!M305","v":0},{"$f":"Data_4!S305","v":0}]
[{"$f":"Data_1!G306","v":3633},{"$f":"Data_2!G306","v":0},{"$f":"Data_2!J306","v":0},{"$f":"Data_4!G306","v":0},{"$f":"Data_4!J306","v":0},{"$f":"Data_4!M306","v":0},{"$f":"Data_4!P306","v":0},null,null,{"$f":"Data_1!J306","v":"Beeslack"},{"$f":"Data_2!M306","v":0},{"$f":"Data_4!S306","v":0}]
[{"$f":"Data_1!G307","v":3633},{"$f":"Data_2!G307","v":0},{"$f":"Data_2!J307","v":0},{"$f":"Data_4!G307","v":0},{"$f":"Data_4!J307","v":0},{"$f":"Data_4!M307","v":0},{"$f":"Data_4!P307","v":0},null,null,{"$f":"Data_1!J307","v":"Beeslack"},{"$f":"Data_2!M307","v":0},{"$f":"Data_4!S307","v":0}]
[{"$f":"Data_1!G308","v":3633},{"$f":"Data_2!G308","v":0},{"$f":"Data_2!J308","v":0},{"$f":"Data_4!G308","v":0},{"$f":"Data_4!J308","v":0},{"$f":"Data_4!M308","v":0},{"$f":"Data_4!P308","v":0},null,null,{"$f":"Data_1!J308","v":"Beeslack"},{"$f":"Data_2!M308","v":0},{"$f":"Data_4!S308","v":0}]
[{"$f":"Data_1!G309","v":3634},{"$f":"Data_2!G309","v":0},{"$f":"Data_2!J309","v":0},{"$f":"Data_4!G309","v":0},{"$f":"Data_4!J309","v":0},{"$f":"Data_4!M309","v":0},{"$f":"Data_4!P309","v":0},null,null,{"$f":"Data_1!J309","v":"University of Hertfordshire"},{"$f":"Data_2!M309","v":0},{"$f":"Data_4!S309","v":0}]
[{"$f":"Data_1!G310","v":3634},{"$f":"Data_2!G310","v":0},{"$f":"Data_2!J310","v":0},{"$f":"Data_4!G310","v":0},{"$f":"Data_4!J310","v":0},{"$f":"Data_4!M310","v":0},{"$f":"Data_4!P310","v":0},null,null,{"$f":"Data_1!J310","v":"University of Hertfordshire"},{"$f":"Data_2!M310","v":0},{"$f":"Data_4!S310","v":0}]
[{"$f":"Data_1!G311","v":3634},{"$f":"Data_2!G311","v":0},{"$f":"Data_2!J311","v":0},{"$f":"Data_4!G311","v":0},{"$f":"Data_4!J311","v":0},{"$f":"Data_4!M311","v":0},{"$f":"Data_4!P311","v":0},null,null,{"$f":"Data_1!J311","v":"University of Hertfordshire"},{"$f":"Data_2!M311","v":0},{"$f":"Data_4!S311","v":0}]
[{"$f":"Data_1!G312","v":0},{"$f":"Data_2!G312","v":0},{"$f":"Data_2!J312","v":0},{"$f":"Data_4!G312","v":0},{"$f":"Data_4!J312","v":0},{"$f":"Data_4!M312","v":0},{"$f":"Data_4!P312","v":0},null,null,{"$f":"Data_1!J312","v":0},{"$f":"Data_2!M312","v":0},{"$f":"Data_4!S312","v":0}]
[{"$f":"Data_1!G313","v":0},{"$f":"Data_2!G313","v":0},{"$f":"Data_2!J313","v":0},{"$f":"Data_4!G313","v":0},{"$f":"Data_4!J313","v":0},{"$f":"Data_4!M313","v":0},{"$f":"Data_4!P313","v":0},null,null,{"$f":"Data_1!J313","v":0},{"$f":"Data_2!M313","v":0},{"$f":"Data_4!S313","v":0}]
[{"$f":"Data_1!G314","v":0},{"$f":"Data_2!G314","v":0},{"$f":"Data_2!J314","v":0},{"$f":"Data_4!G314","v":0},{"$f":"Data_4!J314","v":0},{"$f":"Data_4!M314","v":0},{"$f":"Data_4!P314","v":0},null,null,{"$f":"Data_1!J314","v":0},{"$f":"Data_2!M314","v":0},{"$f":"Data_4!S314","v":0}]
[{"$f":"Data_1!G315","v":0},{"$f":"Data_2!G315","v":0},{"$f":"Data_2!J315","v":0},{"$f":"Data_4!G315","v":0},{"$f":"Data_4!J315","v":0},{"$f":"Data_4!M315","v":0},{"$f":"Data_4!P315","v":0},null,null,{"$f":"Data_1!J315","v":0},{"$f":"Data_2!M315","v":0},{"$f":"Data_4!S315","v":0}]
[{"$f":"Data_1!G316","v":0},{"$f":"Data_2!G316","v":0},{"$f":"Data_2!J316","v":0},{"$f":"Data_4!G316","v":0},{"$f":"Data_4!J316","v":0},{"$f":"Data_4!M316","v":0},{"$f":"Data_4!P316","v":0},null,null,{"$f":"Data_1!J316","v":0},{"$f":"Data_2!M316","v":0},{"$f":"Data_4!S316","v":0}]
[{"$f":"Data_1!G317","v":0},{"$f":"Data_2!G317","v":0},{"$f":"Data_2!J317","v":0},{"$f":"Data_4!G317","v":0},{"$f":"Data_4!J317","v":0},{"$f":"Data_4!M317","v":0},{"$f":"Data_4!P317","v":0},null,null,{"$f":"Data_1!J317","v":0},{"$f":"Data_2!M317","v":0},{"$f":"Data_4!S317","v":0}]
[{"$f":"Data_1!G318","v":0},{"$f":"Data_2!G318","v":0},{"$f":"Data_2!J318","v":0},{"$f":"Data_4!G318","v":0},{"$f":"Data_4!J318","v":0},{"$f":"Data_4!M318","v":0},{"$f":"Data_4!P318","v":0},null,null,{"$f":"Data_1!J318","v":0},{"$f":"Data_2!M318","v":0},{"$f":"Data_4!S318","v":0}]
[{"$f":"Data_1!G319","v":0},{"$f":"Data_2!G319","v":0},{"$f":"Data_2!J319","v":0},{"$f":"Data_4!G319","v":0},{"$f":"Data_4!J319","v":0},{"$f":"Data_4!M319","v":0},{"$f":"Data_4!P319","v":0},null,null,{"$f":"Data_1!J319","v":0},{"$f":"Data_2!M319","v":0},{"$f":"Data_4!S319","v":0}]
[{"$f":"Data_1!G320","v":0},{"$f":"Data_2!G320","v":0},{"$f":"Data_2!J320","v":0},{"$f":"Data_4!G320","v":0},{"$f":"Data_4!J320","v":0},{"$f":"Data_4!M320","v":0},{"$f":"Data_4!P320","v":0},null,null,{"$f":"Data_1!J320","v":0},{"$f":"Data_2!M320","v":0},{"$f":"Data_4!S320","v":0}]
[{"$f":"Data_1!G321","v":0},{"$f":"Data_2!G321","v":0},{"$f":"Data_2!J321","v":0},{"$f":"Data_4!G321","v":0},{"$f":"Data_4!J321","v":0},{"$f":"Data_4!M321","v":0},{"$f":"Data_4!P321","v":0},null,null,{"$f":"Data_1!J321","v":0},{"$f":"Data_2!M321","v":0},{"$f":"Data_4!S321","v":0}]
[{"$f":"Data_1!G322","v":0},{"$f":"Data_2!G322","v":0},{"$f":"Data_2!J322","v":0},{"$f":"Data_4!G322","v":0},{"$f":"Data_4!J322","v":0},{"$f":"Data_4!M322","v":0},{"$f":"Data_4!P322","v":0},null,null,{"$f":"Data_1!J322","v":0},{"$f":"Data_2!M322","v":0},{"$f":"Data_4!S322","v":0}]
[{"$f":"Data_1!G323","v":0},{"$f":"Data_2!G323","v":0},{"$f":"Data_2!J323","v":0},{"$f":"Data_4!G323","v":0},{"$f":"Data_4!J323","v":0},{"$f":"Data_4!M323","v":0},{"$f":"Data_4!P323","v":0},null,null,{"$f":"Data_1!J323","v":0},{"$f":"Data_2!M323","v":0},{"$f":"Data_4!S323","v":0}]
[{"$f":"Data_1!G324","v":0},{"$f":"Data_2!G324","v":0},{"$f":"Data_2!J324","v":0},{"$f":"Data_4!G324","v":0},{"$f":"Data_4!J324","v":0},{"$f":"Data_4!M324","v":0},{"$f":"Data_4!P324","v":0},null,null,{"$f":"Data_1!J324","v":0},{"$f":"Data_2!M324","v":0},{"$f":"Data_4!S324","v":0}]
[{"$f":"Data_1!G325","v":0},{"$f":"Data_2!G325","v":0},{"$f":"Data_2!J325","v":0},{"$f":"Data_4!G325","v":0},{"$f":"Data_4!J325","v":0},{"$f":"Data_4!M325","v":0},{"$f":"Data_4!P325","v":0},null,null,{"$f":"Data_1!J325","v":0},{"$f":"Data_2!M325","v":0},{"$f":"Data_4!S325","v":0}]
[{"$f":"Data_1!G326","v":0},{"$f":"Data_2!G326","v":0},{"$f":"Data_2!J326","v":0},{"$f":"Data_4!G326","v":0},{"$f":"Data_4!J326","v":0},{"$f":"Data_4!M326","v":0},{"$f":"Data_4!P326","v":0},null,null,{"$f":"Data_1!J326","v":0},{"$f":"Data_2!M326","v":0},{"$f":"Data_4!S326","v":0}]
[{"$f":"Data_1!G327","v":0},{"$f":"Data_2!G327","v":0},{"$f":"Data_2!J327","v":0},{"$f":"Data_4!G327","v":0},{"$f":"Data_4!J327","v":0},{"$f":"Data_4!M327","v":0},{"$f":"Data_4!P327","v":0},null,null,{"$f":"Data_1!J327","v":0},{"$f":"Data_2!M327","v":0},{"$f":"Data_4!S327","v":0}]
[{"$f":"Data_1!G328","v":0},{"$f":"Data_2!G328","v":0},{"$f":"Data_2!J328","v":0},{"$f":"Data_4!G328","v":0},{"$f":"Data_4!J328","v":0},{"$f":"Data_4!M328","v":0},{"$f":"Data_4!P328","v":0},null,null,{"$f":"Data_1!J328","v":0},{"$f":"Data_2!M328","v":0},{"$f":"Data_4!S328","v":0}]
[{"$f":"Data_1!G329","v":0},{"$f":"Data_2!G329","v":0},{"$f":"Data_2!J329","v":0},{"$f":"Data_4!G329","v":0},{"$f":"Data_4!J329","v":0},{"$f":"Data_4!M329","v":0},{"$f":"Data_4!P329","v":0},null,null,{"$f":"Data_1!J329","v":0},{"$f":"Data_2!M329","v":0},{"$f":"Data_4!S329","v":0}]
[{"$f":"Data_1!G330","v":0},{"$f":"Data_2!G330","v":0},{"$f":"Data_2!J330","v":0},{"$f":"Data_4!G330","v":0},{"$f":"Data_4!J330","v":0},{"$f":"Data_4!M330","v":0},{"$f":"Data_4!P330","v":0},null,null,{"$f":"Data_1!J330","v":0},{"$f":"Data_2!M330","v":0},{"$f":"Data_4!S330","v":0}]
[{"$f":"Data_1!G331","v":0},{"$f":"Data_2!G331","v":0},{"$f":"Data_2!J331","v":0},{"$f":"Data_4!G331","v":0},{"$f":"Data_4!J331","v":0},{"$f":"Data_4!M331","v":0},{"$f":"Data_4!P331","v":0},null,null,{"$f":"Data_1!J331","v":0},{"$f":"Data_2!M331","v":0},{"$f":"Data_4!S331","v":0}]
[{"$f":"Data_1!G332","v":0},{"$f":"Data_2!G332","v":0},{"$f":"Data_2!J332","v":0},{"$f":"Data_4!G332","v":0},{"$f":"Data_4!J332","v":0},{"$f":"Data_4!M332","v":0},{"$f":"Data_4!P332","v":0},null,null,{"$f":"Data_1!J332","v":0},{"$f":"Data_2!M332","v":0},{"$f":"Data_4!S332","v":0}]
[{"$f":"Data_1!G333","v":0},{"$f":"Data_2!G333","v":0},{"$f":"Data_2!J333","v":0},{"$f":"Data_4!G333","v":0},{"$f":"Data_4!J333","v":0},{"$f":"Data_4!M333","v":0},{"$f":"Data_4!P333","v":0},null,null,{"$f":"Data_1!J333","v":0},{"$f":"Data_2!M333","v":0},{"$f":"Data_4!S333","v":0}]
[{"$f":"Data_1!G334","v":0},{"$f":"Data_2!G334","v":0},{"$f":"Data_2!J334","v":0},{"$f":"Data_4!G334","v":0},{"$f":"Data_4!J334","v":0},{"$f":"Data_4!M334","v":0},{"$f":"Data_4!P334","v":0},null,null,{"$f":"Data_1!J334","v":0},{"$f":"Data_2!M334","v":0},{"$f":"Data_4!S334","v":0}]
[{"$f":"Data_1!G335","v":0},{"$f":"Data_2!G335","v":0},{"$f":"Data_2!J335","v":0},{"$f":"Data_4!G335","v":0},{"$f":"Data_4!J335","v":0},{"$f":"Data_4!M335","v":0},{"$f":"Data_4!P335","v":0},null,null,{"$f":"Data_1!J335","v":0},{"$f":"Data_2!M335","v":0},{"$f":"Data_4!S335","v":0}]
[{"$f":"Data_1!G336","v":0},{"$f":"Data_2!G336","v":0},{"$f":"Data_2!J336","v":0},{"$f":"Data_4!G336","v":0},{"$f":"Data_4!J336","v":0},{"$f":"Data_4!M336","v":0},{"$f":"Data_4!P336","v":0},null,null,{"$f":"Data_1!J336","v":0},{"$f":"Data_2!M336","v":0},{"$f":"Data_4!S336","v":0}]
[{"$f":"Data_1!G337","v":0},{"$f":"Data_2!G337","v":0},{"$f":"Data_2!J337","v":0},{"$f":"Data_4!G337","v":0},{"$f":"Data_4!J337","v":0},{"$f":"Data_4!M337","v":0},{"$f":"Data_4!P337","v":0},null,null,{"$f":"Data_1!J337","v":0},{"$f":"Data_2!M337","v":0},{"$f":"Data_4!S337","v":0}]
[{"$f":"Data_1!G338","v":0},{"$f":"Data_2!G338","v":0},{"$f":"Data_2!J338","v":0},{"$f":"Data_4!G338","v":0},{"$f":"Data_4!J338","v":0},{"$f":"Data_4!M338","v":0},{"$f":"Data_4!P338","v":0},null,null,{"$f":"Data_1!J338","v":0},{"$f":"Data_2!M338","v":0},{"$f":"Data_4!S338","v":0}]
[{"$f":"Data_1!G339","v":0},{"$f":"Data_2!G339","v":0},{"$f":"Data_2!J339","v":0},{"$f":"Data_4!G339","v":0},{"$f":"Data_4!J339","v":0},{"$f":"Data_4!M339","v":0},{"$f":"Data_4!P339","v":0},null,null,{"$f":"Data_1!J339","v":0},{"$f":"Data_2!M339","v":0},{"$f":"Data_4!S339","v":0}]
[{"$f":"Data_1!G340","v":0},{"$f":"Data_2!G340","v":0},{"$f":"Data_2!J340","v":0},{"$f":"Data_4!G340","v":0},{"$f":"Data_4!J340","v":0},{"$f":"Data_4!M340","v":0},{"$f":"Data_4!P340","v":0},null,null,{"$f":"Data_1!J340","v":0},{"$f":"Data_2!M340","v":0},{"$f":"Data_4!S340","v":0}]
[{"$f":"Data_1!G341","v":0},{"$f":"Data_2!G341","v":0},{"$f":"Data_2!J341","v":0},{"$f":"Data_4!G341","v":0},{"$f":"Data_4!J341","v":0},{"$f":"Data_4!M341","v":0},{"$f":"Data_4!P341","v":0},null,null,{"$f":"Data_1!J341","v":0},{"$f":"Data_2!M341","v":0},{"$f":"Data_4!S341","v":0}]
[{"$f":"Data_1!G342","v":0},{"$f":"Data_2!G342","v":0},{"$f":"Data_2!J342","v":0},{"$f":"Data_4!G342","v":0},{"$f":"Data_4!J342","v":0},{"$f":"Data_4!M342","v":0},{"$f":"Data_4!P342","v":0},null,null,{"$f":"Data_1!J342","v":0},{"$f":"Data_2!M342","v":0},{"$f":"Data_4!S342","v":0}]
[{"$f":"Data_1!G343","v":0},{"$f":"Data_2!G343","v":0},{"$f":"Data_2!J343","v":0},{"$f":"Data_4!G343","v":0},{"$f":"Data_4!J343","v":0},{"$f":"Data_4!M343","v":0},{"$f":"Data_4!P343","v":0},null,null,{"$f":"Data_1!J343","v":0},{"$f":"Data_2!M343","v":0},{"$f":"Data_4!S343","v":0}]
[{"$f":"Data_1!G344","v":0},{"$f":"Data_2!G344","v":0},{"$f":"Data_2!J344","v":0},{"$f":"Data_4!G344","v":0},{"$f":"Data_4!J344","v":0},{"$f":"Data_4!M344","v":0},{"$f":"Data_4!P344","v":0},null,null,{"$f":"Data_1!J344","v":0},{"$f":"Data_2!M344","v":0},{"$f":"Data_4!S344","v":0}]
[{"$f":"Data_1!G345","v":0},{"$f":"Data_2!G345","v":0},{"$f":"Data_2!J345","v":0},{"$f":"Data_4!G345","v":0},{"$f":"Data_4!J345","v":0},{"$f":"Data_4!M345","v":0},{"$f":"Data_4!P345","v":0},null,null,{"$f":"Data_1!J345","v":0},{"$f":"Data_2!M345","v":0},{"$f":"Data_4!S345","v":0}]
[{"$f":"Data_1!G346","v":0},{"$f":"Data_2!G346","v":0},{"$f":"Data_2!J346","v":0},{"$f":"Data_4!G346","v":0},{"$f":"Data_4!J346","v":0},{"$f":"Data_4!M346","v":0},{"$f":"Data_4!P346","v":0},null,null,{"$f":"Data_1!J346","v":0},{"$f":"Data_2!M346","v":0},{"$f":"Data_4!S346","v":0}]
[{"$f":"Data_1!G347","v":0},{"$f":"Data_2!G347","v":0},{"$f":"Data_2!J347","v":0},{"$f":"Data_4!G347","v":0},{"$f":"Data_4!J347","v":0},{"$f":"Data_4!M347","v":0},{"$f":"Data_4!P347","v":0},null,null,{"$f":"Data_1!J347","v":0},{"$f":"Data_2!M347","v":0},{"$f":"Data_4!S347","v":0}]
[{"$f":"Data_1!G348","v":0},{"$f":"Data_2!G348","v":0},{"$f":"Data_2!J348","v":0},{"$f":"Data_4!G348","v":0},{"$f":"Data_4!J348","v":0},{"$f":"Data_4!M348","v":0},{"$f":"Data_4!P348","v":0},null,null,{"$f":"Data_1!J348","v":0},{"$f":"Data_2!M348","v":0},{"$f":"Data_4!S348","v":0}]
[{"$f":"Data_1!G349","v":0},{"$f":"Data_2!G349","v":0},{"$f":"Data_2!J349","v":0},{"$f":"Data_4!G349","v":0},{"$f":"Data_4!J349","v":0},{"$f":"Data_4!M349","v":0},{"$f":"Data_4!P349","v":0},null,null,{"$f":"Data_1!J349","v":0},{"$f":"Data_2!M349","v":0},{"$f":"Data_4!S349","v":0}]
[{"$f":"Data_1!G350","v":0},{"$f":"Data_2!G350","v":0},{"$f":"Data_2!J350","v":0},{"$f":"Data_4!G350","v":0},{"$f":"Data_4!J350","v":0},{"$f":"Data_4!M350","v":0},{"$f":"Data_4!P350","v":0},null,null,{"$f":"Data_1!J350","v":0},{"$f":"Data_2!M350","v":0},{"$f":"Data_4!S350","v":0}]
[{"$f":"Data_1!G351","v":0},{"$f":"Data_2!G351","v":0},{"$f":"Data_2!J351","v":0},{"$f":"Data_4!G351","v":0},{"$f":"Data_4!J351","v":0},{"$f":"Data_4!M351","v":0},{"$f":"Data_4!P351","v":0},null,null,{"$f":"Data_1!J351","v":0},{"$f":"Data_2!M351","v":0},{"$f":"Data_4!S351","v":0}]
[{"$f":"Data_1!G352","v":0},{"$f":"Data_2!G352","v":0},{"$f":"Data_2!J352","v":0},{"$f":"Data_4!G352","v":0},{"$f":"Data_4!J352","v":0},{"$f":"Data_4!M352","v":0},{"$f":"Data_4!P352","v":0},null,null,{"$f":"Data_1!J352","v":0},{"$f":"Data_2!M352","v":0},{"$f":"Data_4!S352","v":0}]
[{"$f":"Data_1!G353","v":0},{"$f":"Data_2!G353","v":0},{"$f":"Data_2!J353","v":0},{"$f":"Data_4!G353","v":0},{"$f":"Data_4!J353","v":0},{"$f":"Data_4!M353","v":0},{"$f":"Data_4!P353","v":0},null,null,{"$f":"Data_1!J353","v":0},{"$f":"Data_2!M353","v":0},{"$f":"Data_4!S353","v":0}]
[{"$f":"Data_1!G354","v":0},{"$f":"Data_2!G354","v":0},{"$f":"Data_2!J354","v":0},{"$f":"Data_4!G354","v":0},{"$f":"Data_4!J354","v":0},{"$f":"Data_4!M354","v":0},{"$f":"Data_4!P354","v":0},null,null,{"$f":"Data_1!J354","v":0},{"$f":"Data_2!M354","v":0},{"$f":"Data_4!S354","v":0}]
[{"$f":"Data_1!G355","v":0},{"$f":"Data_2!G355","v":0},{"$f":"Data_2!J355","v":0},{"$f":"Data_4!G355","v":0},{"$f":"Data_4!J355","v":0},{"$f":"Data_4!M355","v":0},{"$f":"Data_4!P355","v":0},null,null,{"$f":"Data_1!J355","v":0},{"$f":"Data_2!M355","v":0},{"$f":"Data_4!S355","v":0}]
[{"$f":"Data_1!G356","v":0},{"$f":"Data_2!G356","v":0},{"$f":"Data_2!J356","v":0},{"$f":"Data_4!G356","v":0},{"$f":"Data_4!J356","v":0},{"$f":"Data_4!M356","v":0},{"$f":"Data_4!P356","v":0},null,null,{"$f":"Data_1!J356","v":0},{"$f":"Data_2!M356","v":0},{"$f":"Data_4!S356","v":0}]
[{"$f":"Data_1!G357","v":0},{"$f":"Data_2!G357","v":0},{"$f":"Data_2!J357","v":0},{"$f":"Data_4!G357","v":0},{"$f":"Data_4!J357","v":0},{"$f":"Data_4!M357","v":0},{"$f":"Data_4!P357","v":0},null,null,{"$f":"Data_1!J357","v":0},{"$f":"Data_2!M357","v":0},{"$f":"Data_4!S357","v":0}]
[{"$f":"Data_1!G358","v":0},{"$f":"Data_2!G358","v":0},{"$f":"Data_2!J358","v":0},{"$f":"Data_4!G358","v":0},{"$f":"Data_4!J358","v":0},{"$f":"Data_4!M358","v":0},{"$f":"Data_4!P358","v":0},null,null,{"$f":"Data_1!J358","v":0},{"$f":"Data_2!M358","v":0},{"$f":"Data_4!S358","v":0}]
[{"$f":"Data_1!G359","v":0},{"$f":"Data_2!G359","v":0},{"$f":"Data_2!J359","v":0},{"$f":"Data_4!G359","v":0},{"$f":"Data_4!J359","v":0},{"$f":"Data_4!M359","v":0},{"$f":"Data_4!P359","v":0},null,null,{"$f":"Data_1!J359","v":0},{"$f":"Data_2!M359","v":0},{"$f":"Data_4!S359","v":0}]
[{"$f":"Data_1!G360","v":0},{"$f":"Data_2!G360","v":0},{"$f":"Data_2!J360","v":0},{"$f":"Data_4!G360","v":0},{"$f":"Data_4!J360","v":0},{"$f":"Data_4!M360","v":0},{"$f":"Data_4!P360","v":0},null,null,{"$f":"Data_1!J360","v":0},{"$f":"Data_2!M360","v":0},{"$f":"Data_4!S360","v":0}]
[{"$f":"Data_1!G361","v":0},{"$f":"Data_2!G361","v":0},{"$f":"Data_2!J361","v":0},{"$f":"Data_4!G361","v":0},{"$f":"Data_4!J361","v":0},{"$f":"Data_4!M361","v":0},{"$f":"Data_4!P361","v":0},null,null,{"$f":"Data_1!J361","v":0},{"$f":"Data_2!M361","v":0},{"$f":"Data_4!S361","v":0}]
[{"$f":"Data_1!G362","v":0},{"$f":"Data_2!G362","v":0},{"$f":"Data_2!J362","v":0},{"$f":"Data_4!G362","v":0},{"$f":"Data_4!J362","v":0},{"$f":"Data_4!M362","v":0},{"$f":"Data_4!P362","v":0},null,null,{"$f":"Data_1!J362","v":0},{"$f":"Data_2!M362","v":0},{"$f":"Data_4!S362","v":0}]
[{"$f":"Data_1!G363","v":0},{"$f":"Data_2!G363","v":0},{"$f":"Data_2!J363","v":0},{"$f":"Data_4!G363","v":0},{"$f":"Data_4!J363","v":0},{"$f":"Data_4!M363","v":0},{"$f":"Data_4!P363","v":0},null,null,{"$f":"Data_1!J363","v":0},{"$f":"Data_2!M363","v":0},{"$f":"Data_4!S363","v":0}]
[{"$f":"Data_1!G364","v":0},{"$f":"Data_2!G364","v":0},{"$f":"Data_2!J364","v":0},{"$f":"Data_4!G364","v":0},{"$f":"Data_4!J364","v":0},{"$f":"Data_4!M364","v":0},{"$f":"Data_4!P364","v":0},null,null,{"$f":"Data_1!J364","v":0},{"$f":"Data_2!M364","v":0},{"$f":"Data_4!S364","v":0}]
[{"$f":"Data_1!G365","v":0},{"$f":"Data_2!G365","v":0},{"$f":"Data_2!J365","v":0},{"$f":"Data_4!G365","v":0},{"$f":"Data_4!J365","v":0},{"$f":"Data_4!M365","v":0},{"$f":"Data_4!P365","v":0},null,null,{"$f":"Data_1!J365","v":0},{"$f":"Data_2!M365","v":0},{"$f":"Data_4!S365","v":0}]
[{"$f":"Data_1!G366","v":0},{"$f":"Data_2!G366","v":0},{"$f":"Data_2!J366","v":0},{"$f":"Data_4!G366","v":0},{"$f":"Data_4!J366","v":0},{"$f":"Data_4!M366","v":0},{"$f":"Data_4!P366","v":0},null,null,{"$f":"Data_1!J366","v":0},{"$f":"Data_2!M366","v":0},{"$f":"Data_4!S366","v":0}]
[{"$f":"Data_1!G367","v":0},{"$f":"Data_2!G367","v":0},{"$f":"Data_2!J367","v":0},{"$f":"Data_4!G367","v":0},{"$f":"Data_4!J367","v":0},{"$f":"Data_4!M367","v":0},{"$f":"Data_4!P367","v":0},null,null,{"$f":"Data_1!J367","v":0},{"$f":"Data_2!M367","v":0},{"$f":"Data_4!S367","v":0}]
[{"$f":"Data_1!G368","v":0},{"$f":"Data_2!G368","v":0},{"$f":"Data_2!J368","v":0},{"$f":"Data_4!G368","v":0},{"$f":"Data_4!J368","v":0},{"$f":"Data_4!M368","v":0},{"$f":"Data_4!P368","v":0},null,null,{"$f":"Data_1!J368","v":0},{"$f":"Data_2!M368","v":0},{"$f":"Data_4!S368","v":0}]
[{"$f":"Data_1!G369","v":0},{"$f":"Data_2!G369","v":0},{"$f":"Data_2!J369","v":0},{"$f":"Data_4!G369","v":0},{"$f":"Data_4!J369","v":0},{"$f":"Data_4!M369","v":0},{"$f":"Data_4!P369","v":0},null,null,{"$f":"Data_1!J369","v":0},{"$f":"Data_2!M369","v":0},{"$f":"Data_4!S369","v":0}]
[{"$f":"Data_1!G370","v":0},{"$f":"Data_2!G370","v":0},{"$f":"Data_2!J370","v":0},{"$f":"Data_4!G370","v":0},{"$f":"Data_4!J370","v":0},{"$f":"Data_4!M370","v":0},{"$f":"Data_4!P370","v":0},null,null,{"$f":"Data_1!J370","v":0},{"$f":"Data_2!M370","v":0},{"$f":"Data_4!S370","v":0}]
[{"$f":"Data_1!G371","v":0},{"$f":"Data_2!G371","v":0},{"$f":"Data_2!J371","v":0},{"$f":"Data_4!G371","v":0},{"$f":"Data_4!J371","v":0},{"$f":"Data_4!M371","v":0},{"$f":"Data_4!P371","v":0},null,null,{"$f":"Data_1!J371","v":0},{"$f":"Data_2!M371","v":0},{"$f":"Data_4!S371","v":0}]
[{"$f":"Data_1!G372","v":0},{"$f":"Data_2!G372","v":0},{"$f":"Data_2!J372","v":0},{"$f":"Data_4!G372","v":0},{"$f":"Data_4!J372","v":0},{"$f":"Data_4!M372","v":0},{"$f":"Data_4!P372","v":0},null,null,{"$f":"Data_1!J372","v":0},{"$f":"Data_2!M372","v":0},{"$f":"Data_4!S372","v":0}]
[{"$f":"Data_1!G373","v":0},{"$f":"Data_2!G373","v":0},{"$f":"Data_2!J373","v":0},{"$f":"Data_4!G373","v":0},{"$f":"Data_4!J373","v":0},{"$f":"Data_4!M373","v":0},{"$f":"Data_4!P373","v":0},null,null,{"$f":"Data_1!J373","v":0},{"$f":"Data_2!M373","v":0},{"$f":"Data_4!S373","v":0}]
[{"$f":"Data_1!G374","v":0},{"$f":"Data_2!G374","v":0},{"$f":"Data_2!J374","v":0},{"$f":"Data_4!G374","v":0},{"$f":"Data_4!J374","v":0},{"$f":"Data_4!M374","v":0},{"$f":"Data_4!P374","v":0},null,null,{"$f":"Data_1!J374","v":0},{"$f":"Data_2!M374","v":0},{"$f":"Data_4!S374","v":0}]
[{"$f":"Data_1!G375","v":0},{"$f":"Data_2!G375","v":0},{"$f":"Data_2!J375","v":0},{"$f":"Data_4!G375","v":0},{"$f":"Data_4!J375","v":0},{"$f":"Data_4!M375","v":0},{"$f":"Data_4!P375","v":0},null,null,{"$f":"Data_1!J375","v":0},{"$f":"Data_2!M375","v":0},{"$f":"Data_4!S375","v":0}]
[{"$f":"Data_1!G376","v":0},{"$f":"Data_2!G376","v":0},{"$f":"Data_2!J376","v":0},{"$f":"Data_4!G376","v":0},{"$f":"Data_4!J376","v":0},{"$f":"Data_4!M376","v":0},{"$f":"Data_4!P376","v":0},null,null,{"$f":"Data_1!J376","v":0},{"$f":"Data_2!M376","v":0},{"$f":"Data_4!S376","v":0}]
[{"$f":"Data_1!G377","v":0},{"$f":"Data_2!G377","v":0},{"$f":"Data_2!J377","v":0},{"$f":"Data_4!G377","v":0},{"$f":"Data_4!J377","v":0},{"$f":"Data_4!M377","v":0},{"$f":"Data_4!P377","v":0},null,null,{"$f":"Data_1!J377","v":0},{"$f":"Data_2!M377","v":0},{"$f":"Data_4!S377","v":0}]
[{"$f":"Data_1!G378","v":0},{"$f":"Data_2!G378","v":0},{"$f":"Data_2!J378","v":0},{"$f":"Data_4!G378","v":0},{"$f":"Data_4!J378","v":0},{"$f":"Data_4!M378","v":0},{"$f":"Data_4!P378","v":0},null,null,{"$f":"Data_1!J378","v":0},{"$f":"Data_2!M378","v":0},{"$f":"Data_4!S378","v":0}]
[{"$f":"Data_1!G379","v":0},{"$f":"Data_2!G379","v":0},{"$f":"Data_2!J379","v":0},{"$f":"Data_4!G379","v":0},{"$f":"Data_4!J379","v":0},{"$f":"Data_4!M379","v":0},{"$f":"Data_4!P379","v":0},null,null,{"$f":"Data_1!J379","v":0},{"$f":"Data_2!M379","v":0},{"$f":"Data_4!S379","v":0}]
[{"$f":"Data_1!G380","v":0},{"$f":"Data_2!G380","v":0},{"$f":"Data_2!J380","v":0},{"$f":"Data_4!G380","v":0},{"$f":"Data_4!J380","v":0},{"$f":"Data_4!M380","v":0},{"$f":"Data_4!P380","v":0},null,null,{"$f":"Data_1!J380","v":0},{"$f":"Data_2!M380","v":0},{"$f":"Data_4!S380","v":0}]
[{"$f":"Data_1!G381","v":0},{"$f":"Data_2!G381","v":0},{"$f":"Data_2!J381","v":0},{"$f":"Data_4!G381","v":0},{"$f":"Data_4!J381","v":0},{"$f":"Data_4!M381","v":0},{"$f":"Data_4!P381","v":0},null,null,{"$f":"Data_1!J381","v":0},{"$f":"Data_2!M381","v":0},{"$f":"Data_4!S381","v":0}]
[{"$f":"Data_1!G382","v":0},{"$f":"Data_2!G382","v":0},{"$f":"Data_2!J382","v":0},{"$f":"Data_4!G382","v":0},{"$f":"Data_4!J382","v":0},{"$f":"Data_4!M382","v":0},{"$f":"Data_4!P382","v":0},null,null,{"$f":"Data_1!J382","v":0},{"$f":"Data_2!M382","v":0},{"$f":"Data_4!S382","v":0}]
[{"$f":"Data_1!G383","v":0},{"$f":"Data_2!G383","v":0},{"$f":"Data_2!J383","v":0},{"$f":"Data_4!G383","v":0},{"$f":"Data_4!J383","v":0},{"$f":"Data_4!M383","v":0},{"$f":"Data_4!P383","v":0},null,null,{"$f":"Data_1!J383","v":0},{"$f":"Data_2!M383","v":0},{"$f":"Data_4!S383","v":0}]
[{"$f":"Data_1!G384","v":0},{"$f":"Data_2!G384","v":0},{"$f":"Data_2!J384","v":0},{"$f":"Data_4!G384","v":0},{"$f":"Data_4!J384","v":0},{"$f":"Data_4!M384","v":0},{"$f":"Data_4!P384","v":0},null,null,{"$f":"Data_1!J384","v":0},{"$f":"Data_2!M384","v":0},{"$f":"Data_4!S384","v":0}]
[{"$f":"Data_1!G385","v":0},{"$f":"Data_2!G385","v":0},{"$f":"Data_2!J385","v":0},{"$f":"Data_4!G385","v":0},{"$f":"Data_4!J385","v":0},{"$f":"Data_4!M385","v":0},{"$f":"Data_4!P385","v":0},null,null,{"$f":"Data_1!J385","v":0},{"$f":"Data_2!M385","v":0},{"$f":"Data_4!S385","v":0}]
[{"$f":"Data_1!G386","v":0},{"$f":"Data_2!G386","v":0},{"$f":"Data_2!J386","v":0},{"$f":"Data_4!G386","v":0},{"$f":"Data_4!J386","v":0},{"$f":"Data_4!M386","v":0},{"$f":"Data_4!P386","v":0},null,null,{"$f":"Data_1!J386","v":0},{"$f":"Data_2!M386","v":0},{"$f":"Data_4!S386","v":0}]
[{"$f":"Data_1!G387","v":0},{"$f":"Data_2!G387","v":0},{"$f":"Data_2!J387","v":0},{"$f":"Data_4!G387","v":0},{"$f":"Data_4!J387","v":0},{"$f":"Data_4!M387","v":0},{"$f":"Data_4!P387","v":0},null,null,{"$f":"Data_1!J387","v":0},{"$f":"Data_2!M387","v":0},{"$f":"Data_4!S387","v":0}]
[{"$f":"Data_1!G388","v":0},{"$f":"Data_2!G388","v":0},{"$f":"Data_2!J388","v":0},{"$f":"Data_4!G388","v":0},{"$f":"Data_4!J388","v":0},{"$f":"Data_4!M388","v":0},{"$f":"Data_4!P388","v":0},null,null,{"$f":"Data_1!J388","v":0},{"$f":"Data_2!M388","v":0},{"$f":"Data_4!S388","v":0}]
[{"$f":"Data_1!G389","v":0},{"$f":"Data_2!G389","v":0},{"$f":"Data_2!J389","v":0},{"$f":"Data_4!G389","v":0},{"$f":"Data_4!J389","v":0},{"$f":"Data_4!M389","v":0},{"$f":"Data_4!P389","v":0},null,null,{"$f":"Data_1!J389","v":0},{"$f":"Data_2!M389","v":0},{"$f":"Data_4!S389","v":0}]
[{"$f":"Data_1!G390","v":0},{"$f":"Data_2!G390","v":0},{"$f":"Data_2!J390","v":0},{"$f":"Data_4!G390","v":0},{"$f":"Data_4!J390","v":0},{"$f":"Data_4!M390","v":0},{"$f":"Data_4!P390","v":0},null,null,{"$f":"Data_1!J390","v":0},{"$f":"Data_2!M390","v":0},{"$f":"Data_4!S390","v":0}]
[{"$f":"Data_1!G391","v":0},{"$f":"Data_2!G391","v":0},{"$f":"Data_2!J391","v":0},{"$f":"Data_4!G391","v":0},{"$f":"Data_4!J391","v":0},{"$f":"Data_4!M391","v":0},{"$f":"Data_4!P391","v":0},null,null,{"$f":"Data_1!J391","v":0},{"$f":"Data_2!M391","v":0},{"$f":"Data_4!S391","v":0}]
[{"$f":"Data_1!G392","v":0},{"$f":"Data_2!G392","v":0},{"$f":"Data_2!J392","v":0},{"$f":"Data_4!G392","v":0},{"$f":"Data_4!J392","v":0},{"$f":"Data_4!M392","v":0},{"$f":"Data_4!P392","v":0},null,null,{"$f":"Data_1!J392","v":0},{"$f":"Data_2!M392","v":0},{"$f":"Data_4!S392","v":0}]
[{"$f":"Data_1!G393","v":0},{"$f":"Data_2!G393","v":0},{"$f":"Data_2!J393","v":0},{"$f":"Data_4!G393","v":0},{"$f":"Data_4!J393","v":0},{"$f":"Data_4!M393","v":0},{"$f":"Data_4!P393","v":0},null,null,{"$f":"Data_1!J393","v":0},{"$f":"Data_2!M393","v":0},{"$f":"Data_4!S393","v":0}]
[{"$f":"Data_1!G394","v":0},{"$f":"Data_2!G394","v":0},{"$f":"Data_2!J394","v":0},{"$f":"Data_4!G394","v":0},{"$f":"Data_4!J394","v":0},{"$f":"Data_4!M394","v":0},{"$f":"Data_4!P394","v":0},null,null,{"$f":"Data_1!J394","v":0},{"$f":"Data_2!M394","v":0},{"$f":"Data_4!S394","v":0}]
[{"$f":"Data_1!G395","v":0},{"$f":"Data_2!G395","v":0},{"$f":"Data_2!J395","v":0},{"$f":"Data_4!G395","v":0},{"$f":"Data_4!J395","v":0},{"$f":"Data_4!M395","v":0},{"$f":"Data_4!P395","v":0},null,null,{"$f":"Data_1!J395","v":0},{"$f":"Data_2!M395","v":0},{"$f":"Data_4!S395","v":0}]
[{"$f":"Data_1!G396","v":0},{"$f":"Data_2!G396","v":0},{"$f":"Data_2!J396","v":0},{"$f":"Data_4!G396","v":0},{"$f":"Data_4!J396","v":0},{"$f":"Data_4!M396","v":0},{"$f":"Data_4!P396","v":0},null,null,{"$f":"Data_1!J396","v":0},{"$f":"Data_2!M396","v":0},{"$f":"Data_4!S396","v":0}]
[{"$f":"Data_1!G397","v":0},{"$f":"Data_2!G397","v":0},{"$f":"Data_2!J397","v":0},{"$f":"Data_4!G397","v":0},{"$f":"Data_4!J397","v":0},{"$f":"Data_4!M397","v":0},{"$f":"Data_4!P397","v":0},null,null,{"$f":"Data_1!J397","v":0},{"$f":"Data_2!M397","v":0},{"$f":"Data_4!S397","v":0}]
[{"$f":"Data_1!G398","v":0},{"$f":"Data_2!G398","v":0},{"$f":"Data_2!J398","v":0},{"$f":"Data_4!G398","v":0},{"$f":"Data_4!J398","v":0},{"$f":"Data_4!M398","v":0},{"$f":"Data_4!P398","v":0},null,null,{"$f":"Data_1!J398","v":0},{"$f":"Data_2!M398","v":0},{"$f":"Data_4!S398","v":0}]
[{"$f":"Data_1!G399","v":0},{"$f":"Data_2!G399","v":0},{"$f":"Data_2!J399","v":0},{"$f":"Data_4!G399","v":0},{"$f":"Data_4!J399","v":0},{"$f":"Data_4!M399","v":0},{"$f":"Data_4!P399","v":0},null,null,{"$f":"Data_1!J399","v":0},{"$f":"Data_2!M399","v":0},{"$f":"Data_4!S399","v":0}]
[{"$f":"Data_1!G400","v":0},{"$f":"Data_2!G400","v":0},{"$f":"Data_2!J400","v":0},{"$f":"Data_4!G400","v":0},{"$f":"Data_4!J400","v":0},{"$f":"Data_4!M400","v":0},{"$f":"Data_4!P400","v":0},null,null,{"$f":"Data_1!J400","v":0},{"$f":"Data_2!M400","v":0},{"$f":"Data_4!S400","v":0}]
[{"$f":"Data_1!G401","v":0},{"$f":"Data_2!G401","v":0},{"$f":"Data_2!J401","v":0},{"$f":"Data_4!G401","v":0},{"$f":"Data_4!J401","v":0},{"$f":"Data_4!M401","v":0},{"$f":"Data_4!P401","v":0},null,null,{"$f":"Data_1!J401","v":0},{"$f":"Data_2!M401","v":0},{"$f":"Data_4!S401","v":0}]
[{"$f":"Data_1!G402","v":0},{"$f":"Data_2!G402","v":0},{"$f":"Data_2!J402","v":0},{"$f":"Data_4!G402","v":0},{"$f":"Data_4!J402","v":0},{"$f":"Data_4!M402","v":0},{"$f":"Data_4!P402","v":0},null,null,{"$f":"Data_1!J402","v":0},{"$f":"Data_2!M402","v":0},{"$f":"Data_4!S402","v":0}]
[{"$f":"Data_1!G403","v":0},{"$f":"Data_2!G403","v":0},{"$f":"Data_2!J403","v":0},{"$f":"Data_4!G403","v":0},{"$f":"Data_4!J403","v":0},{"$f":"Data_4!M403","v":0},{"$f":"Data_4!P403","v":0},null,null,{"$f":"Data_1!J403","v":0},{"$f":"Data_2!M403","v":0},{"$f":"Data_4!S403","v":0}]
[{"$f":"Data_1!G404","v":0},{"$f":"Data_2!G404","v":0},{"$f":"Data_2!J404","v":0},{"$f":"Data_4!G404","v":0},{"$f":"Data_4!J404","v":0},{"$f":"Data_4!M404","v":0},{"$f":"Data_4!P404","v":0},null,null,{"$f":"Data_1!J404","v":0},{"$f":"Data_2!M404","v":0},{"$f":"Data_4!S404","v":0}]
[{"$f":"Data_1!G405","v":0},{"$f":"Data_2!G405","v":0},{"$f":"Data_2!J405","v":0},{"$f":"Data_4!G405","v":0},{"$f":"Data_4!J405","v":0},{"$f":"Data_4!M405","v":0},{"$f":"Data_4!P405","v":0},null,null,{"$f":"Data_1!J405","v":0},{"$f":"Data_2!M405","v":0},{"$f":"Data_4!S405","v":0}]
[{"$f":"Data_1!G406","v":0},{"$f":"Data_2!G406","v":0},{"$f":"Data_2!J406","v":0},{"$f":"Data_4!G406","v":0},{"$f":"Data_4!J406","v":0},{"$f":"Data_4!M406","v":0},{"$f":"Data_4!P406","v":0},null,null,{"$f":"Data_1!J406","v":0},{"$f":"Data_2!M406","v":0},{"$f":"Data_4!S406","v":0}]
[{"$f":"Data_1!G407","v":0},{"$f":"Data_2!G407","v":0},{"$f":"Data_2!J407","v":0},{"$f":"Data_4!G407","v":0},{"$f":"Data_4!J407","v":0},{"$f":"Data_4!M407","v":0},{"$f":"Data_4!P407","v":0},null,null,{"$f":"Data_1!J407","v":0},{"$f":"Data_2!M407","v":0},{"$f":"Data_4!S407","v":0}]
[{"$f":"Data_1!G408","v":0},{"$f":"Data_2!G408","v":0},{"$f":"Data_2!J408","v":0},{"$f":"Data_4!G408","v":0},{"$f":"Data_4!J408","v":0},{"$f":"Data_4!M408","v":0},{"$f":"Data_4!P408","v":0},null,null,{"$f":"Data_1!J408","v":0},{"$f":"Data_2!M408","v":0},{"$f":"Data_4!S408","v":0}]
[{"$f":"Data_1!G409","v":0},{"$f":"Data_2!G409","v":0},{"$f":"Data_2!J409","v":0},{"$f":"Data_4!G409","v":0},{"$f":"Data_4!J409","v":0},{"$f":"Data_4!M409","v":0},{"$f":"Data_4!P409","v":0},null,null,{"$f":"Data_1!J409","v":0},{"$f":"Data_2!M409","v":0},{"$f":"Data_4!S409","v":0}]
[{"$f":"Data_1!G410","v":0},{"$f":"Data_2!G410","v":0},{"$f":"Data_2!J410","v":0},{"$f":"Data_4!G410","v":0},{"$f":"Data_4!J410","v":0},{"$f":"Data_4!M410","v":0},{"$f":"Data_4!P410","v":0},null,null,{"$f":"Data_1!J410","v":0},{"$f":"Data_2!M410","v":0},{"$f":"Data_4!S410","v":0}]
[{"$f":"Data_1!G411","v":0},{"$f":"Data_2!G411","v":0},{"$f":"Data_2!J411","v":0},{"$f":"Data_4!G411","v":0},{"$f":"Data_4!J411","v":0},{"$f":"Data_4!M411","v":0},{"$f":"Data_4!P411","v":0},null,null,{"$f":"Data_1!J411","v":0},{"$f":"Data_2!M411","v":0},{"$f":"Data_4!S411","v":0}]
[{"$f":"Data_1!G412","v":0},{"$f":"Data_2!G412","v":0},{"$f":"Data_2!J412","v":0},{"$f":"Data_4!G412","v":0},{"$f":"Data_4!J412","v":0},{"$f":"Data_4!M412","v":0},{"$f":"Data_4!P412","v":0},null,null,{"$f":"Data_1!J412","v":0},{"$f":"Data_2!M412","v":0},{"$f":"Data_4!S412","v":0}]
[{"$f":"Data_1!G413","v":0},{"$f":"Data_2!G413","v":0},{"$f":"Data_2!J413","v":0},{"$f":"Data_4!G413","v":0},{"$f":"Data_4!J413","v":0},{"$f":"Data_4!M413","v":0},{"$f":"Data_4!P413","v":0},null,null,{"$f":"Data_1!J413","v":0},{"$f":"Data_2!M413","v":0},{"$f":"Data_4!S413","v":0}]
[{"$f":"Data_1!G414","v":0},{"$f":"Data_2!G414","v":0},{"$f":"Data_2!J414","v":0},{"$f":"Data_4!G414","v":0},{"$f":"Data_4!J414","v":0},{"$f":"Data_4!M414","v":0},{"$f":"Data_4!P414","v":0},null,null,{"$f":"Data_1!J414","v":0},{"$f":"Data_2!M414","v":0},{"$f":"Data_4!S414","v":0}]
[{"$f":"Data_1!G415","v":0},{"$f":"Data_2!G415","v":0},{"$f":"Data_2!J415","v":0},{"$f":"Data_4!G415","v":0},{"$f":"Data_4!J415","v":0},{"$f":"Data_4!M415","v":0},{"$f":"Data_4!P415","v":0},null,null,{"$f":"Data_1!J415","v":0},{"$f":"Data_2!M415","v":0},{"$f":"Data_4!S415","v":0}]
[{"$f":"Data_1!G416","v":0},{"$f":"Data_2!G416","v":0},{"$f":"Data_2!J416","v":0},{"$f":"Data_4!G416","v":0},{"$f":"Data_4!J416","v":0},{"$f":"Data_4!M416","v":0},{"$f":"Data_4!P416","v":0},null,null,{"$f":"Data_1!J416","v":0},{"$f":"Data_2!M416","v":0},{"$f":"Data_4!S416","v":0}]
[{"$f":"Data_1!G417","v":0},{"$f":"Data_2!G417","v":0},{"$f":"Data_2!J417","v":0},{"$f":"Data_4!G417","v":0},{"$f":"Data_4!J417","v":0},{"$f":"Data_4!M417","v":0},{"$f":"Data_4!P417","v":0},null,null,{"$f":"Data_1!J417","v":0},{"$f":"Data_2!M417","v":0},{"$f":"Data_4!S417","v":0}]
[{"$f":"Data_1!G418","v":0},{"$f":"Data_2!G418","v":0},{"$f":"Data_2!J418","v":0},{"$f":"Data_4!G418","v":0},{"$f":"Data_4!J418","v":0},{"$f":"Data_4!M418","v":0},{"$f":"Data_4!P418","v":0},null,null,{"$f":"Data_1!J418","v":0},{"$f":"Data_2!M418","v":0},{"$f":"Data_4!S418","v":0}]
[{"$f":"Data_1!G419","v":0},{"$f":"Data_2!G419","v":0},{"$f":"Data_2!J419","v":0},{"$f":"Data_4!G419","v":0},{"$f":"Data_4!J419","v":0},{"$f":"Data_4!M419","v":0},{"$f":"Data_4!P419","v":0},null,null,{"$f":"Data_1!J419","v":0},{"$f":"Data_2!M419","v":0},{"$f":"Data_4!S419","v":0}]
[{"$f":"Data_1!G420","v":0},{"$f":"Data_2!G420","v":0},{"$f":"Data_2!J420","v":0},{"$f":"Data_4!G420","v":0},{"$f":"Data_4!J420","v":0},{"$f":"Data_4!M420","v":0},{"$f":"Data_4!P420","v":0},null,null,{"$f":"Data_1!J420","v":0},{"$f":"Data_2!M420","v":0},{"$f":"Data_4!S420","v":0}]
[{"$f":"Data_1!G421","v":0},{"$f":"Data_2!G421","v":0},{"$f":"Data_2!J421","v":0},{"$f":"Data_4!G421","v":0},{"$f":"Data_4!J421","v":0},{"$f":"Data_4!M421","v":0},{"$f":"Data_4!P421","v":0},null,null,{"$f":"Data_1!J421","v":0},{"$f":"Data_2!M421","v":0},{"$f":"Data_4!S421","v":0}]
[{"$f":"Data_1!G422","v":0},{"$f":"Data_2!G422","v":0},{"$f":"Data_2!J422","v":0},{"$f":"Data_4!G422","v":0},{"$f":"Data_4!J422","v":0},{"$f":"Data_4!M422","v":0},{"$f":"Data_4!P422","v":0},null,null,{"$f":"Data_1!J422","v":0},{"$f":"Data_2!M422","v":0},{"$f":"Data_4!S422","v":0}]
[{"$f":"Data_1!G423","v":0},{"$f":"Data_2!G423","v":0},{"$f":"Data_2!J423","v":0},{"$f":"Data_4!G423","v":0},{"$f":"Data_4!J423","v":0},{"$f":"Data_4!M423","v":0},{"$f":"Data_4!P423","v":0},null,null,{"$f":"Data_1!J423","v":0},{"$f":"Data_2!M423","v":0},{"$f":"Data_4!S423","v":0}]
[{"$f":"Data_1!G424","v":0},{"$f":"Data_2!G424","v":0},{"$f":"Data_2!J424","v":0},{"$f":"Data_4!G424","v":0},{"$f":"Data_4!J424","v":0},{"$f":"Data_4!M424","v":0},{"$f":"Data_4!P424","v":0},null,null,{"$f":"Data_1!J424","v":0},{"$f":"Data_2!M424","v":0},{"$f":"Data_4!S424","v":0}]
[{"$f":"Data_1!G425","v":0},{"$f":"Data_2!G425","v":0},{"$f":"Data_2!J425","v":0},{"$f":"Data_4!G425","v":0},{"$f":"Data_4!J425","v":0},{"$f":"Data_4!M425","v":0},{"$f":"Data_4!P425","v":0},null,null,{"$f":"Data_1!J425","v":0},{"$f":"Data_2!M425","v":0},{"$f":"Data_4!S425","v":0}]
[{"$f":"Data_1!G426","v":0},{"$f":"Data_2!G426","v":0},{"$f":"Data_2!J426","v":0},{"$f":"Data_4!G426","v":0},{"$f":"Data_4!J426","v":0},{"$f":"Data_4!M426","v":0},{"$f":"Data_4!P426","v":0},null,null,{"$f":"Data_1!J426","v":0},{"$f":"Data_2!M426","v":0},{"$f":"Data_4!S426","v":0}]
[{"$f":"Data_1!G427","v":0},{"$f":"Data_2!G427","v":0},{"$f":"Data_2!J427","v":0},{"$f":"Data_4!G427","v":0},{"$f":"Data_4!J427","v":0},{"$f":"Data_4!M427","v":0},{"$f":"Data_4!P427","v":0},null,null,{"$f":"Data_1!J427","v":0},{"$f":"Data_2!M427","v":0},{"$f":"Data_4!S427","v":0}]
[{"$f":"Data_1!G428","v":0},{"$f":"Data_2!G428","v":0},{"$f":"Data_2!J428","v":0},{"$f":"Data_4!G428","v":0},{"$f":"Data_4!J428","v":0},{"$f":"Data_4!M428","v":0},{"$f":"Data_4!P428","v":0},null,null,{"$f":"Data_1!J428","v":0},{"$f":"Data_2!M428","v":0},{"$f":"Data_4!S428","v":0}]
[{"$f":"Data_1!G429","v":0},{"$f":"Data_2!G429","v":0},{"$f":"Data_2!J429","v":0},{"$f":"Data_4!G429","v":0},{"$f":"Data_4!J429","v":0},{"$f":"Data_4!M429","v":0},{"$f":"Data_4!P429","v":0},null,null,{"$f":"Data_1!J429","v":0},{"$f":"Data_2!M429","v":0},{"$f":"Data_4!S429","v":0}]
[{"$f":"Data_1!G430","v":0},{"$f":"Data_2!G430","v":0},{"$f":"Data_2!J430","v":0},{"$f":"Data_4!G430","v":0},{"$f":"Data_4!J430","v":0},{"$f":"Data_4!M430","v":0},{"$f":"Data_4!P430","v":0},null,null,{"$f":"Data_1!J430","v":0},{"$f":"Data_2!M430","v":0},{"$f":"Data_4!S430","v":0}]
[{"$f":"Data_1!G431","v":0},{"$f":"Data_2!G431","v":0},{"$f":"Data_2!J431","v":0},{"$f":"Data_4!G431","v":0},{"$f":"Data_4!J431","v":0},{"$f":"Data_4!M431","v":0},{"$f":"Data_4!P431","v":0},null,null,{"$f":"Data_1!J431","v":0},{"$f":"Data_2!M431","v":0},{"$f":"Data_4!S431","v":0}]
[{"$f":"Data_1!G432","v":0},{"$f":"Data_2!G432","v":0},{"$f":"Data_2!J432","v":0},{"$f":"Data_4!G432","v":0},{"$f":"Data_4!J432","v":0},{"$f":"Data_4!M432","v":0},{"$f":"Data_4!P432","v":0},null,null,{"$f":"Data_1!J432","v":0},{"$f":"Data_2!M432","v":0},{"$f":"Data_4!S432","v":0}]
[{"$f":"Data_1!G433","v":0},{"$f":"Data_2!G433","v":0},{"$f":"Data_2!J433","v":0},{"$f":"Data_4!G433","v":0},{"$f":"Data_4!J433","v":0},{"$f":"Data_4!M433","v":0},{"$f":"Data_4!P433","v":0},null,null,{"$f":"Data_1!J433","v":0},{"$f":"Data_2!M433","v":0},{"$f":"Data_4!S433","v":0}]
[{"$f":"Data_1!G434","v":0},{"$f":"Data_2!G434","v":0},{"$f":"Data_2!J434","v":0},{"$f":"Data_4!G434","v":0},{"$f":"Data_4!J434","v":0},{"$f":"Data_4!M434","v":0},{"$f":"Data_4!P434","v":0},null,null,{"$f":"Data_1!J434","v":0},{"$f":"Data_2!M434","v":0},{"$f":"Data_4!S434","v":0}]
[{"$f":"Data_1!G435","v":0},{"$f":"Data_2!G435","v":0},{"$f":"Data_2!J435","v":0},{"$f":"Data_4!G435","v":0},{"$f":"Data_4!J435","v":0},{"$f":"Data_4!M435","v":0},{"$f":"Data_4!P435","v":0},null,null,{"$f":"Data_1!J435","v":0},{"$f":"Data_2!M435","v":0},{"$f":"Data_4!S435","v":0}]
[{"$f":"Data_1!G436","v":0},{"$f":"Data_2!G436","v":0},{"$f":"Data_2!J436","v":0},{"$f":"Data_4!G436","v":0},{"$f":"Data_4!J436","v":0},{"$f":"Data_4!M436","v":0},{"$f":"Data_4!P436","v":0},null,null,{"$f":"Data_1!J436","v":0},{"$f":"Data_2!M436","v":0},{"$f":"Data_4!S436","v":0}]
[{"$f":"Data_1!G437","v":0},{"$f":"Data_2!G437","v":0},{"$f":"Data_2!J437","v":0},{"$f":"Data_4!G437","v":0},{"$f":"Data_4!J437","v":0},{"$f":"Data_4!M437","v":0},{"$f":"Data_4!P437","v":0},null,null,{"$f":"Data_1!J437","v":0},{"$f":"Data_2!M437","v":0},{"$f":"Data_4!S437","v":0}]
[{"$f":"Data_1!G438","v":0},{"$f":"Data_2!G438","v":0},{"$f":"Data_2!J438","v":0},{"$f":"Data_4!G438","v":0},{"$f":"Data_4!J438","v":0},{"$f":"Data_4!M438","v":0},{"$f":"Data_4!P438","v":0},null,null,{"$f":"Data_1!J438","v":0},{"$f":"Data_2!M438","v":0},{"$f":"Data_4!S438","v":0}]
[{"$f":"Data_1!G439","v":0},{"$f":"Data_2!G439","v":0},{"$f":"Data_2!J439","v":0},{"$f":"Data_4!G439","v":0},{"$f":"Data_4!J439","v":0},{"$f":"Data_4!M439","v":0},{"$f":"Data_4!P439","v":0},null,null,{"$f":"Data_1!J439","v":0},{"$f":"Data_2!M439","v":0},{"$f":"Data_4!S439","v":0}]
[{"$f":"Data_1!G440","v":0},{"$f":"Data_2!G440","v":0},{"$f":"Data_2!J440","v":0},{"$f":"Data_4!G440","v":0},{"$f":"Data_4!J440","v":0},{"$f":"Data_4!M440","v":0},{"$f":"Data_4!P440","v":0},null,null,{"$f":"Data_1!J440","v":0},{"$f":"Data_2!M440","v":0},{"$f":"Data_4!S440","v":0}]
[{"$f":"Data_1!G441","v":0},{"$f":"Data_2!G441","v":0},{"$f":"Data_2!J441","v":0},{"$f":"Data_4!G441","v":0},{"$f":"Data_4!J441","v":0},{"$f":"Data_4!M441","v":0},{"$f":"Data_4!P441","v":0},null,null,{"$f":"Data_1!J441","v":0},{"$f":"Data_2!M441","v":0},{"$f":"Data_4!S441","v":0}]
[{"$f":"Data_1!G442","v":0},{"$f":"Data_2!G442","v":0},{"$f":"Data_2!J442","v":0},{"$f":"Data_4!G442","v":0},{"$f":"Data_4!J442","v":0},{"$f":"Data_4!M442","v":0},{"$f":"Data_4!P442","v":0},null,null,{"$f":"Data_1!J442","v":0},{"$f":"Data_2!M442","v":0},{"$f":"Data_4!S442","v":0}]
[{"$f":"Data_1!G443","v":0},{"$f":"Data_2!G443","v":0},{"$f":"Data_2!J443","v":0},{"$f":"Data_4!G443","v":0},{"$f":"Data_4!J443","v":0},{"$f":"Data_4!M443","v":0},{"$f":"Data_4!P443","v":0},null,null,{"$f":"Data_1!J443","v":0},{"$f":"Data_2!M443","v":0},{"$f":"Data_4!S443","v":0}]
[{"$f":"Data_1!G444","v":0},{"$f":"Data_2!G444","v":0},{"$f":"Data_2!J444","v":0},{"$f":"Data_4!G444","v":0},{"$f":"Data_4!J444","v":0},{"$f":"Data_4!M444","v":0},{"$f":"Data_4!P444","v":0},null,null,{"$f":"Data_1!J444","v":0},{"$f":"Data_2!M444","v":0},{"$f":"Data_4!S444","v":0}]
[{"$f":"Data_1!G445","v":0},{"$f":"Data_2!G445","v":0},{"$f":"Data_2!J445","v":0},{"$f":"Data_4!G445","v":0},{"$f":"Data_4!J445","v":0},{"$f":"Data_4!M445","v":0},{"$f":"Data_4!P445","v":0},null,null,{"$f":"Data_1!J445","v":0},{"$f":"Data_2!M445","v":0},{"$f":"Data_4!S445","v":0}]
[{"$f":"Data_1!G446","v":0},{"$f":"Data_2!G446","v":0},{"$f":"Data_2!J446","v":0},{"$f":"Data_4!G446","v":0},{"$f":"Data_4!J446","v":0},{"$f":"Data_4!M446","v":0},{"$f":"Data_4!P446","v":0},null,null,{"$f":"Data_1!J446","v":0},{"$f":"Data_2!M446","v":0},{"$f":"Data_4!S446","v":0}]
[{"$f":"Data_1!G447","v":0},{"$f":"Data_2!G447","v":0},{"$f":"Data_2!J447","v":0},{"$f":"Data_4!G447","v":0},{"$f":"Data_4!J447","v":0},{"$f":"Data_4!M447","v":0},{"$f":"Data_4!P447","v":0},null,null,{"$f":"Data_1!J447","v":0},{"$f":"Data_2!M447","v":0},{"$f":"Data_4!S447","v":0}]
[{"$f":"Data_1!G448","v":0},{"$f":"Data_2!G448","v":0},{"$f":"Data_2!J448","v":0},{"$f":"Data_4!G448","v":0},{"$f":"Data_4!J448","v":0},{"$f":"Data_4!M448","v":0},{"$f":"Data_4!P448","v":0},null,null,{"$f":"Data_1!J448","v":0},{"$f":"Data_2!M448","v":0},{"$f":"Data_4!S448","v":0}]
[{"$f":"Data_1!G449","v":0},{"$f":"Data_2!G449","v":0},{"$f":"Data_2!J449","v":0},{"$f":"Data_4!G449","v":0},{"$f":"Data_4!J449","v":0},{"$f":"Data_4!M449","v":0},{"$f":"Data_4!P449","v":0},null,null,{"$f":"Data_1!J449","v":0},{"$f":"Data_2!M449","v":0},{"$f":"Data_4!S449","v":0}]
[{"$f":"Data_1!G450","v":0},{"$f":"Data_2!G450","v":0},{"$f":"Data_2!J450","v":0},{"$f":"Data_4!G450","v":0},{"$f":"Data_4!J450","v":0},{"$f":"Data_4!M450","v":0},{"$f":"Data_4!P450","v":0},null,null,{"$f":"Data_1!J450","v":0},{"$f":"Data_2!M450","v":0},{"$f":"Data_4!S450","v":0}]
[{"$f":"Data_1!G451","v":0},{"$f":"Data_2!G451","v":0},{"$f":"Data_2!J451","v":0},{"$f":"Data_4!G451","v":0},{"$f":"Data_4!J451","v":0},{"$f":"Data_4!M451","v":0},{"$f":"Data_4!P451","v":0},null,null,{"$f":"Data_1!J451","v":0},{"$f":"Data_2!M451","v":0},{"$f":"Data_4!S451","v":0}]
[{"$f":"Data_1!G452","v":0},{"$f":"Data_2!G452","v":0},{"$f":"Data_2!J452","v":0},{"$f":"Data_4!G452","v":0},{"$f":"Data_4!J452","v":0},{"$f":"Data_4!M452","v":0},{"$f":"Data_4!P452","v":0},null,null,{"$f":"Data_1!J452","v":0},{"$f":"Data_2!M452","v":0},{"$f":"Data_4!S452","v":0}]
[{"$f":"Data_1!G453","v":0},{"$f":"Data_2!G453","v":0},{"$f":"Data_2!J453","v":0},{"$f":"Data_4!G453","v":0},{"$f":"Data_4!J453","v":0},{"$f":"Data_4!M453","v":0},{"$f":"Data_4!P453","v":0},null,null,{"$f":"Data_1!J453","v":0},{"$f":"Data_2!M453","v":0},{"$f":"Data_4!S453","v":0}]
[{"$f":"Data_1!G454","v":0},{"$f":"Data_2!G454","v":0},{"$f":"Data_2!J454","v":0},{"$f":"Data_4!G454","v":0},{"$f":"Data_4!J454","v":0},{"$f":"Data_4!M454","v":0},{"$f":"Data_4!P454","v":0},null,null,{"$f":"Data_1!J454","v":0},{"$f":"Data_2!M454","v":0},{"$f":"Data_4!S454","v":0}]
[{"$f":"Data_1!G455","v":0},{"$f":"Data_2!G455","v":0},{"$f":"Data_2!J455","v":0},{"$f":"Data_4!G455","v":0},{"$f":"Data_4!J455","v":0},{"$f":"Data_4!M455","v":0},{"$f":"Data_4!P455","v":0},null,null,{"$f":"Data_1!J455","v":0},{"$f":"Data_2!M455","v":0},{"$f":"Data_4!S455","v":0}]
[{"$f":"Data_1!G456","v":0},{"$f":"Data_2!G456","v":0},{"$f":"Data_2!J456","v":0},{"$f":"Data_4!G456","v":0},{"$f":"Data_4!J456","v":0},{"$f":"Data_4!M456","v":0},{"$f":"Data_4!P456","v":0},null,null,{"$f":"Data_1!J456","v":0},{"$f":"Data_2!M456","v":0},{"$f":"Data_4!S456","v":0}]
[{"$f":"Data_1!G457","v":0},{"$f":"Data_2!G457","v":0},{"$f":"Data_2!J457","v":0},{"$f":"Data_4!G457","v":0},{"$f":"Data_4!J457","v":0},{"$f":"Data_4!M457","v":0},{"$f":"Data_4!P457","v":0},null,null,{"$f":"Data_1!J457","v":0},{"$f":"Data_2!M457","v":0},{"$f":"Data_4!S457","v":0}]
[{"$f":"Data_1!G458","v":0},{"$f":"Data_2!G458","v":0},{"$f":"Data_2!J458","v":0},{"$f":"Data_4!G458","v":0},{"$f":"Data_4!J458","v":0},{"$f":"Data_4!M458","v":0},{"$f":"Data_4!P458","v":0},null,null,{"$f":"Data_1!J458","v":0},{"$f":"Data_2!M458","v":0},{"$f":"Data_4!S458","v":0}]
[{"$f":"Data_1!G459","v":0},{"$f":"Data_2!G459","v":0},{"$f":"Data_2!J459","v":0},{"$f":"Data_4!G459","v":0},{"$f":"Data_4!J459","v":0},{"$f":"Data_4!M459","v":0},{"$f":"Data_4!P459","v":0},null,null,{"$f":"Data_1!J459","v":0},{"$f":"Data_2!M459","v":0},{"$f":"Data_4!S459","v":0}]
[{"$f":"Data_1!G460","v":0},{"$f":"Data_2!G460","v":0},{"$f":"Data_2!J460","v":0},{"$f":"Data_4!G460","v":0},{"$f":"Data_4!J460","v":0},{"$f":"Data_4!M460","v":0},{"$f":"Data_4!P460","v":0},null,null,{"$f":"Data_1!J460","v":0},{"$f":"Data_2!M460","v":0},{"$f":"Data_4!S460","v":0}]
[{"$f":"Data_1!G461","v":0},{"$f":"Data_2!G461","v":0},{"$f":"Data_2!J461","v":0},{"$f":"Data_4!G461","v":0},{"$f":"Data_4!J461","v":0},{"$f":"Data_4!M461","v":0},{"$f":"Data_4!P461","v":0},null,null,{"$f":"Data_1!J461","v":0},{"$f":"Data_2!M461","v":0},{"$f":"Data_4!S461","v":0}]
[{"$f":"Data_1!G462","v":0},{"$f":"Data_2!G462","v":0},{"$f":"Data_2!J462","v":0},{"$f":"Data_4!G462","v":0},{"$f":"Data_4!J462","v":0},{"$f":"Data_4!M462","v":0},{"$f":"Data_4!P462","v":0},null,null,{"$f":"Data_1!J462","v":0},{"$f":"Data_2!M462","v":0},{"$f":"Data_4!S462","v":0}]
[{"$f":"Data_1!G463","v":0},{"$f":"Data_2!G463","v":0},{"$f":"Data_2!J463","v":0},{"$f":"Data_4!G463","v":0},{"$f":"Data_4!J463","v":0},{"$f":"Data_4!M463","v":0},{"$f":"Data_4!P463","v":0},null,null,{"$f":"Data_1!J463","v":0},{"$f":"Data_2!M463","v":0},{"$f":"Data_4!S463","v":0}]
[{"$f":"Data_1!G464","v":0},{"$f":"Data_2!G464","v":0},{"$f":"Data_2!J464","v":0},{"$f":"Data_4!G464","v":0},{"$f":"Data_4!J464","v":0},{"$f":"Data_4!M464","v":0},{"$f":"Data_4!P464","v":0},null,null,{"$f":"Data_1!J464","v":0},{"$f":"Data_2!M464","v":0},{"$f":"Data_4!S464","v":0}]
[{"$f":"Data_1!G465","v":0},{"$f":"Data_2!G465","v":0},{"$f":"Data_2!J465","v":0},{"$f":"Data_4!G465","v":0},{"$f":"Data_4!J465","v":0},{"$f":"Data_4!M465","v":0},{"$f":"Data_4!P465","v":0},null,null,{"$f":"Data_1!J465","v":0},{"$f":"Data_2!M465","v":0},{"$f":"Data_4!S465","v":0}]
[{"$f":"Data_1!G466","v":0},{"$f":"Data_2!G466","v":0},{"$f":"Data_2!J466","v":0},{"$f":"Data_4!G466","v":0},{"$f":"Data_4!J466","v":0},{"$f":"Data_4!M466","v":0},{"$f":"Data_4!P466","v":0},null,null,{"$f":"Data_1!J466","v":0},{"$f":"Data_2!M466","v":0},{"$f":"Data_4!S466","v":0}]
[{"$f":"Data_1!G467","v":0},{"$f":"Data_2!G467","v":0},{"$f":"Data_2!J467","v":0},{"$f":"Data_4!G467","v":0},{"$f":"Data_4!J467","v":0},{"$f":"Data_4!M467","v":0},{"$f":"Data_4!P467","v":0},null,null,{"$f":"Data_1!J467","v":0},{"$f":"Data_2!M467","v":0},{"$f":"Data_4!S467","v":0}]
[{"$f":"Data_1!G468","v":0},{"$f":"Data_2!G468","v":0},{"$f":"Data_2!J468","v":0},{"$f":"Data_4!G468","v":0},{"$f":"Data_4!J468","v":0},{"$f":"Data_4!M468","v":0},{"$f":"Data_4!P468","v":0},null,null,{"$f":"Data_1!J468","v":0},{"$f":"Data_2!M468","v":0},{"$f":"Data_4!S468","v":0}]
[{"$f":"Data_1!G469","v":0},{"$f":"Data_2!G469","v":0},{"$f":"Data_2!J469","v":0},{"$f":"Data_4!G469","v":0},{"$f":"Data_4!J469","v":0},{"$f":"Data_4!M469","v":0},{"$f":"Data_4!P469","v":0},null,null,{"$f":"Data_1!J469","v":0},{"$f":"Data_2!M469","v":0},{"$f":"Data_4!S469","v":0}]
[{"$f":"Data_1!G470","v":0},{"$f":"Data_2!G470","v":0},{"$f":"Data_2!J470","v":0},{"$f":"Data_4!G470","v":0},{"$f":"Data_4!J470","v":0},{"$f":"Data_4!M470","v":0},{"$f":"Data_4!P470","v":0},null,null,{"$f":"Data_1!J470","v":0},{"$f":"Data_2!M470","v":0},{"$f":"Data_4!S470","v":0}]
[{"$f":"Data_1!G471","v":0},{"$f":"Data_2!G471","v":0},{"$f":"Data_2!J471","v":0},{"$f":"Data_4!G471","v":0},{"$f":"Data_4!J471","v":0},{"$f":"Data_4!M471","v":0},{"$f":"Data_4!P471","v":0},null,null,{"$f":"Data_1!J471","v":0},{"$f":"Data_2!M471","v":0},{"$f":"Data_4!S471","v":0}]
[{"$f":"Data_1!G472","v":0},{"$f":"Data_2!G472","v":0},{"$f":"Data_2!J472","v":0},{"$f":"Data_4!G472","v":0},{"$f":"Data_4!J472","v":0},{"$f":"Data_4!M472","v":0},{"$f":"Data_4!P472","v":0},null,null,{"$f":"Data_1!J472","v":0},{"$f":"Data_2!M472","v":0},{"$f":"Data_4!S472","v":0}]
[{"$f":"Data_1!G473","v":0},{"$f":"Data_2!G473","v":0},{"$f":"Data_2!J473","v":0},{"$f":"Data_4!G473","v":0},{"$f":"Data_4!J473","v":0},{"$f":"Data_4!M473","v":0},{"$f":"Data_4!P473","v":0},null,null,{"$f":"Data_1!J473","v":0},{"$f":"Data_2!M473","v":0},{"$f":"Data_4!S473","v":0}]
[{"$f":"Data_1!G474","v":0},{"$f":"Data_2!G474","v":0},{"$f":"Data_2!J474","v":0},{"$f":"Data_4!G474","v":0},{"$f":"Data_4!J474","v":0},{"$f":"Data_4!M474","v":0},{"$f":"Data_4!P474","v":0},null,null,{"$f":"Data_1!J474","v":0},{"$f":"Data_2!M474","v":0},{"$f":"Data_4!S474","v":0}]
[{"$f":"Data_1!G475","v":0},{"$f":"Data_2!G475","v":0},{"$f":"Data_2!J475","v":0},{"$f":"Data_4!G475","v":0},{"$f":"Data_4!J475","v":0},{"$f":"Data_4!M475","v":0},{"$f":"Data_4!P475","v":0},null,null,{"$f":"Data_1!J475","v":0},{"$f":"Data_2!M475","v":0},{"$f":"Data_4!S475","v":0}]
[{"$f":"Data_1!G476","v":0},{"$f":"Data_2!G476","v":0},{"$f":"Data_2!J476","v":0},{"$f":"Data_4!G476","v":0},{"$f":"Data_4!J476","v":0},{"$f":"Data_4!M476","v":0},{"$f":"Data_4!P476","v":0},null,null,{"$f":"Data_1!J476","v":0},{"$f":"Data_2!M476","v":0},{"$f":"Data_4!S476","v":0}]
[{"$f":"Data_1!G477","v":0},{"$f":"Data_2!G477","v":0},{"$f":"Data_2!J477","v":0},{"$f":"Data_4!G477","v":0},{"$f":"Data_4!J477","v":0},{"$f":"Data_4!M477","v":0},{"$f":"Data_4!P477","v":0},null,null,{"$f":"Data_1!J477","v":0},{"$f":"Data_2!M477","v":0},{"$f":"Data_4!S477","v":0}]
[{"$f":"Data_1!G478","v":0},{"$f":"Data_2!G478","v":0},{"$f":"Data_2!J478","v":0},{"$f":"Data_4!G478","v":0},{"$f":"Data_4!J478","v":0},{"$f":"Data_4!M478","v":0},{"$f":"Data_4!P478","v":0},null,null,{"$f":"Data_1!J478","v":0},{"$f":"Data_2!M478","v":0},{"$f":"Data_4!S478","v":0}]
[{"$f":"Data_1!G479","v":0},{"$f":"Data_2!G479","v":0},{"$f":"Data_2!J479","v":0},{"$f":"Data_4!G479","v":0},{"$f":"Data_4!J479","v":0},{"$f":"Data_4!M479","v":0},{"$f":"Data_4!P479","v":0},null,null,{"$f":"Data_1!J479","v":0},{"$f":"Data_2!M479","v":0},{"$f":"Data_4!S479","v":0}]
[{"$f":"Data_1!G480","v":0},{"$f":"Data_2!G480","v":0},{"$f":"Data_2!J480","v":0},{"$f":"Data_4!G480","v":0},{"$f":"Data_4!J480","v":0},{"$f":"Data_4!M480","v":0},{"$f":"Data_4!P480","v":0},null,null,{"$f":"Data_1!J480","v":0},{"$f":"Data_2!M480","v":0},{"$f":"Data_4!S480","v":0}]
[{"$f":"Data_1!G481","v":0},{"$f":"Data_2!G481","v":0},{"$f":"Data_2!J481","v":0},{"$f":"Data_4!G481","v":0},{"$f":"Data_4!J481","v":0},{"$f":"Data_4!M481","v":0},{"$f":"Data_4!P481","v":0},null,null,{"$f":"Data_1!J481","v":0},{"$f":"Data_2!M481","v":0},{"$f":"Data_4!S481","v":0}]
[{"$f":"Data_1!G482","v":0},{"$f":"Data_2!G482","v":0},{"$f":"Data_2!J482","v":0},{"$f":"Data_4!G482","v":0},{"$f":"Data_4!J482","v":0},{"$f":"Data_4!M482","v":0},{"$f":"Data_4!P482","v":0},null,null,{"$f":"Data_1!J482","v":0},{"$f":"Data_2!M482","v":0},{"$f":"Data_4!S482","v":0}]
[{"$f":"Data_1!G483","v":0},{"$f":"Data_2!G483","v":0},{"$f":"Data_2!J483","v":0},{"$f":"Data_4!G483","v":0},{"$f":"Data_4!J483","v":0},{"$f":"Data_4!M483","v":0},{"$f":"Data_4!P483","v":0},null,null,{"$f":"Data_1!J483","v":0},{"$f":"Data_2!M483","v":0},{"$f":"Data_4!S483","v":0}]
[{"$f":"Data_1!G484","v":0},{"$f":"Data_2!G484","v":0},{"$f":"Data_2!J484","v":0},{"$f":"Data_4!G484","v":0},{"$f":"Data_4!J484","v":0},{"$f":"Data_4!M484","v":0},{"$f":"Data_4!P484","v":0},null,null,{"$f":"Data_1!J484","v":0},{"$f":"Data_2!M484","v":0},{"$f":"Data_4!S484","v":0}]
[{"$f":"Data_1!G485","v":0},{"$f":"Data_2!G485","v":0},{"$f":"Data_2!J485","v":0},{"$f":"Data_4!G485","v":0},{"$f":"Data_4!J485","v":0},{"$f":"Data_4!M485","v":0},{"$f":"Data_4!P485","v":0},null,null,{"$f":"Data_1!J485","v":0},{"$f":"Data_2!M485","v":0},{"$f":"Data_4!S485","v":0}]
[{"$f":"Data_1!G486","v":0},{"$f":"Data_2!G486","v":0},{"$f":"Data_2!J486","v":0},{"$f":"Data_4!G486","v":0},{"$f":"Data_4!J486","v":0},{"$f":"Data_4!M486","v":0},{"$f":"Data_4!P486","v":0},null,null,{"$f":"Data_1!J486","v":0},{"$f":"Data_2!M486","v":0},{"$f":"Data_4!S486","v":0}]
[{"$f":"Data_1!G487","v":0},{"$f":"Data_2!G487","v":0},{"$f":"Data_2!J487","v":0},{"$f":"Data_4!G487","v":0},{"$f":"Data_4!J487","v":0},{"$f":"Data_4!M487","v":0},{"$f":"Data_4!P487","v":0},null,null,{"$f":"Data_1!J487","v":0},{"$f":"Data_2!M487","v":0},{"$f":"Data_4!S487","v":0}]
[{"$f":"Data_1!G488","v":0},{"$f":"Data_2!G488","v":0},{"$f":"Data_2!J488","v":0},{"$f":"Data_4!G488","v":0},{"$f":"Data_4!J488","v":0},{"$f":"Data_4!M488","v":0},{"$f":"Data_4!P488","v":0},null,null,{"$f":"Data_1!J488","v":0},{"$f":"Data_2!M488","v":0},{"$f":"Data_4!S488","v":0}]
[{"$f":"Data_1!G489","v":0},{"$f":"Data_2!G489","v":0},{"$f":"Data_2!J489","v":0},{"$f":"Data_4!G489","v":0},{"$f":"Data_4!J489","v":0},{"$f":"Data_4!M489","v":0},{"$f":"Data_4!P489","v":0},null,null,{"$f":"Data_1!J489","v":0},{"$f":"Data_2!M489","v":0},{"$f":"Data_4!S489","v":0}]
[{"$f":"Data_1!G490","v":0},{"$f":"Data_2!G490","v":0},{"$f":"Data_2!J490","v":0},{"$f":"Data_4!G490","v":0},{"$f":"Data_4!J490","v":0},{"$f":"Data_4!M490","v":0},{"$f":"Data_4!P490","v":0},null,null,{"$f":"Data_1!J490","v":0},{"$f":"Data_2!M490","v":0},{"$f":"Data_4!S490","v":0}]
[{"$f":"Data_1!G491","v":0},{"$f":"Data_2!G491","v":0},{"$f":"Data_2!J491","v":0},{"$f":"Data_4!G491","v":0},{"$f":"Data_4!J491","v":0},{"$f":"Data_4!M491","v":0},{"$f":"Data_4!P491","v":0},null,null,{"$f":"Data_1!J491","v":0},{"$f":"Data_2!M491","v":0},{"$f":"Data_4!S491","v":0}]
[{"$f":"Data_1!G492","v":0},{"$f":"Data_2!G492","v":0},{"$f":"Data_2!J492","v":0},{"$f":"Data_4!G492","v":0},{"$f":"Data_4!J492","v":0},{"$f":"Data_4!M492","v":0},{"$f":"Data_4!P492","v":0},null,null,{"$f":"Data_1!J492","v":0},{"$f":"Data_2!M492","v":0},{"$f":"Data_4!S492","v":0}]
[{"$f":"Data_1!G493","v":0},{"$f":"Data_2!G493","v":0},{"$f":"Data_2!J493","v":0},{"$f":"Data_4!G493","v":0},{"$f":"Data_4!J493","v":0},{"$f":"Data_4!M493","v":0},{"$f":"Data_4!P493","v":0},null,null,{"$f":"Data_1!J493","v":0},{"$f":"Data_2!M493","v":0},{"$f":"Data_4!S493","v":0}]
[{"$f":"Data_1!G494","v":0},{"$f":"Data_2!G494","v":0},{"$f":"Data_2!J494","v":0},{"$f":"Data_4!G494","v":0},{"$f":"Data_4!J494","v":0},{"$f":"Data_4!M494","v":0},{"$f":"Data_4!P494","v":0},null,null,{"$f":"Data_1!J494","v":0},{"$f":"Data_2!M494","v":0},{"$f":"Data_4!S494","v":0}]
[{"$f":"Data_1!G495","v":0},{"$f":"Data_2!G495","v":0},{"$f":"Data_2!J495","v":0},{"$f":"Data_4!G495","v":0},{"$f":"Data_4!J495","v":0},{"$f":"Data_4!M495","v":0},{"$f":"Data_4!P495","v":0},null,null,{"$f":"Data_1!J495","v":0},{"$f":"Data_2!M495","v":0},{"$f":"Data_4!S495","v":0}]
[{"$f":"Data_1!G496","v":0},{"$f":"Data_2!G496","v":0},{"$f":"Data_2!J496","v":0},{"$f":"Data_4!G496","v":0},{"$f":"Data_4!J496","v":0},{"$f":"Data_4!M496","v":0},{"$f":"Data_4!P496","v":0},null,null,{"$f":"Data_1!J496","v":0},{"$f":"Data_2!M496","v":0},{"$f":"Data_4!S496","v":0}]
[{"$f":"Data_1!G497","v":0},{"$f":"Data_2!G497","v":0},{"$f":"Data_2!J497","v":0},{"$f":"Data_4!G497","v":0},{"$f":"Data_4!J497","v":0},{"$f":"Data_4!M497","v":0},{"$f":"Data_4!P497","v":0},null,null,{"$f":"Data_1!J497","v":0},{"$f":"Data_2!M497","v":0},{"$f":"Data_4!S497","v":0}]
[{"$f":"Data_1!G498","v":0},{"$f":"Data_2!G498","v":0},{"$f":"Data_2!J498","v":0},{"$f":"Data_4!G498","v":0},{"$f":"Data_4!J498","v":0},{"$f":"Data_4!M498","v":0},{"$f":"Data_4!P498","v":0},null,null,{"$f":"Data_1!J498","v":0},{"$f":"Data_2!M498","v":0},{"$f":"Data_4!S498","v":0}]
[{"$f":"Data_1!G499","v":0},{"$f":"Data_2!G499","v":0},{"$f":"Data_2!J499","v":0},{"$f":"Data_4!G499","v":0},{"$f":"Data_4!J499","v":0},{"$f":"Data_4!M499","v":0},{"$f":"Data_4!P499","v":0},null,null,{"$f":"Data_1!J499","v":0},{"$f":"Data_2!M499","v":0},{"$f":"Data_4!S499","v":0}]
[{"$f":"Data_1!G500","v":0},{"$f":"Data_2!G500","v":0},{"$f":"Data_2!J500","v":0},{"$f":"Data_4!G500","v":0},{"$f":"Data_4!J500","v":0},{"$f":"Data_4!M500","v":0},{"$f":"Data_4!P500","v":0},null,null,{"$f":"Data_1!J500","v":0},{"$f":"Data_2!M500","v":0},{"$f":"Data_4!S500","v":0}]
[{"$f":"Data_1!G501","v":0},{"$f":"Data_2!G501","v":0},{"$f":"Data_2!J501","v":0},{"$f":"Data_4!G501","v":0},{"$f":"Data_4!J501","v":0},{"$f":"Data_4!M501","v":0},{"$f":"Data_4!P501","v":0},null,null,{"$f":"Data_1!J501","v":0},{"$f":"Data_2!M501","v":0},{"$f":"Data_4!S501","v":0}]
[{"$f":"Data_1!G502","v":0},{"$f":"Data_2!G502","v":0},{"$f":"Data_2!J502","v":0},{"$f":"Data_4!G502","v":0},{"$f":"Data_4!J502","v":0},{"$f":"Data_4!M502","v":0},{"$f":"Data_4!P502","v":0},null,null,{"$f":"Data_1!J502","v":0},{"$f":"Data_2!M502","v":0},{"$f":"Data_4!S502","v":0}]
[{"$f":"Data_1!G503","v":0},{"$f":"Data_2!G503","v":0},{"$f":"Data_2!J503","v":0},{"$f":"Data_4!G503","v":0},{"$f":"Data_4!J503","v":0},{"$f":"Data_4!M503","v":0},{"$f":"Data_4!P503","v":0},null,null,{"$f":"Data_1!J503","v":0},{"$f":"Data_2!M503","v":0},{"$f":"Data_4!S503","v":0}]
[{"$f":"Data_1!G504","v":0},{"$f":"Data_2!G504","v":0},{"$f":"Data_2!J504","v":0},{"$f":"Data_4!G504","v":0},{"$f":"Data_4!J504","v":0},{"$f":"Data_4!M504","v":0},{"$f":"Data_4!P504","v":0},null,null,{"$f":"Data_1!J504","v":0},{"$f":"Data_2!M504","v":0},{"$f":"Data_4!S504","v":0}]
[{"$f":"Data_1!G505","v":0},{"$f":"Data_2!G505","v":0},{"$f":"Data_2!J505","v":0},{"$f":"Data_4!G505","v":0},{"$f":"Data_4!J505","v":0},{"$f":"Data_4!M505","v":0},{"$f":"Data_4!P505","v":0},null,null,{"$f":"Data_1!J505","v":0},{"$f":"Data_2!M505","v":0},{"$f":"Data_4!S505","v":0}]
[{"$f":"Data_1!G506","v":0},{"$f":"Data_2!G506","v":0},{"$f":"Data_2!J506","v":0},{"$f":"Data_4!G506","v":0},{"$f":"Data_4!J506","v":0},{"$f":"Data_4!M506","v":0},{"$f":"Data_4!P506","v":0},null,null,{"$f":"Data_1!J506","v":0},{"$f":"Data_2!M506","v":0},{"$f":"Data_4!S506","v":0}]
[{"$f":"Data_1!G507","v":0},{"$f":"Data_2!G507","v":0},{"$f":"Data_2!J507","v":0},{"$f":"Data_4!G507","v":0},{"$f":"Data_4!J507","v":0},{"$f":"Data_4!M507","v":0},{"$f":"Data_4!P507","v":0},null,null,{"$f":"Data_1!J507","v":0},{"$f":"Data_2!M507","v":0},{"$f":"Data_4!S507","v":0}]
[{"$f":"Data_1!G508","v":0},{"$f":"Data_2!G508","v":0},{"$f":"Data_2!J508","v":0},{"$f":"Data_4!G508","v":0},{"$f":"Data_4!J508","v":0},{"$f":"Data_4!M508","v":0},{"$f":"Data_4!P508","v":0},null,null,{"$f":"Data_1!J508","v":0},{"$f":"Data_2!M508","v":0},{"$f":"Data_4!S508","v":0}]
[{"$f":"Data_1!G509","v":0},{"$f":"Data_2!G509","v":0},{"$f":"Data_2!J509","v":0},{"$f":"Data_4!G509","v":0},{"$f":"Data_4!J509","v":0},{"$f":"Data_4!M509","v":0},{"$f":"Data_4!P509","v":0},null,null,{"$f":"Data_1!J509","v":0},{"$f":"Data_2!M509","v":0},{"$f":"Data_4!S509","v":0}]
[{"$f":"Data_1!G510","v":0},{"$f":"Data_2!G510","v":0},{"$f":"Data_2!J510","v":0},{"$f":"Data_4!G510","v":0},{"$f":"Data_4!J510","v":0},{"$f":"Data_4!M510","v":0},{"$f":"Data_4!P510","v":0},null,null,{"$f":"Data_1!J510","v":0},{"$f":"Data_2!M510","v":0},{"$f":"Data_4!S510","v":0}]
[{"$f":"Data_1!G511","v":0},{"$f":"Data_2!G511","v":0},{"$f":"Data_2!J511","v":0},{"$f":"Data_4!G511","v":0},{"$f":"Data_4!J511","v":0},{"$f":"Data_4!M511","v":0},{"$f":"Data_4!P511","v":0},null,null,{"$f":"Data_1!J511","v":0},{"$f":"Data_2!M511","v":0},{"$f":"Data_4!S511","v":0}]
[{"$f":"Data_1!G512","v":0},{"$f":"Data_2!G512","v":0},{"$f":"Data_2!J512","v":0},{"$f":"Data_4!G512","v":0},{"$f":"Data_4!J512","v":0},{"$f":"Data_4!M512","v":0},{"$f":"Data_4!P512","v":0},null,null,{"$f":"Data_1!J512","v":0},{"$f":"Data_2!M512","v":0},{"$f":"Data_4!S512","v":0}]
[{"$f":"Data_1!G513","v":0},{"$f":"Data_2!G513","v":0},{"$f":"Data_2!J513","v":0},{"$f":"Data_4!G513","v":0},{"$f":"Data_4!J513","v":0},{"$f":"Data_4!M513","v":0},{"$f":"Data_4!P513","v":0},null,null,{"$f":"Data_1!J513","v":0},{"$f":"Data_2!M513","v":0},{"$f":"Data_4!S513","v":0}]
[{"$f":"Data_1!G514","v":0},{"$f":"Data_2!G514","v":0},{"$f":"Data_2!J514","v":0},{"$f":"Data_4!G514","v":0},{"$f":"Data_4!J514","v":0},{"$f":"Data_4!M514","v":0},{"$f":"Data_4!P514","v":0},null,null,{"$f":"Data_1!J514","v":0},{"$f":"Data_2!M514","v":0},{"$f":"Data_4!S514","v":0}]
[{"$f":"Data_1!G515","v":0},{"$f":"Data_2!G515","v":0},{"$f":"Data_2!J515","v":0},{"$f":"Data_4!G515","v":0},{"$f":"Data_4!J515","v":0},{"$f":"Data_4!M515","v":0},{"$f":"Data_4!P515","v":0},null,null,{"$f":"Data_1!J515","v":0},{"$f":"Data_2!M515","v":0},{"$f":"Data_4!S515","v":0}]
[{"$f":"Data_1!G516","v":0},{"$f":"Data_2!G516","v":0},{"$f":"Data_2!J516","v":0},{"$f":"Data_4!G516","v":0},{"$f":"Data_4!J516","v":0},{"$f":"Data_4!M516","v":0},{"$f":"Data_4!P516","v":0},null,null,{"$f":"Data_1!J516","v":0},{"$f":"Data_2!M516","v":0},{"$f":"Data_4!S516","v":0}]
[{"$f":"Data_1!G517","v":0},{"$f":"Data_2!G517","v":0},{"$f":"Data_2!J517","v":0},{"$f":"Data_4!G517","v":0},{"$f":"Data_4!J517","v":0},{"$f":"Data_4!M517","v":0},{"$f":"Data_4!P517","v":0},null,null,{"$f":"Data_1!J517","v":0},{"$f":"Data_2!M517","v":0},{"$f":"Data_4!S517","v":0}]
[{"$f":"Data_1!G518","v":0},{"$f":"Data_2!G518","v":0},{"$f":"Data_2!J518","v":0},{"$f":"Data_4!G518","v":0},{"$f":"Data_4!J518","v":0},{"$f":"Data_4!M518","v":0},{"$f":"Data_4!P518","v":0},null,null,{"$f":"Data_1!J518","v":0},{"$f":"Data_2!M518","v":0},{"$f":"Data_4!S518","v":0}]
[{"$f":"Data_1!G519","v":0},{"$f":"Data_2!G519","v":0},{"$f":"Data_2!J519","v":0},{"$f":"Data_4!G519","v":0},{"$f":"Data_4!J519","v":0},{"$f":"Data_4!M519","v":0},{"$f":"Data_4!P519","v":0},null,null,{"$f":"Data_1!J519","v":0},{"$f":"Data_2!M519","v":0},{"$f":"Data_4!S519","v":0}]
[{"$f":"Data_1!G520","v":0},{"$f":"Data_2!G520","v":0},{"$f":"Data_2!J520","v":0},{"$f":"Data_4!G520","v":0},{"$f":"Data_4!J520","v":0},{"$f":"Data_4!M520","v":0},{"$f":"Data_4!P520","v":0},null,null,{"$f":"Data_1!J520","v":0},{"$f":"Data_2!M520","v":0},{"$f":"Data_4!S520","v":0}]
[{"$f":"Data_1!G521","v":0},{"$f":"Data_2!G521","v":0},{"$f":"Data_2!J521","v":0},{"$f":"Data_4!G521","v":0},{"$f":"Data_4!J521","v":0},{"$f":"Data_4!M521","v":0},{"$f":"Data_4!P521","v":0},null,null,{"$f":"Data_1!J521","v":0},{"$f":"Data_2!M521","v":0},{"$f":"Data_4!S521","v":0}]
[{"$f":"Data_1!G522","v":0},{"$f":"Data_2!G522","v":0},{"$f":"Data_2!J522","v":0},{"$f":"Data_4!G522","v":0},{"$f":"Data_4!J522","v":0},{"$f":"Data_4!M522","v":0},{"$f":"Data_4!P522","v":0},null,null,{"$f":"Data_1!J522","v":0},{"$f":"Data_2!M522","v":0},{"$f":"Data_4!S522","v":0}]
[{"$f":"Data_1!G523","v":0},{"$f":"Data_2!G523","v":0},{"$f":"Data_2!J523","v":0},{"$f":"Data_4!G523","v":0},{"$f":"Data_4!J523","v":0},{"$f":"Data_4!M523","v":0},{"$f":"Data_4!P523","v":0},null,null,{"$f":"Data_1!J523","v":0},{"$f":"Data_2!M523","v":0},{"$f":"Data_4!S523","v":0}]
[{"$f":"Data_1!G524","v":0},{"$f":"Data_2!G524","v":0},{"$f":"Data_2!J524","v":0},{"$f":"Data_4!G524","v":0},{"$f":"Data_4!J524","v":0},{"$f":"Data_4!M524","v":0},{"$f":"Data_4!P524","v":0},null,null,{"$f":"Data_1!J524","v":0},{"$f":"Data_2!M524","v":0},{"$f":"Data_4!S524","v":0}]
[{"$f":"Data_1!G525","v":0},{"$f":"Data_2!G525","v":0},{"$f":"Data_2!J525","v":0},{"$f":"Data_4!G525","v":0},{"$f":"Data_4!J525","v":0},{"$f":"Data_4!M525","v":0},{"$f":"Data_4!P525","v":0},null,null,{"$f":"Data_1!J525","v":0},{"$f":"Data_2!M525","v":0},{"$f":"Data_4!S525","v":0}]
[{"$f":"Data_1!G526","v":0},{"$f":"Data_2!G526","v":0},{"$f":"Data_2!J526","v":0},{"$f":"Data_4!G526","v":0},{"$f":"Data_4!J526","v":0},{"$f":"Data_4!M526","v":0},{"$f":"Data_4!P526","v":0},null,null,{"$f":"Data_1!J526","v":0},{"$f":"Data_2!M526","v":0},{"$f":"Data_4!S526","v":0}]
[{"$f":"Data_1!G527","v":0},{"$f":"Data_2!G527","v":0},{"$f":"Data_2!J527","v":0},{"$f":"Data_4!G527","v":0},{"$f":"Data_4!J527","v":0},{"$f":"Data_4!M527","v":0},{"$f":"Data_4!P527","v":0},null,null,{"$f":"Data_1!J527","v":0},{"$f":"Data_2!M527","v":0},{"$f":"Data_4!S527","v":0}]
[{"$f":"Data_1!G528","v":0},{"$f":"Data_2!G528","v":0},{"$f":"Data_2!J528","v":0},{"$f":"Data_4!G528","v":0},{"$f":"Data_4!J528","v":0},{"$f":"Data_4!M528","v":0},{"$f":"Data_4!P528","v":0},null,null,{"$f":"Data_1!J528","v":0},{"$f":"Data_2!M528","v":0},{"$f":"Data_4!S528","v":0}]
[{"$f":"Data_1!G529","v":0},{"$f":"Data_2!G529","v":0},{"$f":"Data_2!J529","v":0},{"$f":"Data_4!G529","v":0},{"$f":"Data_4!J529","v":0},{"$f":"Data_4!M529","v":0},{"$f":"Data_4!P529","v":0},null,null,{"$f":"Data_1!J529","v":0},{"$f":"Data_2!M529","v":0},{"$f":"Data_4!S529","v":0}]
[{"$f":"Data_1!G530","v":0},{"$f":"Data_2!G530","v":0},{"$f":"Data_2!J530","v":0},{"$f":"Data_4!G530","v":0},{"$f":"Data_4!J530","v":0},{"$f":"Data_4!M530","v":0},{"$f":"Data_4!P530","v":0},null,null,{"$f":"Data_1!J530","v":0},{"$f":"Data_2!M530","v":0},{"$f":"Data_4!S530","v":0}]
[{"$f":"Data_1!G531","v":0},{"$f":"Data_2!G531","v":0},{"$f":"Data_2!J531","v":0},{"$f":"Data_4!G531","v":0},{"$f":"Data_4!J531","v":0},{"$f":"Data_4!M531","v":0},{"$f":"Data_4!P531","v":0},null,null,{"$f":"Data_1!J531","v":0},{"$f":"Data_2!M531","v":0},{"$f":"Data_4!S531","v":0}]
[{"$f":"Data_1!G532","v":0},{"$f":"Data_2!G532","v":0},{"$f":"Data_2!J532","v":0},{"$f":"Data_4!G532","v":0},{"$f":"Data_4!J532","v":0},{"$f":"Data_4!M532","v":0},{"$f":"Data_4!P532","v":0},null,null,{"$f":"Data_1!J532","v":0},{"$f":"Data_2!M532","v":0},{"$f":"Data_4!S532","v":0}]
[{"$f":"Data_1!G533","v":0},{"$f":"Data_2!G533","v":0},{"$f":"Data_2!J533","v":0},{"$f":"Data_4!G533","v":0},{"$f":"Data_4!J533","v":0},{"$f":"Data_4!M533","v":0},{"$f":"Data_4!P533","v":0},null,null,{"$f":"Data_1!J533","v":0},{"$f":"Data_2!M533","v":0},{"$f":"Data_4!S533","v":0}]
[{"$f":"Data_1!G534","v":0},{"$f":"Data_2!G534","v":0},{"$f":"Data_2!J534","v":0},{"$f":"Data_4!G534","v":0},{"$f":"Data_4!J534","v":0},{"$f":"Data_4!M534","v":0},{"$f":"Data_4!P534","v":0},null,null,{"$f":"Data_1!J534","v":0},{"$f":"Data_2!M534","v":0},{"$f":"Data_4!S534","v":0}]
[{"$f":"Data_1!G535","v":0},{"$f":"Data_2!G535","v":0},{"$f":"Data_2!J535","v":0},{"$f":"Data_4!G535","v":0},{"$f":"Data_4!J535","v":0},{"$f":"Data_4!M535","v":0},{"$f":"Data_4!P535","v":0},null,null,{"$f":"Data_1!J535","v":0},{"$f":"Data_2!M535","v":0},{"$f":"Data_4!S535","v":0}]
[{"$f":"Data_1!G536","v":0},{"$f":"Data_2!G536","v":0},{"$f":"Data_2!J536","v":0},{"$f":"Data_4!G536","v":0},{"$f":"Data_4!J536","v":0},{"$f":"Data_4!M536","v":0},{"$f":"Data_4!P536","v":0},null,null,{"$f":"Data_1!J536","v":0},{"$f":"Data_2!M536","v":0},{"$f":"Data_4!S536","v":0}]
[{"$f":"Data_1!G537","v":0},{"$f":"Data_2!G537","v":0},{"$f":"Data_2!J537","v":0},{"$f":"Data_4!G537","v":0},{"$f":"Data_4!J537","v":0},{"$f":"Data_4!M537","v":0},{"$f":"Data_4!P537","v":0},null,null,{"$f":"Data_1!J537","v":0},{"$f":"Data_2!M537","v":0},{"$f":"Data_4!S537","v":0}]
[{"$f":"Data_1!G538","v":0},{"$f":"Data_2!G538","v":0},{"$f":"Data_2!J538","v":0},{"$f":"Data_4!G538","v":0},{"$f":"Data_4!J538","v":0},{"$f":"Data_4!M538","v":0},{"$f":"Data_4!P538","v":0},null,null,{"$f":"Data_1!J538","v":0},{"$f":"Data_2!M538","v":0},{"$f":"Data_4!S538","v":0}]
[{"$f":"Data_1!G539","v":0},{"$f":"Data_2!G539","v":0},{"$f":"Data_2!J539","v":0},{"$f":"Data_4!G539","v":0},{"$f":"Data_4!J539","v":0},{"$f":"Data_4!M539","v":0},{"$f":"Data_4!P539","v":0},null,null,{"$f":"Data_1!J539","v":0},{"$f":"Data_2!M539","v":0},{"$f":"Data_4!S539","v":0}]
[{"$f":"Data_1!G540","v":0},{"$f":"Data_2!G540","v":0},{"$f":"Data_2!J540","v":0},{"$f":"Data_4!G540","v":0},{"$f":"Data_4!J540","v":0},{"$f":"Data_4!M540","v":0},{"$f":"Data_4!P540","v":0},null,null,{"$f":"Data_1!J540","v":0},{"$f":"Data_2!M540","v":0},{"$f":"Data_4!S540","v":0}]
[{"$f":"Data_1!G541","v":0},{"$f":"Data_2!G541","v":0},{"$f":"Data_2!J541","v":0},{"$f":"Data_4!G541","v":0},{"$f":"Data_4!J541","v":0},{"$f":"Data_4!M541","v":0},{"$f":"Data_4!P541","v":0},null,null,{"$f":"Data_1!J541","v":0},{"$f":"Data_2!M541","v":0},{"$f":"Data_4!S541","v":0}]
[{"$f":"Data_1!G542","v":0},{"$f":"Data_2!G542","v":0},{"$f":"Data_2!J542","v":0},{"$f":"Data_4!G542","v":0},{"$f":"Data_4!J542","v":0},{"$f":"Data_4!M542","v":0},{"$f":"Data_4!P542","v":0},null,null,{"$f":"Data_1!J542","v":0},{"$f":"Data_2!M542","v":0},{"$f":"Data_4!S542","v":0}]
[{"$f":"Data_1!G543","v":0},{"$f":"Data_2!G543","v":0},{"$f":"Data_2!J543","v":0},{"$f":"Data_4!G543","v":0},{"$f":"Data_4!J543","v":0},{"$f":"Data_4!M543","v":0},{"$f":"Data_4!P543","v":0},null,null,{"$f":"Data_1!J543","v":0},{"$f":"Data_2!M543","v":0},{"$f":"Data_4!S543","v":0}]
[{"$f":"Data_1!G544","v":0},{"$f":"Data_2!G544","v":0},{"$f":"Data_2!J544","v":0},{"$f":"Data_4!G544","v":0},{"$f":"Data_4!J544","v":0},{"$f":"Data_4!M544","v":0},{"$f":"Data_4!P544","v":0},null,null,{"$f":"Data_1!J544","v":0},{"$f":"Data_2!M544","v":0},{"$f":"Data_4!S544","v":0}]
[{"$f":"Data_1!G545","v":0},{"$f":"Data_2!G545","v":0},{"$f":"Data_2!J545","v":0},{"$f":"Data_4!G545","v":0},{"$f":"Data_4!J545","v":0},{"$f":"Data_4!M545","v":0},{"$f":"Data_4!P545","v":0},null,null,{"$f":"Data_1!J545","v":0},{"$f":"Data_2!M545","v":0},{"$f":"Data_4!S545","v":0}]
[{"$f":"Data_1!G546","v":0},{"$f":"Data_2!G546","v":0},{"$f":"Data_2!J546","v":0},{"$f":"Data_4!G546","v":0},{"$f":"Data_4!J546","v":0},{"$f":"Data_4!M546","v":0},{"$f":"Data_4!P546","v":0},null,null,{"$f":"Data_1!J546","v":0},{"$f":"Data_2!M546","v":0},{"$f":"Data_4!S546","v":0}]
[{"$f":"Data_1!G547","v":0},{"$f":"Data_2!G547","v":0},{"$f":"Data_2!J547","v":0},{"$f":"Data_4!G547","v":0},{"$f":"Data_4!J547","v":0},{"$f":"Data_4!M547","v":0},{"$f":"Data_4!P547","v":0},null,null,{"$f":"Data_1!J547","v":0},{"$f":"Data_2!M547","v":0},{"$f":"Data_4!S547","v":0}]
[{"$f":"Data_1!G548","v":0},{"$f":"Data_2!G548","v":0},{"$f":"Data_2!J548","v":0},{"$f":"Data_4!G548","v":0},{"$f":"Data_4!J548","v":0},{"$f":"Data_4!M548","v":0},{"$f":"Data_4!P548","v":0},null,null,{"$f":"Data_1!J548","v":0},{"$f":"Data_2!M548","v":0},{"$f":"Data_4!S548","v":0}]
[{"$f":"Data_1!G549","v":0},{"$f":"Data_2!G549","v":0},{"$f":"Data_2!J549","v":0},{"$f":"Data_4!G549","v":0},{"$f":"Data_4!J549","v":0},{"$f":"Data_4!M549","v":0},{"$f":"Data_4!P549","v":0},null,null,{"$f":"Data_1!J549","v":0},{"$f":"Data_2!M549","v":0},{"$f":"Data_4!S549","v":0}]
[{"$f":"Data_1!G550","v":0},{"$f":"Data_2!G550","v":0},{"$f":"Data_2!J550","v":0},{"$f":"Data_4!G550","v":0},{"$f":"Data_4!J550","v":0},{"$f":"Data_4!M550","v":0},{"$f":"Data_4!P550","v":0},null,null,{"$f":"Data_1!J550","v":0},{"$f":"Data_2!M550","v":0},{"$f":"Data_4!S550","v":0}]
[{"$f":"Data_1!G551","v":0},{"$f":"Data_2!G551","v":0},{"$f":"Data_2!J551","v":0},{"$f":"Data_4!G551","v":0},{"$f":"Data_4!J551","v":0},{"$f":"Data_4!M551","v":0},{"$f":"Data_4!P551","v":0},null,null,{"$f":"Data_1!J551","v":0},{"$f":"Data_2!M551","v":0},{"$f":"Data_4!S551","v":0}]
[{"$f":"Data_1!G552","v":0},{"$f":"Data_2!G552","v":0},{"$f":"Data_2!J552","v":0},{"$f":"Data_4!G552","v":0},{"$f":"Data_4!J552","v":0},{"$f":"Data_4!M552","v":0},{"$f":"Data_4!P552","v":0},null,null,{"$f":"Data_1!J552","v":0},{"$f":"Data_2!M552","v":0},{"$f":"Data_4!S552","v":0}]
[{"$f":"Data_1!G553","v":0},{"$f":"Data_2!G553","v":0},{"$f":"Data_2!J553","v":0},{"$f":"Data_4!G553","v":0},{"$f":"Data_4!J553","v":0},{"$f":"Data_4!M553","v":0},{"$f":"Data_4!P553","v":0},null,null,{"$f":"Data_1!J553","v":0},{"$f":"Data_2!M553","v":0},{"$f":"Data_4!S553","v":0}]
[{"$f":"Data_1!G554","v":0},{"$f":"Data_2!G554","v":0},{"$f":"Data_2!J554","v":0},{"$f":"Data_4!G554","v":0},{"$f":"Data_4!J554","v":0},{"$f":"Data_4!M554","v":0},{"$f":"Data_4!P554","v":0},null,null,{"$f":"Data_1!J554","v":0},{"$f":"Data_2!M554","v":0},{"$f":"Data_4!S554","v":0}]
[{"$f":"Data_1!G555","v":0},{"$f":"Data_2!G555","v":0},{"$f":"Data_2!J555","v":0},{"$f":"Data_4!G555","v":0},{"$f":"Data_4!J555","v":0},{"$f":"Data_4!M555","v":0},{"$f":"Data_4!P555","v":0},null,null,{"$f":"Data_1!J555","v":0},{"$f":"Data_2!M555","v":0},{"$f":"Data_4!S555","v":0}]
[{"$f":"Data_1!G556","v":0},{"$f":"Data_2!G556","v":0},{"$f":"Data_2!J556","v":0},{"$f":"Data_4!G556","v":0},{"$f":"Data_4!J556","v":0},{"$f":"Data_4!M556","v":0},{"$f":"Data_4!P556","v":0},null,null,{"$f":"Data_1!J556","v":0},{"$f":"Data_2!M556","v":0},{"$f":"Data_4!S556","v":0}]
[{"$f":"Data_1!G557","v":0},{"$f":"Data_2!G557","v":0},{"$f":"Data_2!J557","v":0},{"$f":"Data_4!G557","v":0},{"$f":"Data_4!J557","v":0},{"$f":"Data_4!M557","v":0},{"$f":"Data_4!P557","v":0},null,null,{"$f":"Data_1!J557","v":0},{"$f":"Data_2!M557","v":0},{"$f":"Data_4!S557","v":0}]
[{"$f":"Data_1!G558","v":0},{"$f":"Data_2!G558","v":0},{"$f":"Data_2!J558","v":0},{"$f":"Data_4!G558","v":0},{"$f":"Data_4!J558","v":0},{"$f":"Data_4!M558","v":0},{"$f":"Data_4!P558","v":0},null,null,{"$f":"Data_1!J558","v":0},{"$f":"Data_2!M558","v":0},{"$f":"Data_4!S558","v":0}]
[{"$f":"Data_1!G559","v":0},{"$f":"Data_2!G559","v":0},{"$f":"Data_2!J559","v":0},{"$f":"Data_4!G559","v":0},{"$f":"Data_4!J559","v":0},{"$f":"Data_4!M559","v":0},{"$f":"Data_4!P559","v":0},null,null,{"$f":"Data_1!J559","v":0},{"$f":"Data_2!M559","v":0},{"$f":"Data_4!S559","v":0}]
[{"$f":"Data_1!G560","v":0},{"$f":"Data_2!G560","v":0},{"$f":"Data_2!J560","v":0},{"$f":"Data_4!G560","v":0},{"$f":"Data_4!J560","v":0},{"$f":"Data_4!M560","v":0},{"$f":"Data_4!P560","v":0},null,null,{"$f":"Data_1!J560","v":0},{"$f":"Data_2!M560","v":0},{"$f":"Data_4!S560","v":0}]
[{"$f":"Data_1!G561","v":0},{"$f":"Data_2!G561","v":0},{"$f":"Data_2!J561","v":0},{"$f":"Data_4!G561","v":0},{"$f":"Data_4!J561","v":0},{"$f":"Data_4!M561","v":0},{"$f":"Data_4!P561","v":0},null,null,{"$f":"Data_1!J561","v":0},{"$f":"Data_2!M561","v":0},{"$f":"Data_4!S561","v":0}]
[{"$f":"Data_1!G562","v":0},{"$f":"Data_2!G562","v":0},{"$f":"Data_2!J562","v":0},{"$f":"Data_4!G562","v":0},{"$f":"Data_4!J562","v":0},{"$f":"Data_4!M562","v":0},{"$f":"Data_4!P562","v":0},null,null,{"$f":"Data_1!J562","v":0},{"$f":"Data_2!M562","v":0},{"$f":"Data_4!S562","v":0}]
[{"$f":"Data_1!G563","v":0},{"$f":"Data_2!G563","v":0},{"$f":"Data_2!J563","v":0},{"$f":"Data_4!G563","v":0},{"$f":"Data_4!J563","v":0},{"$f":"Data_4!M563","v":0},{"$f":"Data_4!P563","v":0},null,null,{"$f":"Data_1!J563","v":0},{"$f":"Data_2!M563","v":0},{"$f":"Data_4!S563","v":0}]
[{"$f":"Data_1!G564","v":0},{"$f":"Data_2!G564","v":0},{"$f":"Data_2!J564","v":0},{"$f":"Data_4!G564","v":0},{"$f":"Data_4!J564","v":0},{"$f":"Data_4!M564","v":0},{"$f":"Data_4!P564","v":0},null,null,{"$f":"Data_1!J564","v":0},{"$f":"Data_2!M564","v":0},{"$f":"Data_4!S564","v":0}]
[{"$f":"Data_1!G565","v":0},{"$f":"Data_2!G565","v":0},{"$f":"Data_2!J565","v":0},{"$f":"Data_4!G565","v":0},{"$f":"Data_4!J565","v":0},{"$f":"Data_4!M565","v":0},{"$f":"Data_4!P565","v":0},null,null,{"$f":"Data_1!J565","v":0},{"$f":"Data_2!M565","v":0},{"$f":"Data_4!S565","v":0}]
[{"$f":"Data_1!G566","v":0},{"$f":"Data_2!G566","v":0},{"$f":"Data_2!J566","v":0},{"$f":"Data_4!G566","v":0},{"$f":"Data_4!J566","v":0},{"$f":"Data_4!M566","v":0},{"$f":"Data_4!P566","v":0},null,null,{"$f":"Data_1!J566","v":0},{"$f":"Data_2!M566","v":0},{"$f":"Data_4!S566","v":0}]
[{"$f":"Data_1!G567","v":0},{"$f":"Data_2!G567","v":0},{"$f":"Data_2!J567","v":0},{"$f":"Data_4!G567","v":0},{"$f":"Data_4!J567","v":0},{"$f":"Data_4!M567","v":0},{"$f":"Data_4!P567","v":0},null,null,{"$f":"Data_1!J567","v":0},{"$f":"Data_2!M567","v":0},{"$f":"Data_4!S567","v":0}]
[{"$f":"Data_1!G568","v":0},{"$f":"Data_2!G568","v":0},{"$f":"Data_2!J568","v":0},{"$f":"Data_4!G568","v":0},{"$f":"Data_4!J568","v":0},{"$f":"Data_4!M568","v":0},{"$f":"Data_4!P568","v":0},null,null,{"$f":"Data_1!J568","v":0},{"$f":"Data_2!M568","v":0},{"$f":"Data_4!S568","v":0}]
[{"$f":"Data_1!G569","v":0},{"$f":"Data_2!G569","v":0},{"$f":"Data_2!J569","v":0},{"$f":"Data_4!G569","v":0},{"$f":"Data_4!J569","v":0},{"$f":"Data_4!M569","v":0},{"$f":"Data_4!P569","v":0},null,null,{"$f":"Data_1!J569","v":0},{"$f":"Data_2!M569","v":0},{"$f":"Data_4!S569","v":0}]
[{"$f":"Data_1!G570","v":0},{"$f":"Data_2!G570","v":0},{"$f":"Data_2!J570","v":0},{"$f":"Data_4!G570","v":0},{"$f":"Data_4!J570","v":0},{"$f":"Data_4!M570","v":0},{"$f":"Data_4!P570","v":0},null,null,{"$f":"Data_1!J570","v":0},{"$f":"Data_2!M570","v":0},{"$f":"Data_4!S570","v":0}]
[{"$f":"Data_1!G571","v":0},{"$f":"Data_2!G571","v":0},{"$f":"Data_2!J571","v":0},{"$f":"Data_4!G571","v":0},{"$f":"Data_4!J571","v":0},{"$f":"Data_4!M571","v":0},{"$f":"Data_4!P571","v":0},null,null,{"$f":"Data_1!J571","v":0},{"$f":"Data_2!M571","v":0},{"$f":"Data_4!S571","v":0}]
[{"$f":"Data_1!G572","v":0},{"$f":"Data_2!G572","v":0},{"$f":"Data_2!J572","v":0},{"$f":"Data_4!G572","v":0},{"$f":"Data_4!J572","v":0},{"$f":"Data_4!M572","v":0},{"$f":"Data_4!P572","v":0},null,null,{"$f":"Data_1!J572","v":0},{"$f":"Data_2!M572","v":0},{"$f":"Data_4!S572","v":0}]
[{"$f":"Data_1!G573","v":0},{"$f":"Data_2!G573","v":0},{"$f":"Data_2!J573","v":0},{"$f":"Data_4!G573","v":0},{"$f":"Data_4!J573","v":0},{"$f":"Data_4!M573","v":0},{"$f":"Data_4!P573","v":0},null,null,{"$f":"Data_1!J573","v":0},{"$f":"Data_2!M573","v":0},{"$f":"Data_4!S573","v":0}]
[{"$f":"Data_1!G574","v":0},{"$f":"Data_2!G574","v":0},{"$f":"Data_2!J574","v":0},{"$f":"Data_4!G574","v":0},{"$f":"Data_4!J574","v":0},{"$f":"Data_4!M574","v":0},{"$f":"Data_4!P574","v":0},null,null,{"$f":"Data_1!J574","v":0},{"$f":"Data_2!M574","v":0},{"$f":"Data_4!S574","v":0}]
[{"$f":"Data_1!G575","v":0},{"$f":"Data_2!G575","v":0},{"$f":"Data_2!J575","v":0},{"$f":"Data_4!G575","v":0},{"$f":"Data_4!J575","v":0},{"$f":"Data_4!M575","v":0},{"$f":"Data_4!P575","v":0},null,null,{"$f":"Data_1!J575","v":0},{"$f":"Data_2!M575","v":0},{"$f":"Data_4!S575","v":0}]
[{"$f":"Data_1!G576","v":0},{"$f":"Data_2!G576","v":0},{"$f":"Data_2!J576","v":0},{"$f":"Data_4!G576","v":0},{"$f":"Data_4!J576","v":0},{"$f":"Data_4!M576","v":0},{"$f":"Data_4!P576","v":0},null,null,{"$f":"Data_1!J576","v":0},{"$f":"Data_2!M576","v":0},{"$f":"Data_4!S576","v":0}]
[{"$f":"Data_1!G577","v":0},{"$f":"Data_2!G577","v":0},{"$f":"Data_2!J577","v":0},{"$f":"Data_4!G577","v":0},{"$f":"Data_4!J577","v":0},{"$f":"Data_4!M577","v":0},{"$f":"Data_4!P577","v":0},null,null,{"$f":"Data_1!J577","v":0},{"$f":"Data_2!M577","v":0},{"$f":"Data_4!S577","v":0}]
[{"$f":"Data_1!G578","v":0},{"$f":"Data_2!G578","v":0},{"$f":"Data_2!J578","v":0},{"$f":"Data_4!G578","v":0},{"$f":"Data_4!J578","v":0},{"$f":"Data_4!M578","v":0},{"$f":"Data_4!P578","v":0},null,null,{"$f":"Data_1!J578","v":0},{"$f":"Data_2!M578","v":0},{"$f":"Data_4!S578","v":0}]
[{"$f":"Data_1!G579","v":0},{"$f":"Data_2!G579","v":0},{"$f":"Data_2!J579","v":0},{"$f":"Data_4!G579","v":0},{"$f":"Data_4!J579","v":0},{"$f":"Data_4!M579","v":0},{"$f":"Data_4!P579","v":0},null,null,{"$f":"Data_1!J579","v":0},{"$f":"Data_2!M579","v":0},{"$f":"Data_4!S579","v":0}]
[{"$f":"Data_1!G580","v":0},{"$f":"Data_2!G580","v":0},{"$f":"Data_2!J580","v":0},{"$f":"Data_4!G580","v":0},{"$f":"Data_4!J580","v":0},{"$f":"Data_4!M580","v":0},{"$f":"Data_4!P580","v":0},null,null,{"$f":"Data_1!J580","v":0},{"$f":"Data_2!M580","v":0},{"$f":"Data_4!S580","v":0}]
[{"$f":"Data_1!G581","v":0},{"$f":"Data_2!G581","v":0},{"$f":"Data_2!J581","v":0},{"$f":"Data_4!G581","v":0},{"$f":"Data_4!J581","v":0},{"$f":"Data_4!M581","v":0},{"$f":"Data_4!P581","v":0},null,null,{"$f":"Data_1!J581","v":0},{"$f":"Data_2!M581","v":0},{"$f":"Data_4!S581","v":0}]
[{"$f":"Data_1!G582","v":0},{"$f":"Data_2!G582","v":0},{"$f":"Data_2!J582","v":0},{"$f":"Data_4!G582","v":0},{"$f":"Data_4!J582","v":0},{"$f":"Data_4!M582","v":0},{"$f":"Data_4!P582","v":0},null,null,{"$f":"Data_1!J582","v":0},{"$f":"Data_2!M582","v":0},{"$f":"Data_4!S582","v":0}]
[{"$f":"Data_1!G583","v":0},{"$f":"Data_2!G583","v":0},{"$f":"Data_2!J583","v":0},{"$f":"Data_4!G583","v":0},{"$f":"Data_4!J583","v":0},{"$f":"Data_4!M583","v":0},{"$f":"Data_4!P583","v":0},null,null,{"$f":"Data_1!J583","v":0},{"$f":"Data_2!M583","v":0},{"$f":"Data_4!S583","v":0}]
[{"$f":"Data_1!G584","v":0},{"$f":"Data_2!G584","v":0},{"$f":"Data_2!J584","v":0},{"$f":"Data_4!G584","v":0},{"$f":"Data_4!J584","v":0},{"$f":"Data_4!M584","v":0},{"$f":"Data_4!P584","v":0},null,null,{"$f":"Data_1!J584","v":0},{"$f":"Data_2!M584","v":0},{"$f":"Data_4!S584","v":0}]
[{"$f":"Data_1!G585","v":0},{"$f":"Data_2!G585","v":0},{"$f":"Data_2!J585","v":0},{"$f":"Data_4!G585","v":0},{"$f":"Data_4!J585","v":0},{"$f":"Data_4!M585","v":0},{"$f":"Data_4!P585","v":0},null,null,{"$f":"Data_1!J585","v":0},{"$f":"Data_2!M585","v":0},{"$f":"Data_4!S585","v":0}]
[{"$f":"Data_1!G586","v":0},{"$f":"Data_2!G586","v":0},{"$f":"Data_2!J586","v":0},{"$f":"Data_4!G586","v":0},{"$f":"Data_4!J586","v":0},{"$f":"Data_4!M586","v":0},{"$f":"Data_4!P586","v":0},null,null,{"$f":"Data_1!J586","v":0},{"$f":"Data_2!M586","v":0},{"$f":"Data_4!S586","v":0}]
[{"$f":"Data_1!G587","v":0},{"$f":"Data_2!G587","v":0},{"$f":"Data_2!J587","v":0},{"$f":"Data_4!G587","v":0},{"$f":"Data_4!J587","v":0},{"$f":"Data_4!M587","v":0},{"$f":"Data_4!P587","v":0},null,null,{"$f":"Data_1!J587","v":0},{"$f":"Data_2!M587","v":0},{"$f":"Data_4!S587","v":0}]
[{"$f":"Data_1!G588","v":0},{"$f":"Data_2!G588","v":0},{"$f":"Data_2!J588","v":0},{"$f":"Data_4!G588","v":0},{"$f":"Data_4!J588","v":0},{"$f":"Data_4!M588","v":0},{"$f":"Data_4!P588","v":0},null,null,{"$f":"Data_1!J588","v":0},{"$f":"Data_2!M588","v":0},{"$f":"Data_4!S588","v":0}]
[{"$f":"Data_1!G589","v":0},{"$f":"Data_2!G589","v":0},{"$f":"Data_2!J589","v":0},{"$f":"Data_4!G589","v":0},{"$f":"Data_4!J589","v":0},{"$f":"Data_4!M589","v":0},{"$f":"Data_4!P589","v":0},null,null,{"$f":"Data_1!J589","v":0},{"$f":"Data_2!M589","v":0},{"$f":"Data_4!S589","v":0}]
[{"$f":"Data_1!G590","v":0},{"$f":"Data_2!G590","v":0},{"$f":"Data_2!J590","v":0},{"$f":"Data_4!G590","v":0},{"$f":"Data_4!J590","v":0},{"$f":"Data_4!M590","v":0},{"$f":"Data_4!P590","v":0},null,null,{"$f":"Data_1!J590","v":0},{"$f":"Data_2!M590","v":0},{"$f":"Data_4!S590","v":0}]
[{"$f":"Data_1!G591","v":0},{"$f":"Data_2!G591","v":0},{"$f":"Data_2!J591","v":0},{"$f":"Data_4!G591","v":0},{"$f":"Data_4!J591","v":0},{"$f":"Data_4!M591","v":0},{"$f":"Data_4!P591","v":0},null,null,{"$f":"Data_1!J591","v":0},{"$f":"Data_2!M591","v":0},{"$f":"Data_4!S591","v":0}]
[{"$f":"Data_1!G592","v":0},{"$f":"Data_2!G592","v":0},{"$f":"Data_2!J592","v":0},{"$f":"Data_4!G592","v":0},{"$f":"Data_4!J592","v":0},{"$f":"Data_4!M592","v":0},{"$f":"Data_4!P592","v":0},null,null,{"$f":"Data_1!J592","v":0},{"$f":"Data_2!M592","v":0},{"$f":"Data_4!S592","v":0}]
[{"$f":"Data_1!G593","v":0},{"$f":"Data_2!G593","v":0},{"$f":"Data_2!J593","v":0},{"$f":"Data_4!G593","v":0},{"$f":"Data_4!J593","v":0},{"$f":"Data_4!M593","v":0},{"$f":"Data_4!P593","v":0},null,null,{"$f":"Data_1!J593","v":0},{"$f":"Data_2!M593","v":0},{"$f":"Data_4!S593","v":0}]
[{"$f":"Data_1!G594","v":0},{"$f":"Data_2!G594","v":0},{"$f":"Data_2!J594","v":0},{"$f":"Data_4!G594","v":0},{"$f":"Data_4!J594","v":0},{"$f":"Data_4!M594","v":0},{"$f":"Data_4!P594","v":0},null,null,{"$f":"Data_1!J594","v":0},{"$f":"Data_2!M594","v":0},{"$f":"Data_4!S594","v":0}]
[{"$f":"Data_1!G595","v":0},{"$f":"Data_2!G595","v":0},{"$f":"Data_2!J595","v":0},{"$f":"Data_4!G595","v":0},{"$f":"Data_4!J595","v":0},{"$f":"Data_4!M595","v":0},{"$f":"Data_4!P595","v":0},null,null,{"$f":"Data_1!J595","v":0},{"$f":"Data_2!M595","v":0},{"$f":"Data_4!S595","v":0}]
[{"$f":"Data_1!G596","v":0},{"$f":"Data_2!G596","v":0},{"$f":"Data_2!J596","v":0},{"$f":"Data_4!G596","v":0},{"$f":"Data_4!J596","v":0},{"$f":"Data_4!M596","v":0},{"$f":"Data_4!P596","v":0},null,null,{"$f":"Data_1!J596","v":0},{"$f":"Data_2!M596","v":0},{"$f":"Data_4!S596","v":0}]
[{"$f":"Data_1!G597","v":0},{"$f":"Data_2!G597","v":0},{"$f":"Data_2!J597","v":0},{"$f":"Data_4!G597","v":0},{"$f":"Data_4!J597","v":0},{"$f":"Data_4!M597","v":0},{"$f":"Data_4!P597","v":0},null,null,{"$f":"Data_1!J597","v":0},{"$f":"Data_2!M597","v":0},{"$f":"Data_4!S597","v":0}]
[{"$f":"Data_1!G598","v":0},{"$f":"Data_2!G598","v":0},{"$f":"Data_2!J598","v":0},{"$f":"Data_4!G598","v":0},{"$f":"Data_4!J598","v":0},{"$f":"Data_4!M598","v":0},{"$f":"Data_4!P598","v":0},null,null,{"$f":"Data_1!J598","v":0},{"$f":"Data_2!M598","v":0},{"$f":"Data_4!S598","v":0}]
[{"$f":"Data_1!G599","v":0},{"$f":"Data_2!G599","v":0},{"$f":"Data_2!J599","v":0},{"$f":"Data_4!G599","v":0},{"$f":"Data_4!J599","v":0},{"$f":"Data_4!M599","v":0},{"$f":"Data_4!P599","v":0},null,null,{"$f":"Data_1!J599","v":0},{"$f":"Data_2!M599","v":0},{"$f":"Data_4!S599","v":0}]
[{"$f":"Data_1!G600","v":0},{"$f":"Data_2!G600","v":0},{"$f":"Data_2!J600","v":0},{"$f":"Data_4!G600","v":0},{"$f":"Data_4!J600","v":0},{"$f":"Data_4!M600","v":0},{"$f":"Data_4!P600","v":0},null,null,{"$f":"Data_1!J600","v":0},{"$f":"Data_2!M600","v":0},{"$f":"Data_4!S600","v":0}]
[{"$f":"Data_1!G601","v":0},{"$f":"Data_2!G601","v":0},{"$f":"Data_2!J601","v":0},{"$f":"Data_4!G601","v":0},{"$f":"Data_4!J601","v":0},{"$f":"Data_4!M601","v":0},{"$f":"Data_4!P601","v":0},null,null,{"$f":"Data_1!J601","v":0},{"$f":"Data_2!M601","v":0},{"$f":"Data_4!S601","v":0}]
[{"$f":"Data_1!G602","v":0},{"$f":"Data_2!G602","v":0},{"$f":"Data_2!J602","v":0},{"$f":"Data_4!G602","v":0},{"$f":"Data_4!J602","v":0},{"$f":"Data_4!M602","v":0},{"$f":"Data_4!P602","v":0},null,null,{"$f":"Data_1!J602","v":0},{"$f":"Data_2!M602","v":0},{"$f":"Data_4!S602","v":0}]
[{"$f":"Data_1!G603","v":0},{"$f":"Data_2!G603","v":0},{"$f":"Data_2!J603","v":0},{"$f":"Data_4!G603","v":0},{"$f":"Data_4!J603","v":0},{"$f":"Data_4!M603","v":0},{"$f":"Data_4!P603","v":0},null,null,{"$f":"Data_1!J603","v":0},{"$f":"Data_2!M603","v":0},{"$f":"Data_4!S603","v":0}]
[{"$f":"Data_1!G604","v":0},{"$f":"Data_2!G604","v":0},{"$f":"Data_2!J604","v":0},{"$f":"Data_4!G604","v":0},{"$f":"Data_4!J604","v":0},{"$f":"Data_4!M604","v":0},{"$f":"Data_4!P604","v":0},null,null,{"$f":"Data_1!J604","v":0},{"$f":"Data_2!M604","v":0},{"$f":"Data_4!S604","v":0}]
[{"$f":"Data_1!G605","v":0},{"$f":"Data_2!G605","v":0},{"$f":"Data_2!J605","v":0},{"$f":"Data_4!G605","v":0},{"$f":"Data_4!J605","v":0},{"$f":"Data_4!M605","v":0},{"$f":"Data_4!P605","v":0},null,null,{"$f":"Data_1!J605","v":0},{"$f":"Data_2!M605","v":0},{"$f":"Data_4!S605","v":0}]
[{"$f":"Data_1!G606","v":0},{"$f":"Data_2!G606","v":0},{"$f":"Data_2!J606","v":0},{"$f":"Data_4!G606","v":0},{"$f":"Data_4!J606","v":0},{"$f":"Data_4!M606","v":0},{"$f":"Data_4!P606","v":0},null,null,{"$f":"Data_1!J606","v":0},{"$f":"Data_2!M606","v":0},{"$f":"Data_4!S606","v":0}]
[{"$f":"Data_1!G607","v":0},{"$f":"Data_2!G607","v":0},{"$f":"Data_2!J607","v":0},{"$f":"Data_4!G607","v":0},{"$f":"Data_4!J607","v":0},{"$f":"Data_4!M607","v":0},{"$f":"Data_4!P607","v":0},null,null,{"$f":"Data_1!J607","v":0},{"$f":"Data_2!M607","v":0},{"$f":"Data_4!S607","v":0}]
[{"$f":"Data_1!G608","v":0},{"$f":"Data_2!G608","v":0},{"$f":"Data_2!J608","v":0},{"$f":"Data_4!G608","v":0},{"$f":"Data_4!J608","v":0},{"$f":"Data_4!M608","v":0},{"$f":"Data_4!P608","v":0},null,null,{"$f":"Data_1!J608","v":0},{"$f":"Data_2!M608","v":0},{"$f":"Data_4!S608","v":0}]
[{"$f":"Data_1!G609","v":0},{"$f":"Data_2!G609","v":0},{"$f":"Data_2!J609","v":0},{"$f":"Data_4!G609","v":0},{"$f":"Data_4!J609","v":0},{"$f":"Data_4!M609","v":0},{"$f":"Data_4!P609","v":0},null,null,{"$f":"Data_1!J609","v":0},{"$f":"Data_2!M609","v":0},{"$f":"Data_4!S609","v":0}]
[{"$f":"Data_1!G610","v":0},{"$f":"Data_2!G610","v":0},{"$f":"Data_2!J610","v":0},{"$f":"Data_4!G610","v":0},{"$f":"Data_4!J610","v":0},{"$f":"Data_4!M610","v":0},{"$f":"Data_4!P610","v":0},null,null,{"$f":"Data_1!J610","v":0},{"$f":"Data_2!M610","v":0},{"$f":"Data_4!S610","v":0}]
[{"$f":"Data_1!G611","v":0},{"$f":"Data_2!G611","v":0},{"$f":"Data_2!J611","v":0},{"$f":"Data_4!G611","v":0},{"$f":"Data_4!J611","v":0},{"$f":"Data_4!M611","v":0},{"$f":"Data_4!P611","v":0},null,null,{"$f":"Data_1!J611","v":0},{"$f":"Data_2!M611","v":0},{"$f":"Data_4!S611","v":0}]
[{"$f":"Data_1!G612","v":0},{"$f":"Data_2!G612","v":0},{"$f":"Data_2!J612","v":0},{"$f":"Data_4!G612","v":0},{"$f":"Data_4!J612","v":0},{"$f":"Data_4!M612","v":0},{"$f":"Data_4!P612","v":0},null,null,{"$f":"Data_1!J612","v":0},{"$f":"Data_2!M612","v":0},{"$f":"Data_4!S612","v":0}]
[{"$f":"Data_1!G613","v":0},{"$f":"Data_2!G613","v":0},{"$f":"Data_2!J613","v":0},{"$f":"Data_4!G613","v":0},{"$f":"Data_4!J613","v":0},{"$f":"Data_4!M613","v":0},{"$f":"Data_4!P613","v":0},null,null,{"$f":"Data_1!J613","v":0},{"$f":"Data_2!M613","v":0},{"$f":"Data_4!S613","v":0}]
[{"$f":"Data_1!G614","v":0},{"$f":"Data_2!G614","v":0},{"$f":"Data_2!J614","v":0},{"$f":"Data_4!G614","v":0},{"$f":"Data_4!J614","v":0},{"$f":"Data_4!M614","v":0},{"$f":"Data_4!P614","v":0},null,null,{"$f":"Data_1!J614","v":0},{"$f":"Data_2!M614","v":0},{"$f":"Data_4!S614","v":0}]
[{"$f":"Data_1!G615","v":0},{"$f":"Data_2!G615","v":0},{"$f":"Data_2!J615","v":0},{"$f":"Data_4!G615","v":0},{"$f":"Data_4!J615","v":0},{"$f":"Data_4!M615","v":0},{"$f":"Data_4!P615","v":0},null,null,{"$f":"Data_1!J615","v":0},{"$f":"Data_2!M615","v":0},{"$f":"Data_4!S615","v":0}]
[{"$f":"Data_1!G616","v":0},{"$f":"Data_2!G616","v":0},{"$f":"Data_2!J616","v":0},{"$f":"Data_4!G616","v":0},{"$f":"Data_4!J616","v":0},{"$f":"Data_4!M616","v":0},{"$f":"Data_4!P616","v":0},null,null,{"$f":"Data_1!J616","v":0},{"$f":"Data_2!M616","v":0},{"$f":"Data_4!S616","v":0}]
[{"$f":"Data_1!G617","v":0},{"$f":"Data_2!G617","v":0},{"$f":"Data_2!J617","v":0},{"$f":"Data_4!G617","v":0},{"$f":"Data_4!J617","v":0},{"$f":"Data_4!M617","v":0},{"$f":"Data_4!P617","v":0},null,null,{"$f":"Data_1!J617","v":0},{"$f":"Data_2!M617","v":0},{"$f":"Data_4!S617","v":0}]
[{"$f":"Data_1!G618","v":0},{"$f":"Data_2!G618","v":0},{"$f":"Data_2!J618","v":0},{"$f":"Data_4!G618","v":0},{"$f":"Data_4!J618","v":0},{"$f":"Data_4!M618","v":0},{"$f":"Data_4!P618","v":0},null,null,{"$f":"Data_1!J618","v":0},{"$f":"Data_2!M618","v":0},{"$f":"Data_4!S618","v":0}]
[{"$f":"Data_1!G619","v":0},{"$f":"Data_2!G619","v":0},{"$f":"Data_2!J619","v":0},{"$f":"Data_4!G619","v":0},{"$f":"Data_4!J619","v":0},{"$f":"Data_4!M619","v":0},{"$f":"Data_4!P619","v":0},null,null,{"$f":"Data_1!J619","v":0},{"$f":"Data_2!M619","v":0},{"$f":"Data_4!S619","v":0}]
[{"$f":"Data_1!G620","v":0},{"$f":"Data_2!G620","v":0},{"$f":"Data_2!J620","v":0},{"$f":"Data_4!G620","v":0},{"$f":"Data_4!J620","v":0},{"$f":"Data_4!M620","v":0},{"$f":"Data_4!P620","v":0},null,null,{"$f":"Data_1!J620","v":0},{"$f":"Data_2!M620","v":0},{"$f":"Data_4!S620","v":0}]
[{"$f":"Data_1!G621","v":0},{"$f":"Data_2!G621","v":0},{"$f":"Data_2!J621","v":0},{"$f":"Data_4!G621","v":0},{"$f":"Data_4!J621","v":0},{"$f":"Data_4!M621","v":0},{"$f":"Data_4!P621","v":0},null,null,{"$f":"Data_1!J621","v":0},{"$f":"Data_2!M621","v":0},{"$f":"Data_4!S621","v":0}]
[{"$f":"Data_1!G622","v":0},{"$f":"Data_2!G622","v":0},{"$f":"Data_2!J622","v":0},{"$f":"Data_4!G622","v":0},{"$f":"Data_4!J622","v":0},{"$f":"Data_4!M622","v":0},{"$f":"Data_4!P622","v":0},null,null,{"$f":"Data_1!J622","v":0},{"$f":"Data_2!M622","v":0},{"$f":"Data_4!S622","v":0}]
[{"$f":"Data_1!G623","v":0},{"$f":"Data_2!G623","v":0},{"$f":"Data_2!J623","v":0},{"$f":"Data_4!G623","v":0},{"$f":"Data_4!J623","v":0},{"$f":"Data_4!M623","v":0},{"$f":"Data_4!P623","v":0},null,null,{"$f":"Data_1!J623","v":0},{"$f":"Data_2!M623","v":0},{"$f":"Data_4!S623","v":0}]
[{"$f":"Data_1!G624","v":0},{"$f":"Data_2!G624","v":0},{"$f":"Data_2!J624","v":0},{"$f":"Data_4!G624","v":0},{"$f":"Data_4!J624","v":0},{"$f":"Data_4!M624","v":0},{"$f":"Data_4!P624","v":0},null,null,{"$f":"Data_1!J624","v":0},{"$f":"Data_2!M624","v":0},{"$f":"Data_4!S624","v":0}]
[{"$f":"Data_1!G625","v":0},{"$f":"Data_2!G625","v":0},{"$f":"Data_2!J625","v":0},{"$f":"Data_4!G625","v":0},{"$f":"Data_4!J625","v":0},{"$f":"Data_4!M625","v":0},{"$f":"Data_4!P625","v":0},null,null,{"$f":"Data_1!J625","v":0},{"$f":"Data_2!M625","v":0},{"$f":"Data_4!S625","v":0}]
[{"$f":"Data_1!G626","v":0},{"$f":"Data_2!G626","v":0},{"$f":"Data_2!J626","v":0},{"$f":"Data_4!G626","v":0},{"$f":"Data_4!J626","v":0},{"$f":"Data_4!M626","v":0},{"$f":"Data_4!P626","v":0},null,null,{"$f":"Data_1!J626","v":0},{"$f":"Data_2!M626","v":0},{"$f":"Data_4!S626","v":0}]
[{"$f":"Data_1!G627","v":0},{"$f":"Data_2!G627","v":0},{"$f":"Data_2!J627","v":0},{"$f":"Data_4!G627","v":0},{"$f":"Data_4!J627","v":0},{"$f":"Data_4!M627","v":0},{"$f":"Data_4!P627","v":0},null,null,{"$f":"Data_1!J627","v":0},{"$f":"Data_2!M627","v":0},{"$f":"Data_4!S627","v":0}]
[{"$f":"Data_1!G628","v":0},{"$f":"Data_2!G628","v":0},{"$f":"Data_2!J628","v":0},{"$f":"Data_4!G628","v":0},{"$f":"Data_4!J628","v":0},{"$f":"Data_4!M628","v":0},{"$f":"Data_4!P628","v":0},null,null,{"$f":"Data_1!J628","v":0},{"$f":"Data_2!M628","v":0},{"$f":"Data_4!S628","v":0}]
[{"$f":"Data_1!G629","v":0},{"$f":"Data_2!G629","v":0},{"$f":"Data_2!J629","v":0},{"$f":"Data_4!G629","v":0},{"$f":"Data_4!J629","v":0},{"$f":"Data_4!M629","v":0},{"$f":"Data_4!P629","v":0},null,null,{"$f":"Data_1!J629","v":0},{"$f":"Data_2!M629","v":0},{"$f":"Data_4!S629","v":0}]
[{"$f":"Data_1!G630","v":0},{"$f":"Data_2!G630","v":0},{"$f":"Data_2!J630","v":0},{"$f":"Data_4!G630","v":0},{"$f":"Data_4!J630","v":0},{"$f":"Data_4!M630","v":0},{"$f":"Data_4!P630","v":0},null,null,{"$f":"Data_1!J630","v":0},{"$f":"Data_2!M630","v":0},{"$f":"Data_4!S630","v":0}]
[{"$f":"Data_1!G631","v":0},{"$f":"Data_2!G631","v":0},{"$f":"Data_2!J631","v":0},{"$f":"Data_4!G631","v":0},{"$f":"Data_4!J631","v":0},{"$f":"Data_4!M631","v":0},{"$f":"Data_4!P631","v":0},null,null,{"$f":"Data_1!J631","v":0},{"$f":"Data_2!M631","v":0},{"$f":"Data_4!S631","v":0}]
[{"$f":"Data_1!G632","v":0},{"$f":"Data_2!G632","v":0},{"$f":"Data_2!J632","v":0},{"$f":"Data_4!G632","v":0},{"$f":"Data_4!J632","v":0},{"$f":"Data_4!M632","v":0},{"$f":"Data_4!P632","v":0},null,null,{"$f":"Data_1!J632","v":0},{"$f":"Data_2!M632","v":0},{"$f":"Data_4!S632","v":0}]
[{"$f":"Data_1!G633","v":0},{"$f":"Data_2!G633","v":0},{"$f":"Data_2!J633","v":0},{"$f":"Data_4!G633","v":0},{"$f":"Data_4!J633","v":0},{"$f":"Data_4!M633","v":0},{"$f":"Data_4!P633","v":0},null,null,{"$f":"Data_1!J633","v":0},{"$f":"Data_2!M633","v":0},{"$f":"Data_4!S633","v":0}]
[{"$f":"Data_1!G634","v":0},{"$f":"Data_2!G634","v":0},{"$f":"Data_2!J634","v":0},{"$f":"Data_4!G634","v":0},{"$f":"Data_4!J634","v":0},{"$f":"Data_4!M634","v":0},{"$f":"Data_4!P634","v":0},null,null,{"$f":"Data_1!J634","v":0},{"$f":"Data_2!M634","v":0},{"$f":"Data_4!S634","v":0}]
[{"$f":"Data_1!G635","v":0},{"$f":"Data_2!G635","v":0},{"$f":"Data_2!J635","v":0},{"$f":"Data_4!G635","v":0},{"$f":"Data_4!J635","v":0},{"$f":"Data_4!M635","v":0},{"$f":"Data_4!P635","v":0},null,null,{"$f":"Data_1!J635","v":0},{"$f":"Data_2!M635","v":0},{"$f":"Data_4!S635","v":0}]
[{"$f":"Data_1!G636","v":0},{"$f":"Data_2!G636","v":0},{"$f":"Data_2!J636","v":0},{"$f":"Data_4!G636","v":0},{"$f":"Data_4!J636","v":0},{"$f":"Data_4!M636","v":0},{"$f":"Data_4!P636","v":0},null,null,{"$f":"Data_1!J636","v":0},{"$f":"Data_2!M636","v":0},{"$f":"Data_4!S636","v":0}]
[{"$f":"Data_1!G637","v":0},{"$f":"Data_2!G637","v":0},{"$f":"Data_2!J637","v":0},{"$f":"Data_4!G637","v":0},{"$f":"Data_4!J637","v":0},{"$f":"Data_4!M637","v":0},{"$f":"Data_4!P637","v":0},null,null,{"$f":"Data_1!J637","v":0},{"$f":"Data_2!M637","v":0},{"$f":"Data_4!S637","v":0}]
[{"$f":"Data_1!G638","v":0},{"$f":"Data_2!G638","v":0},{"$f":"Data_2!J638","v":0},{"$f":"Data_4!G638","v":0},{"$f":"Data_4!J638","v":0},{"$f":"Data_4!M638","v":0},{"$f":"Data_4!P638","v":0},null,null,{"$f":"Data_1!J638","v":0},{"$f":"Data_2!M638","v":0},{"$f":"Data_4!S638","v":0}]
[{"$f":"Data_1!G639","v":0},{"$f":"Data_2!G639","v":0},{"$f":"Data_2!J639","v":0},{"$f":"Data_4!G639","v":0},{"$f":"Data_4!J639","v":0},{"$f":"Data_4!M639","v":0},{"$f":"Data_4!P639","v":0},null,null,{"$f":"Data_1!J639","v":0},{"$f":"Data_2!M639","v":0},{"$f":"Data_4!S639","v":0}]
[{"$f":"Data_1!G640","v":0},{"$f":"Data_2!G640","v":0},{"$f":"Data_2!J640","v":0},{"$f":"Data_4!G640","v":0},{"$f":"Data_4!J640","v":0},{"$f":"Data_4!M640","v":0},{"$f":"Data_4!P640","v":0},null,null,{"$f":"Data_1!J640","v":0},{"$f":"Data_2!M640","v":0},{"$f":"Data_4!S640","v":0}]
[{"$f":"Data_1!G641","v":0},{"$f":"Data_2!G641","v":0},{"$f":"Data_2!J641","v":0},{"$f":"Data_4!G641","v":0},{"$f":"Data_4!J641","v":0},{"$f":"Data_4!M641","v":0},{"$f":"Data_4!P641","v":0},null,null,{"$f":"Data_1!J641","v":0},{"$f":"Data_2!M641","v":0},{"$f":"Data_4!S641","v":0}]
[{"$f":"Data_1!G642","v":0},{"$f":"Data_2!G642","v":0},{"$f":"Data_2!J642","v":0},{"$f":"Data_4!G642","v":0},{"$f":"Data_4!J642","v":0},{"$f":"Data_4!M642","v":0},{"$f":"Data_4!P642","v":0},null,null,{"$f":"Data_1!J642","v":0},{"$f":"Data_2!M642","v":0},{"$f":"Data_4!S642","v":0}]
[{"$f":"Data_1!G643","v":0},{"$f":"Data_2!G643","v":0},{"$f":"Data_2!J643","v":0},{"$f":"Data_4!G643","v":0},{"$f":"Data_4!J643","v":0},{"$f":"Data_4!M643","v":0},{"$f":"Data_4!P643","v":0},null,null,{"$f":"Data_1!J643","v":0},{"$f":"Data_2!M643","v":0},{"$f":"Data_4!S643","v":0}]
[{"$f":"Data_1!G644","v":0},{"$f":"Data_2!G644","v":0},{"$f":"Data_2!J644","v":0},{"$f":"Data_4!G644","v":0},{"$f":"Data_4!J644","v":0},{"$f":"Data_4!M644","v":0},{"$f":"Data_4!P644","v":0},null,null,{"$f":"Data_1!J644","v":0},{"$f":"Data_2!M644","v":0},{"$f":"Data_4!S644","v":0}]
[{"$f":"Data_1!G645","v":0},{"$f":"Data_2!G645","v":0},{"$f":"Data_2!J645","v":0},{"$f":"Data_4!G645","v":0},{"$f":"Data_4!J645","v":0},{"$f":"Data_4!M645","v":0},{"$f":"Data_4!P645","v":0},null,null,{"$f":"Data_1!J645","v":0},{"$f":"Data_2!M645","v":0},{"$f":"Data_4!S645","v":0}]
[{"$f":"Data_1!G646","v":0},{"$f":"Data_2!G646","v":0},{"$f":"Data_2!J646","v":0},{"$f":"Data_4!G646","v":0},{"$f":"Data_4!J646","v":0},{"$f":"Data_4!M646","v":0},{"$f":"Data_4!P646","v":0},null,null,{"$f":"Data_1!J646","v":0},{"$f":"Data_2!M646","v":0},{"$f":"Data_4!S646","v":0}]
[{"$f":"Data_1!G647","v":0},{"$f":"Data_2!G647","v":0},{"$f":"Data_2!J647","v":0},{"$f":"Data_4!G647","v":0},{"$f":"Data_4!J647","v":0},{"$f":"Data_4!M647","v":0},{"$f":"Data_4!P647","v":0},null,null,{"$f":"Data_1!J647","v":0},{"$f":"Data_2!M647","v":0},{"$f":"Data_4!S647","v":0}]
[{"$f":"Data_1!G648","v":0},{"$f":"Data_2!G648","v":0},{"$f":"Data_2!J648","v":0},{"$f":"Data_4!G648","v":0},{"$f":"Data_4!J648","v":0},{"$f":"Data_4!M648","v":0},{"$f":"Data_4!P648","v":0},null,null,{"$f":"Data_1!J648","v":0},{"$f":"Data_2!M648","v":0},{"$f":"Data_4!S648","v":0}]
[{"$f":"Data_1!G649","v":0},{"$f":"Data_2!G649","v":0},{"$f":"Data_2!J649","v":0},{"$f":"Data_4!G649","v":0},{"$f":"Data_4!J649","v":0},{"$f":"Data_4!M649","v":0},{"$f":"Data_4!P649","v":0},null,null,{"$f":"Data_1!J649","v":0},{"$f":"Data_2!M649","v":0},{"$f":"Data_4!S649","v":0}]
[{"$f":"Data_1!G650","v":0},{"$f":"Data_2!G650","v":0},{"$f":"Data_2!J650","v":0},{"$f":"Data_4!G650","v":0},{"$f":"Data_4!J650","v":0},{"$f":"Data_4!M650","v":0},{"$f":"Data_4!P650","v":0},null,null,{"$f":"Data_1!J650","v":0},{"$f":"Data_2!M650","v":0},{"$f":"Data_4!S650","v":0}]
[{"$f":"Data_1!G651","v":0},{"$f":"Data_2!G651","v":0},{"$f":"Data_2!J651","v":0},{"$f":"Data_4!G651","v":0},{"$f":"Data_4!J651","v":0},{"$f":"Data_4!M651","v":0},{"$f":"Data_4!P651","v":0},null,null,{"$f":"Data_1!J651","v":0},{"$f":"Data_2!M651","v":0},{"$f":"Data_4!S651","v":0}]
[{"$f":"Data_1!G652","v":0},{"$f":"Data_2!G652","v":0},{"$f":"Data_2!J652","v":0},{"$f":"Data_4!G652","v":0},{"$f":"Data_4!J652","v":0},{"$f":"Data_4!M652","v":0},{"$f":"Data_4!P652","v":0},null,null,{"$f":"Data_1!J652","v":0},{"$f":"Data_2!M652","v":0},{"$f":"Data_4!S652","v":0}]
[{"$f":"Data_1!G653","v":0},{"$f":"Data_2!G653","v":0},{"$f":"Data_2!J653","v":0},{"$f":"Data_4!G653","v":0},{"$f":"Data_4!J653","v":0},{"$f":"Data_4!M653","v":0},{"$f":"Data_4!P653","v":0},null,null,{"$f":"Data_1!J653","v":0},{"$f":"Data_2!M653","v":0},{"$f":"Data_4!S653","v":0}]
[{"$f":"Data_1!G654","v":0},{"$f":"Data_2!G654","v":0},{"$f":"Data_2!J654","v":0},{"$f":"Data_4!G654","v":0},{"$f":"Data_4!J654","v":0},{"$f":"Data_4!M654","v":0},{"$f":"Data_4!P654","v":0},null,null,{"$f":"Data_1!J654","v":0},{"$f":"Data_2!M654","v":0},{"$f":"Data_4!S654","v":0}]
[{"$f":"Data_1!G655","v":0},{"$f":"Data_2!G655","v":0},{"$f":"Data_2!J655","v":0},{"$f":"Data_4!G655","v":0},{"$f":"Data_4!J655","v":0},{"$f":"Data_4!M655","v":0},{"$f":"Data_4!P655","v":0},null,null,{"$f":"Data_1!J655","v":0},{"$f":"Data_2!M655","v":0},{"$f":"Data_4!S655","v":0}]
[{"$f":"Data_1!G656","v":0},{"$f":"Data_2!G656","v":0},{"$f":"Data_2!J656","v":0},{"$f":"Data_4!G656","v":0},{"$f":"Data_4!J656","v":0},{"$f":"Data_4!M656","v":0},{"$f":"Data_4!P656","v":0},null,null,{"$f":"Data_1!J656","v":0},{"$f":"Data_2!M656","v":0},{"$f":"Data_4!S656","v":0}]
[{"$f":"Data_1!G657","v":0},{"$f":"Data_2!G657","v":0},{"$f":"Data_2!J657","v":0},{"$f":"Data_4!G657","v":0},{"$f":"Data_4!J657","v":0},{"$f":"Data_4!M657","v":0},{"$f":"Data_4!P657","v":0},null,null,{"$f":"Data_1!J657","v":0},{"$f":"Data_2!M657","v":0},{"$f":"Data_4!S657","v":0}]
[{"$f":"Data_1!G658","v":0},{"$f":"Data_2!G658","v":0},{"$f":"Data_2!J658","v":0},{"$f":"Data_4!G658","v":0},{"$f":"Data_4!J658","v":0},{"$f":"Data_4!M658","v":0},{"$f":"Data_4!P658","v":0},null,null,{"$f":"Data_1!J658","v":0},{"$f":"Data_2!M658","v":0},{"$f":"Data_4!S658","v":0}]
[{"$f":"Data_1!G659","v":0},{"$f":"Data_2!G659","v":0},{"$f":"Data_2!J659","v":0},{"$f":"Data_4!G659","v":0},{"$f":"Data_4!J659","v":0},{"$f":"Data_4!M659","v":0},{"$f":"Data_4!P659","v":0},null,null,{"$f":"Data_1!J659","v":0},{"$f":"Data_2!M659","v":0},{"$f":"Data_4!S659","v":0}]
[{"$f":"Data_1!G660","v":0},{"$f":"Data_2!G660","v":0},{"$f":"Data_2!J660","v":0},{"$f":"Data_4!G660","v":0},{"$f":"Data_4!J660","v":0},{"$f":"Data_4!M660","v":0},{"$f":"Data_4!P660","v":0},null,null,{"$f":"Data_1!J660","v":0},{"$f":"Data_2!M660","v":0},{"$f":"Data_4!S660","v":0}]
[{"$f":"Data_1!G661","v":0},{"$f":"Data_2!G661","v":0},{"$f":"Data_2!J661","v":0},{"$f":"Data_4!G661","v":0},{"$f":"Data_4!J661","v":0},{"$f":"Data_4!M661","v":0},{"$f":"Data_4!P661","v":0},null,null,{"$f":"Data_1!J661","v":0},{"$f":"Data_2!M661","v":0},{"$f":"Data_4!S661","v":0}]
[{"$f":"Data_1!G662","v":0},{"$f":"Data_2!G662","v":0},{"$f":"Data_2!J662","v":0},{"$f":"Data_4!G662","v":0},{"$f":"Data_4!J662","v":0},{"$f":"Data_4!M662","v":0},{"$f":"Data_4!P662","v":0},null,null,{"$f":"Data_1!J662","v":0},{"$f":"Data_2!M662","v":0},{"$f":"Data_4!S662","v":0}]
[{"$f":"Data_1!G663","v":0},{"$f":"Data_2!G663","v":0},{"$f":"Data_2!J663","v":0},{"$f":"Data_4!G663","v":0},{"$f":"Data_4!J663","v":0},{"$f":"Data_4!M663","v":0},{"$f":"Data_4!P663","v":0},null,null,{"$f":"Data_1!J663","v":0},{"$f":"Data_2!M663","v":0},{"$f":"Data_4!S663","v":0}]
[{"$f":"Data_1!G664","v":0},{"$f":"Data_2!G664","v":0},{"$f":"Data_2!J664","v":0},{"$f":"Data_4!G664","v":0},{"$f":"Data_4!J664","v":0},{"$f":"Data_4!M664","v":0},{"$f":"Data_4!P664","v":0},null,null,{"$f":"Data_1!J664","v":0},{"$f":"Data_2!M664","v":0},{"$f":"Data_4!S664","v":0}]
[{"$f":"Data_1!G665","v":0},{"$f":"Data_2!G665","v":0},{"$f":"Data_2!J665","v":0},{"$f":"Data_4!G665","v":0},{"$f":"Data_4!J665","v":0},{"$f":"Data_4!M665","v":0},{"$f":"Data_4!P665","v":0},null,null,{"$f":"Data_1!J665","v":0},{"$f":"Data_2!M665","v":0},{"$f":"Data_4!S665","v":0}]
[{"$f":"Data_1!G666","v":0},{"$f":"Data_2!G666","v":0},{"$f":"Data_2!J666","v":0},{"$f":"Data_4!G666","v":0},{"$f":"Data_4!J666","v":0},{"$f":"Data_4!M666","v":0},{"$f":"Data_4!P666","v":0},null,null,{"$f":"Data_1!J666","v":0},{"$f":"Data_2!M666","v":0},{"$f":"Data_4!S666","v":0}]
[{"$f":"Data_1!G667","v":0},{"$f":"Data_2!G667","v":0},{"$f":"Data_2!J667","v":0},{"$f":"Data_4!G667","v":0},{"$f":"Data_4!J667","v":0},{"$f":"Data_4!M667","v":0},{"$f":"Data_4!P667","v":0},null,null,{"$f":"Data_1!J667","v":0},{"$f":"Data_2!M667","v":0},{"$f":"Data_4!S667","v":0}]
[{"$f":"Data_1!G668","v":0},{"$f":"Data_2!G668","v":0},{"$f":"Data_2!J668","v":0},{"$f":"Data_4!G668","v":0},{"$f":"Data_4!J668","v":0},{"$f":"Data_4!M668","v":0},{"$f":"Data_4!P668","v":0},null,null,{"$f":"Data_1!J668","v":0},{"$f":"Data_2!M668","v":0},{"$f":"Data_4!S668","v":0}]
[{"$f":"Data_1!G669","v":0},{"$f":"Data_2!G669","v":0},{"$f":"Data_2!J669","v":0},{"$f":"Data_4!G669","v":0},{"$f":"Data_4!J669","v":0},{"$f":"Data_4!M669","v":0},{"$f":"Data_4!P669","v":0},null,null,{"$f":"Data_1!J669","v":0},{"$f":"Data_2!M669","v":0},{"$f":"Data_4!S669","v":0}]
[{"$f":"Data_1!G670","v":0},{"$f":"Data_2!G670","v":0},{"$f":"Data_2!J670","v":0},{"$f":"Data_4!G670","v":0},{"$f":"Data_4!J670","v":0},{"$f":"Data_4!M670","v":0},{"$f":"Data_4!P670","v":0},null,null,{"$f":"Data_1!J670","v":0},{"$f":"Data_2!M670","v":0},{"$f":"Data_4!S670","v":0}]
[{"$f":"Data_1!G671","v":0},{"$f":"Data_2!G671","v":0},{"$f":"Data_2!J671","v":0},{"$f":"Data_4!G671","v":0},{"$f":"Data_4!J671","v":0},{"$f":"Data_4!M671","v":0},{"$f":"Data_4!P671","v":0},null,null,{"$f":"Data_1!J671","v":0},{"$f":"Data_2!M671","v":0},{"$f":"Data_4!S671","v":0}]
[{"$f":"Data_1!G672","v":0},{"$f":"Data_2!G672","v":0},{"$f":"Data_2!J672","v":0},{"$f":"Data_4!G672","v":0},{"$f":"Data_4!J672","v":0},{"$f":"Data_4!M672","v":0},{"$f":"Data_4!P672","v":0},null,null,{"$f":"Data_1!J672","v":0},{"$f":"Data_2!M672","v":0},{"$f":"Data_4!S672","v":0}]
[{"$f":"Data_1!G673","v":0},{"$f":"Data_2!G673","v":0},{"$f":"Data_2!J673","v":0},{"$f":"Data_4!G673","v":0},{"$f":"Data_4!J673","v":0},{"$f":"Data_4!M673","v":0},{"$f":"Data_4!P673","v":0},null,null,{"$f":"Data_1!J673","v":0},{"$f":"Data_2!M673","v":0},{"$f":"Data_4!S673","v":0}]
[{"$f":"Data_1!G674","v":0},{"$f":"Data_2!G674","v":0},{"$f":"Data_2!J674","v":0},{"$f":"Data_4!G674","v":0},{"$f":"Data_4!J674","v":0},{"$f":"Data_4!M674","v":0},{"$f":"Data_4!P674","v":0},null,null,{"$f":"Data_1!J674","v":0},{"$f":"Data_2!M674","v":0},{"$f":"Data_4!S674","v":0}]
[{"$f":"Data_1!G675","v":0},{"$f":"Data_2!G675","v":0},{"$f":"Data_2!J675","v":0},{"$f":"Data_4!G675","v":0},{"$f":"Data_4!J675","v":0},{"$f":"Data_4!M675","v":0},{"$f":"Data_4!P675","v":0},null,null,{"$f":"Data_1!J675","v":0},{"$f":"Data_2!M675","v":0},{"$f":"Data_4!S675","v":0}]
[{"$f":"Data_1!G676","v":0},{"$f":"Data_2!G676","v":0},{"$f":"Data_2!J676","v":0},{"$f":"Data_4!G676","v":0},{"$f":"Data_4!J676","v":0},{"$f":"Data_4!M676","v":0},{"$f":"Data_4!P676","v":0},null,null,{"$f":"Data_1!J676","v":0},{"$f":"Data_2!M676","v":0},{"$f":"Data_4!S676","v":0}]
[{"$f":"Data_1!G677","v":0},{"$f":"Data_2!G677","v":0},{"$f":"Data_2!J677","v":0},{"$f":"Data_4!G677","v":0},{"$f":"Data_4!J677","v":0},{"$f":"Data_4!M677","v":0},{"$f":"Data_4!P677","v":0},null,null,{"$f":"Data_1!J677","v":0},{"$f":"Data_2!M677","v":0},{"$f":"Data_4!S677","v":0}]
[{"$f":"Data_1!G678","v":0},{"$f":"Data_2!G678","v":0},{"$f":"Data_2!J678","v":0},{"$f":"Data_4!G678","v":0},{"$f":"Data_4!J678","v":0},{"$f":"Data_4!M678","v":0},{"$f":"Data_4!P678","v":0},null,null,{"$f":"Data_1!J678","v":0},{"$f":"Data_2!M678","v":0},{"$f":"Data_4!S678","v":0}]
[{"$f":"Data_1!G679","v":0},{"$f":"Data_2!G679","v":0},{"$f":"Data_2!J679","v":0},{"$f":"Data_4!G679","v":0},{"$f":"Data_4!J679","v":0},{"$f":"Data_4!M679","v":0},{"$f":"Data_4!P679","v":0},null,null,{"$f":"Data_1!J679","v":0},{"$f":"Data_2!M679","v":0},{"$f":"Data_4!S679","v":0}]
[{"$f":"Data_1!G680","v":0},{"$f":"Data_2!G680","v":0},{"$f":"Data_2!J680","v":0},{"$f":"Data_4!G680","v":0},{"$f":"Data_4!J680","v":0},{"$f":"Data_4!M680","v":0},{"$f":"Data_4!P680","v":0},null,null,{"$f":"Data_1!J680","v":0},{"$f":"Data_2!M680","v":0},{"$f":"Data_4!S680","v":0}]
[{"$f":"Data_1!G681","v":0},{"$f":"Data_2!G681","v":0},{"$f":"Data_2!J681","v":0},{"$f":"Data_4!G681","v":0},{"$f":"Data_4!J681","v":0},{"$f":"Data_4!M681","v":0},{"$f":"Data_4!P681","v":0},null,null,{"$f":"Data_1!J681","v":0},{"$f":"Data_2!M681","v":0},{"$f":"Data_4!S681","v":0}]
[{"$f":"Data_1!G682","v":0},{"$f":"Data_2!G682","v":0},{"$f":"Data_2!J682","v":0},{"$f":"Data_4!G682","v":0},{"$f":"Data_4!J682","v":0},{"$f":"Data_4!M682","v":0},{"$f":"Data_4!P682","v":0},null,null,{"$f":"Data_1!J682","v":0},{"$f":"Data_2!M682","v":0},{"$f":"Data_4!S682","v":0}]
[{"$f":"Data_1!G683","v":0},{"$f":"Data_2!G683","v":0},{"$f":"Data_2!J683","v":0},{"$f":"Data_4!G683","v":0},{"$f":"Data_4!J683","v":0},{"$f":"Data_4!M683","v":0},{"$f":"Data_4!P683","v":0},null,null,{"$f":"Data_1!J683","v":0},{"$f":"Data_2!M683","v":0},{"$f":"Data_4!S683","v":0}]
[{"$f":"Data_1!G684","v":0},{"$f":"Data_2!G684","v":0},{"$f":"Data_2!J684","v":0},{"$f":"Data_4!G684","v":0},{"$f":"Data_4!J684","v":0},{"$f":"Data_4!M684","v":0},{"$f":"Data_4!P684","v":0},null,null,{"$f":"Data_1!J684","v":0},{"$f":"Data_2!M684","v":0},{"$f":"Data_4!S684","v":0}]
[{"$f":"Data_1!G685","v":0},{"$f":"Data_2!G685","v":0},{"$f":"Data_2!J685","v":0},{"$f":"Data_4!G685","v":0},{"$f":"Data_4!J685","v":0},{"$f":"Data_4!M685","v":0},{"$f":"Data_4!P685","v":0},null,null,{"$f":"Data_1!J685","v":0},{"$f":"Data_2!M685","v":0},{"$f":"Data_4!S685","v":0}]
[{"$f":"Data_1!G686","v":0},{"$f":"Data_2!G686","v":0},{"$f":"Data_2!J686","v":0},{"$f":"Data_4!G686","v":0},{"$f":"Data_4!J686","v":0},{"$f":"Data_4!M686","v":0},{"$f":"Data_4!P686","v":0},null,null,{"$f":"Data_1!J686","v":0},{"$f":"Data_2!M686","v":0},{"$f":"Data_4!S686","v":0}]
[{"$f":"Data_1!G687","v":0},{"$f":"Data_2!G687","v":0},{"$f":"Data_2!J687","v":0},{"$f":"Data_4!G687","v":0},{"$f":"Data_4!J687","v":0},{"$f":"Data_4!M687","v":0},{"$f":"Data_4!P687","v":0},null,null,{"$f":"Data_1!J687","v":0},{"$f":"Data_2!M687","v":0},{"$f":"Data_4!S687","v":0}]
[{"$f":"Data_1!G688","v":0},{"$f":"Data_2!G688","v":0},{"$f":"Data_2!J688","v":0},{"$f":"Data_4!G688","v":0},{"$f":"Data_4!J688","v":0},{"$f":"Data_4!M688","v":0},{"$f":"Data_4!P688","v":0},null,null,{"$f":"Data_1!J688","v":0},{"$f":"Data_2!M688","v":0},{"$f":"Data_4!S688","v":0}]
[{"$f":"Data_1!G689","v":0},{"$f":"Data_2!G689","v":0},{"$f":"Data_2!J689","v":0},{"$f":"Data_4!G689","v":0},{"$f":"Data_4!J689","v":0},{"$f":"Data_4!M689","v":0},{"$f":"Data_4!P689","v":0},null,null,{"$f":"Data_1!J689","v":0},{"$f":"Data_2!M689","v":0},{"$f":"Data_4!S689","v":0}]
[{"$f":"Data_1!G690","v":0},{"$f":"Data_2!G690","v":0},{"$f":"Data_2!J690","v":0},{"$f":"Data_4!G690","v":0},{"$f":"Data_4!J690","v":0},{"$f":"Data_4!M690","v":0},{"$f":"Data_4!P690","v":0},null,null,{"$f":"Data_1!J690","v":0},{"$f":"Data_2!M690","v":0},{"$f":"Data_4!S690","v":0}]
[{"$f":"Data_1!G691","v":0},{"$f":"Data_2!G691","v":0},{"$f":"Data_2!J691","v":0},{"$f":"Data_4!G691","v":0},{"$f":"Data_4!J691","v":0},{"$f":"Data_4!M691","v":0},{"$f":"Data_4!P691","v":0},null,null,{"$f":"Data_1!J691","v":0},{"$f":"Data_2!M691","v":0},{"$f":"Data_4!S691","v":0}]
[{"$f":"Data_1!G692","v":0},{"$f":"Data_2!G692","v":0},{"$f":"Data_2!J692","v":0},{"$f":"Data_4!G692","v":0},{"$f":"Data_4!J692","v":0},{"$f":"Data_4!M692","v":0},{"$f":"Data_4!P692","v":0},null,null,{"$f":"Data_1!J692","v":0},{"$f":"Data_2!M692","v":0},{"$f":"Data_4!S692","v":0}]
[{"$f":"Data_1!G693","v":0},{"$f":"Data_2!G693","v":0},{"$f":"Data_2!J693","v":0},{"$f":"Data_4!G693","v":0},{"$f":"Data_4!J693","v":0},{"$f":"Data_4!M693","v":0},{"$f":"Data_4!P693","v":0},null,null,{"$f":"Data_1!J693","v":0},{"$f":"Data_2!M693","v":0},{"$f":"Data_4!S693","v":0}]
[{"$f":"Data_1!G694","v":0},{"$f":"Data_2!G694","v":0},{"$f":"Data_2!J694","v":0},{"$f":"Data_4!G694","v":0},{"$f":"Data_4!J694","v":0},{"$f":"Data_4!M694","v":0},{"$f":"Data_4!P694","v":0},null,null,{"$f":"Data_1!J694","v":0},{"$f":"Data_2!M694","v":0},{"$f":"Data_4!S694","v":0}]
[{"$f":"Data_1!G695","v":0},{"$f":"Data_2!G695","v":0},{"$f":"Data_2!J695","v":0},{"$f":"Data_4!G695","v":0},{"$f":"Data_4!J695","v":0},{"$f":"Data_4!M695","v":0},{"$f":"Data_4!P695","v":0},null,null,{"$f":"Data_1!J695","v":0},{"$f":"Data_2!M695","v":0},{"$f":"Data_4!S695","v":0}]
[{"$f":"Data_1!G696","v":0},{"$f":"Data_2!G696","v":0},{"$f":"Data_2!J696","v":0},{"$f":"Data_4!G696","v":0},{"$f":"Data_4!J696","v":0},{"$f":"Data_4!M696","v":0},{"$f":"Data_4!P696","v":0},null,null,{"$f":"Data_1!J696","v":0},{"$f":"Data_2!M696","v":0},{"$f":"Data_4!S696","v":0}]
[{"$f":"Data_1!G697","v":0},{"$f":"Data_2!G697","v":0},{"$f":"Data_2!J697","v":0},{"$f":"Data_4!G697","v":0},{"$f":"Data_4!J697","v":0},{"$f":"Data_4!M697","v":0},{"$f":"Data_4!P697","v":0},null,null,{"$f":"Data_1!J697","v":0},{"$f":"Data_2!M697","v":0},{"$f":"Data_4!S697","v":0}]
[{"$f":"Data_1!G698","v":0},{"$f":"Data_2!G698","v":0},{"$f":"Data_2!J698","v":0},{"$f":"Data_4!G698","v":0},{"$f":"Data_4!J698","v":0},{"$f":"Data_4!M698","v":0},{"$f":"Data_4!P698","v":0},null,null,{"$f":"Data_1!J698","v":0},{"$f":"Data_2!M698","v":0},{"$f":"Data_4!S698","v":0}]
[{"$f":"Data_1!G699","v":0},{"$f":"Data_2!G699","v":0},{"$f":"Data_2!J699","v":0},{"$f":"Data_4!G699","v":0},{"$f":"Data_4!J699","v":0},{"$f":"Data_4!M699","v":0},{"$f":"Data_4!P699","v":0},null,null,{"$f":"Data_1!J699","v":0},{"$f":"Data_2!M699","v":0},{"$f":"Data_4!S699","v":0}]
[{"$f":"Data_1!G700","v":0},{"$f":"Data_2!G700","v":0},{"$f":"Data_2!J700","v":0},{"$f":"Data_4!G700","v":0},{"$f":"Data_4!J700","v":0},{"$f":"Data_4!M700","v":0},{"$f":"Data_4!P700","v":0},null,null,{"$f":"Data_1!J700","v":0},{"$f":"Data_2!M700","v":0},{"$f":"Data_4!S700","v":0}]
[{"$f":"Data_1!G701","v":0},{"$f":"Data_2!G701","v":0},{"$f":"Data_2!J701","v":0},{"$f":"Data_4!G701","v":0},{"$f":"Data_4!J701","v":0},{"$f":"Data_4!M701","v":0},{"$f":"Data_4!P701","v":0},null,null,{"$f":"Data_1!J701","v":0},{"$f":"Data_2!M701","v":0},{"$f":"Data_4!S701","v":0}]
[{"$f":"Data_1!G702","v":0},{"$f":"Data_2!G702","v":0},{"$f":"Data_2!J702","v":0},{"$f":"Data_4!G702","v":0},{"$f":"Data_4!J702","v":0},{"$f":"Data_4!M702","v":0},{"$f":"Data_4!P702","v":0},null,null,{"$f":"Data_1!J702","v":0},{"$f":"Data_2!M702","v":0},{"$f":"Data_4!S702","v":0}]
[{"$f":"Data_1!G703","v":0},{"$f":"Data_2!G703","v":0},{"$f":"Data_2!J703","v":0},{"$f":"Data_4!G703","v":0},{"$f":"Data_4!J703","v":0},{"$f":"Data_4!M703","v":0},{"$f":"Data_4!P703","v":0},null,null,{"$f":"Data_1!J703","v":0},{"$f":"Data_2!M703","v":0},{"$f":"Data_4!S703","v":0}]
[{"$f":"Data_1!G704","v":0},{"$f":"Data_2!G704","v":0},{"$f":"Data_2!J704","v":0},{"$f":"Data_4!G704","v":0},{"$f":"Data_4!J704","v":0},{"$f":"Data_4!M704","v":0},{"$f":"Data_4!P704","v":0},null,null,{"$f":"Data_1!J704","v":0},{"$f":"Data_2!M704","v":0},{"$f":"Data_4!S704","v":0}]
[{"$f":"Data_1!G705","v":0},{"$f":"Data_2!G705","v":0},{"$f":"Data_2!J705","v":0},{"$f":"Data_4!G705","v":0},{"$f":"Data_4!J705","v":0},{"$f":"Data_4!M705","v":0},{"$f":"Data_4!P705","v":0},null,null,{"$f":"Data_1!J705","v":0},{"$f":"Data_2!M705","v":0},{"$f":"Data_4!S705","v":0}]
[{"$f":"Data_1!G706","v":0},{"$f":"Data_2!G706","v":0},{"$f":"Data_2!J706","v":0},{"$f":"Data_4!G706","v":0},{"$f":"Data_4!J706","v":0},{"$f":"Data_4!M706","v":0},{"$f":"Data_4!P706","v":0},null,null,{"$f":"Data_1!J706","v":0},{"$f":"Data_2!M706","v":0},{"$f":"Data_4!S706","v":0}]
[{"$f":"Data_1!G707","v":0},{"$f":"Data_2!G707","v":0},{"$f":"Data_2!J707","v":0},{"$f":"Data_4!G707","v":0},{"$f":"Data_4!J707","v":0},{"$f":"Data_4!M707","v":0},{"$f":"Data_4!P707","v":0},null,null,{"$f":"Data_1!J707","v":0},{"$f":"Data_2!M707","v":0},{"$f":"Data_4!S707","v":0}]
[{"$f":"Data_1!G708","v":0},{"$f":"Data_2!G708","v":0},{"$f":"Data_2!J708","v":0},{"$f":"Data_4!G708","v":0},{"$f":"Data_4!J708","v":0},{"$f":"Data_4!M708","v":0},{"$f":"Data_4!P708","v":0},null,null,{"$f":"Data_1!J708","v":0},{"$f":"Data_2!M708","v":0},{"$f":"Data_4!S708","v":0}]
[{"$f":"Data_1!G709","v":0},{"$f":"Data_2!G709","v":0},{"$f":"Data_2!J709","v":0},{"$f":"Data_4!G709","v":0},{"$f":"Data_4!J709","v":0},{"$f":"Data_4!M709","v":0},{"$f":"Data_4!P709","v":0},null,null,{"$f":"Data_1!J709","v":0},{"$f":"Data_2!M709","v":0},{"$f":"Data_4!S709","v":0}]
[{"$f":"Data_1!G710","v":0},{"$f":"Data_2!G710","v":0},{"$f":"Data_2!J710","v":0},{"$f":"Data_4!G710","v":0},{"$f":"Data_4!J710","v":0},{"$f":"Data_4!M710","v":0},{"$f":"Data_4!P710","v":0},null,null,{"$f":"Data_1!J710","v":0},{"$f":"Data_2!M710","v":0},{"$f":"Data_4!S710","v":0}]
[{"$f":"Data_1!G711","v":0},{"$f":"Data_2!G711","v":0},{"$f":"Data_2!J711","v":0},{"$f":"Data_4!G711","v":0},{"$f":"Data_4!J711","v":0},{"$f":"Data_4!M711","v":0},{"$f":"Data_4!P711","v":0},null,null,{"$f":"Data_1!J711","v":0},{"$f":"Data_2!M711","v":0},{"$f":"Data_4!S711","v":0}]
[{"$f":"Data_1!G712","v":0},{"$f":"Data_2!G712","v":0},{"$f":"Data_2!J712","v":0},{"$f":"Data_4!G712","v":0},{"$f":"Data_4!J712","v":0},{"$f":"Data_4!M712","v":0},{"$f":"Data_4!P712","v":0},null,null,{"$f":"Data_1!J712","v":0},{"$f":"Data_2!M712","v":0},{"$f":"Data_4!S712","v":0}]
[{"$f":"Data_1!G713","v":0},{"$f":"Data_2!G713","v":0},{"$f":"Data_2!J713","v":0},{"$f":"Data_4!G713","v":0},{"$f":"Data_4!J713","v":0},{"$f":"Data_4!M713","v":0},{"$f":"Data_4!P713","v":0},null,null,{"$f":"Data_1!J713","v":0},{"$f":"Data_2!M713","v":0},{"$f":"Data_4!S713","v":0}]
[{"$f":"Data_1!G714","v":0},{"$f":"Data_2!G714","v":0},{"$f":"Data_2!J714","v":0},{"$f":"Data_4!G714","v":0},{"$f":"Data_4!J714","v":0},{"$f":"Data_4!M714","v":0},{"$f":"Data_4!P714","v":0},null,null,{"$f":"Data_1!J714","v":0},{"$f":"Data_2!M714","v":0},{"$f":"Data_4!S714","v":0}]
[{"$f":"Data_1!G715","v":0},{"$f":"Data_2!G715","v":0},{"$f":"Data_2!J715","v":0},{"$f":"Data_4!G715","v":0},{"$f":"Data_4!J715","v":0},{"$f":"Data_4!M715","v":0},{"$f":"Data_4!P715","v":0},null,null,{"$f":"Data_1!J715","v":0},{"$f":"Data_2!M715","v":0},{"$f":"Data_4!S715","v":0}]
[{"$f":"Data_1!G716","v":0},{"$f":"Data_2!G716","v":0},{"$f":"Data_2!J716","v":0},{"$f":"Data_4!G716","v":0},{"$f":"Data_4!J716","v":0},{"$f":"Data_4!M716","v":0},{"$f":"Data_4!P716","v":0},null,null,{"$f":"Data_1!J716","v":0},{"$f":"Data_2!M716","v":0},{"$f":"Data_4!S716","v":0}]
[{"$f":"Data_1!G717","v":0},{"$f":"Data_2!G717","v":0},{"$f":"Data_2!J717","v":0},{"$f":"Data_4!G717","v":0},{"$f":"Data_4!J717","v":0},{"$f":"Data_4!M717","v":0},{"$f":"Data_4!P717","v":0},null,null,{"$f":"Data_1!J717","v":0},{"$f":"Data_2!M717","v":0},{"$f":"Data_4!S717","v":0}]
[{"$f":"Data_1!G718","v":0},{"$f":"Data_2!G718","v":0},{"$f":"Data_2!J718","v":0},{"$f":"Data_4!G718","v":0},{"$f":"Data_4!J718","v":0},{"$f":"Data_4!M718","v":0},{"$f":"Data_4!P718","v":0},null,null,{"$f":"Data_1!J718","v":0},{"$f":"Data_2!M718","v":0},{"$f":"Data_4!S718","v":0}]
[{"$f":"Data_1!G719","v":0},{"$f":"Data_2!G719","v":0},{"$f":"Data_2!J719","v":0},{"$f":"Data_4!G719","v":0},{"$f":"Data_4!J719","v":0},{"$f":"Data_4!M719","v":0},{"$f":"Data_4!P719","v":0},null,null,{"$f":"Data_1!J719","v":0},{"$f":"Data_2!M719","v":0},{"$f":"Data_4!S719","v":0}]
[{"$f":"Data_1!G720","v":0},{"$f":"Data_2!G720","v":0},{"$f":"Data_2!J720","v":0},{"$f":"Data_4!G720","v":0},{"$f":"Data_4!J720","v":0},{"$f":"Data_4!M720","v":0},{"$f":"Data_4!P720","v":0},null,null,{"$f":"Data_1!J720","v":0},{"$f":"Data_2!M720","v":0},{"$f":"Data_4!S720","v":0}]
[{"$f":"Data_1!G721","v":0},{"$f":"Data_2!G721","v":0},{"$f":"Data_2!J721","v":0},{"$f":"Data_4!G721","v":0},{"$f":"Data_4!J721","v":0},{"$f":"Data_4!M721","v":0},{"$f":"Data_4!P721","v":0},null,null,{"$f":"Data_1!J721","v":0},{"$f":"Data_2!M721","v":0},{"$f":"Data_4!S721","v":0}]
[{"$f":"Data_1!G722","v":0},{"$f":"Data_2!G722","v":0},{"$f":"Data_2!J722","v":0},{"$f":"Data_4!G722","v":0},{"$f":"Data_4!J722","v":0},{"$f":"Data_4!M722","v":0},{"$f":"Data_4!P722","v":0},null,null,{"$f":"Data_1!J722","v":0},{"$f":"Data_2!M722","v":0},{"$f":"Data_4!S722","v":0}]
[{"$f":"Data_1!G723","v":0},{"$f":"Data_2!G723","v":0},{"$f":"Data_2!J723","v":0},{"$f":"Data_4!G723","v":0},{"$f":"Data_4!J723","v":0},{"$f":"Data_4!M723","v":0},{"$f":"Data_4!P723","v":0},null,null,{"$f":"Data_1!J723","v":0},{"$f":"Data_2!M723","v":0},{"$f":"Data_4!S723","v":0}]
[{"$f":"Data_1!G724","v":0},{"$f":"Data_2!G724","v":0},{"$f":"Data_2!J724","v":0},{"$f":"Data_4!G724","v":0},{"$f":"Data_4!J724","v":0},{"$f":"Data_4!M724","v":0},{"$f":"Data_4!P724","v":0},null,null,{"$f":"Data_1!J724","v":0},{"$f":"Data_2!M724","v":0},{"$f":"Data_4!S724","v":0}]
[{"$f":"Data_1!G725","v":0},{"$f":"Data_2!G725","v":0},{"$f":"Data_2!J725","v":0},{"$f":"Data_4!G725","v":0},{"$f":"Data_4!J725","v":0},{"$f":"Data_4!M725","v":0},{"$f":"Data_4!P725","v":0},null,null,{"$f":"Data_1!J725","v":0},{"$f":"Data_2!M725","v":0},{"$f":"Data_4!S725","v":0}]
[{"$f":"Data_1!G726","v":0},{"$f":"Data_2!G726","v":0},{"$f":"Data_2!J726","v":0},{"$f":"Data_4!G726","v":0},{"$f":"Data_4!J726","v":0},{"$f":"Data_4!M726","v":0},{"$f":"Data_4!P726","v":0},null,null,{"$f":"Data_1!J726","v":0},{"$f":"Data_2!M726","v":0},{"$f":"Data_4!S726","v":0}]
[{"$f":"Data_1!G727","v":0},{"$f":"Data_2!G727","v":0},{"$f":"Data_2!J727","v":0},{"$f":"Data_4!G727","v":0},{"$f":"Data_4!J727","v":0},{"$f":"Data_4!M727","v":0},{"$f":"Data_4!P727","v":0},null,null,{"$f":"Data_1!J727","v":0},{"$f":"Data_2!M727","v":0},{"$f":"Data_4!S727","v":0}]
[{"$f":"Data_1!G728","v":0},{"$f":"Data_2!G728","v":0},{"$f":"Data_2!J728","v":0},{"$f":"Data_4!G728","v":0},{"$f":"Data_4!J728","v":0},{"$f":"Data_4!M728","v":0},{"$f":"Data_4!P728","v":0},null,null,{"$f":"Data_1!J728","v":0},{"$f":"Data_2!M728","v":0},{"$f":"Data_4!S728","v":0}]
[{"$f":"Data_1!G729","v":0},{"$f":"Data_2!G729","v":0},{"$f":"Data_2!J729","v":0},{"$f":"Data_4!G729","v":0},{"$f":"Data_4!J729","v":0},{"$f":"Data_4!M729","v":0},{"$f":"Data_4!P729","v":0},null,null,{"$f":"Data_1!J729","v":0},{"$f":"Data_2!M729","v":0},{"$f":"Data_4!S729","v":0}]
[{"$f":"Data_1!G730","v":0},{"$f":"Data_2!G730","v":0},{"$f":"Data_2!J730","v":0},{"$f":"Data_4!G730","v":0},{"$f":"Data_4!J730","v":0},{"$f":"Data_4!M730","v":0},{"$f":"Data_4!P730","v":0},null,null,{"$f":"Data_1!J730","v":0},{"$f":"Data_2!M730","v":0},{"$f":"Data_4!S730","v":0}]
[{"$f":"Data_1!G731","v":0},{"$f":"Data_2!G731","v":0},{"$f":"Data_2!J731","v":0},{"$f":"Data_4!G731","v":0},{"$f":"Data_4!J731","v":0},{"$f":"Data_4!M731","v":0},{"$f":"Data_4!P731","v":0},null,null,{"$f":"Data_1!J731","v":0},{"$f":"Data_2!M731","v":0},{"$f":"Data_4!S731","v":0}]
[{"$f":"Data_1!G732","v":0},{"$f":"Data_2!G732","v":0},{"$f":"Data_2!J732","v":0},{"$f":"Data_4!G732","v":0},{"$f":"Data_4!J732","v":0},{"$f":"Data_4!M732","v":0},{"$f":"Data_4!P732","v":0},null,null,{"$f":"Data_1!J732","v":0},{"$f":"Data_2!M732","v":0},{"$f":"Data_4!S732","v":0}]
[{"$f":"Data_1!G733","v":0},{"$f":"Data_2!G733","v":0},{"$f":"Data_2!J733","v":0},{"$f":"Data_4!G733","v":0},{"$f":"Data_4!J733","v":0},{"$f":"Data_4!M733","v":0},{"$f":"Data_4!P733","v":0},null,null,{"$f":"Data_1!J733","v":0},{"$f":"Data_2!M733","v":0},{"$f":"Data_4!S733","v":0}]
[{"$f":"Data_1!G734","v":0},{"$f":"Data_2!G734","v":0},{"$f":"Data_2!J734","v":0},{"$f":"Data_4!G734","v":0},{"$f":"Data_4!J734","v":0},{"$f":"Data_4!M734","v":0},{"$f":"Data_4!P734","v":0},null,null,{"$f":"Data_1!J734","v":0},{"$f":"Data_2!M734","v":0},{"$f":"Data_4!S734","v":0}]
[{"$f":"Data_1!G735","v":0},{"$f":"Data_2!G735","v":0},{"$f":"Data_2!J735","v":0},{"$f":"Data_4!G735","v":0},{"$f":"Data_4!J735","v":0},{"$f":"Data_4!M735","v":0},{"$f":"Data_4!P735","v":0},null,null,{"$f":"Data_1!J735","v":0},{"$f":"Data_2!M735","v":0},{"$f":"Data_4!S735","v":0}]
[{"$f":"Data_1!G736","v":0},{"$f":"Data_2!G736","v":0},{"$f":"Data_2!J736","v":0},{"$f":"Data_4!G736","v":0},{"$f":"Data_4!J736","v":0},{"$f":"Data_4!M736","v":0},{"$f":"Data_4!P736","v":0},null,null,{"$f":"Data_1!J736","v":0},{"$f":"Data_2!M736","v":0},{"$f":"Data_4!S736","v":0}]
[{"$f":"Data_1!G737","v":0},{"$f":"Data_2!G737","v":0},{"$f":"Data_2!J737","v":0},{"$f":"Data_4!G737","v":0},{"$f":"Data_4!J737","v":0},{"$f":"Data_4!M737","v":0},{"$f":"Data_4!P737","v":0},null,null,{"$f":"Data_1!J737","v":0},{"$f":"Data_2!M737","v":0},{"$f":"Data_4!S737","v":0}]
[{"$f":"Data_1!G738","v":0},{"$f":"Data_2!G738","v":0},{"$f":"Data_2!J738","v":0},{"$f":"Data_4!G738","v":0},{"$f":"Data_4!J738","v":0},{"$f":"Data_4!M738","v":0},{"$f":"Data_4!P738","v":0},null,null,{"$f":"Data_1!J738","v":0},{"$f":"Data_2!M738","v":0},{"$f":"Data_4!S738","v":0}]
[{"$f":"Data_1!G739","v":0},{"$f":"Data_2!G739","v":0},{"$f":"Data_2!J739","v":0},{"$f":"Data_4!G739","v":0},{"$f":"Data_4!J739","v":0},{"$f":"Data_4!M739","v":0},{"$f":"Data_4!P739","v":0},null,null,{"$f":"Data_1!J739","v":0},{"$f":"Data_2!M739","v":0},{"$f":"Data_4!S739","v":0}]
[{"$f":"Data_1!G740","v":0},{"$f":"Data_2!G740","v":0},{"$f":"Data_2!J740","v":0},{"$f":"Data_4!G740","v":0},{"$f":"Data_4!J740","v":0},{"$f":"Data_4!M740","v":0},{"$f":"Data_4!P740","v":0},null,null,{"$f":"Data_1!J740","v":0},{"$f":"Data_2!M740","v":0},{"$f":"Data_4!S740","v":0}]
[{"$f":"Data_1!G741","v":0},{"$f":"Data_2!G741","v":0},{"$f":"Data_2!J741","v":0},{"$f":"Data_4!G741","v":0},{"$f":"Data_4!J741","v":0},{"$f":"Data_4!M741","v":0},{"$f":"Data_4!P741","v":0},null,null,{"$f":"Data_1!J741","v":0},{"$f":"Data_2!M741","v":0},{"$f":"Data_4!S741","v":0}]
[{"$f":"Data_1!G742","v":0},{"$f":"Data_2!G742","v":0},{"$f":"Data_2!J742","v":0},{"$f":"Data_4!G742","v":0},{"$f":"Data_4!J742","v":0},{"$f":"Data_4!M742","v":0},{"$f":"Data_4!P742","v":0},null,null,{"$f":"Data_1!J742","v":0},{"$f":"Data_2!M742","v":0},{"$f":"Data_4!S742","v":0}]
[{"$f":"Data_1!G743","v":0},{"$f":"Data_2!G743","v":0},{"$f":"Data_2!J743","v":0},{"$f":"Data_4!G743","v":0},{"$f":"Data_4!J743","v":0},{"$f":"Data_4!M743","v":0},{"$f":"Data_4!P743","v":0},null,null,{"$f":"Data_1!J743","v":0},{"$f":"Data_2!M743","v":0},{"$f":"Data_4!S743","v":0}]
[{"$f":"Data_1!G744","v":0},{"$f":"Data_2!G744","v":0},{"$f":"Data_2!J744","v":0},{"$f":"Data_4!G744","v":0},{"$f":"Data_4!J744","v":0},{"$f":"Data_4!M744","v":0},{"$f":"Data_4!P744","v":0},null,null,{"$f":"Data_1!J744","v":0},{"$f":"Data_2!M744","v":0},{"$f":"Data_4!S744","v":0}]
[{"$f":"Data_1!G745","v":0},{"$f":"Data_2!G745","v":0},{"$f":"Data_2!J745","v":0},{"$f":"Data_4!G745","v":0},{"$f":"Data_4!J745","v":0},{"$f":"Data_4!M745","v":0},{"$f":"Data_4!P745","v":0},null,null,{"$f":"Data_1!J745","v":0},{"$f":"Data_2!M745","v":0},{"$f":"Data_4!S745","v":0}]
[{"$f":"Data_1!G746","v":0},{"$f":"Data_2!G746","v":0},{"$f":"Data_2!J746","v":0},{"$f":"Data_4!G746","v":0},{"$f":"Data_4!J746","v":0},{"$f":"Data_4!M746","v":0},{"$f":"Data_4!P746","v":0},null,null,{"$f":"Data_1!J746","v":0},{"$f":"Data_2!M746","v":0},{"$f":"Data_4!S746","v":0}]
[{"$f":"Data_1!G747","v":0},{"$f":"Data_2!G747","v":0},{"$f":"Data_2!J747","v":0},{"$f":"Data_4!G747","v":0},{"$f":"Data_4!J747","v":0},{"$f":"Data_4!M747","v":0},{"$f":"Data_4!P747","v":0},null,null,{"$f":"Data_1!J747","v":0},{"$f":"Data_2!M747","v":0},{"$f":"Data_4!S747","v":0}]
[{"$f":"Data_1!G748","v":0},{"$f":"Data_2!G748","v":0},{"$f":"Data_2!J748","v":0},{"$f":"Data_4!G748","v":0},{"$f":"Data_4!J748","v":0},{"$f":"Data_4!M748","v":0},{"$f":"Data_4!P748","v":0},null,null,{"$f":"Data_1!J748","v":0},{"$f":"Data_2!M748","v":0},{"$f":"Data_4!S748","v":0}]
[{"$f":"Data_1!G749","v":0},{"$f":"Data_2!G749","v":0},{"$f":"Data_2!J749","v":0},{"$f":"Data_4!G749","v":0},{"$f":"Data_4!J749","v":0},{"$f":"Data_4!M749","v":0},{"$f":"Data_4!P749","v":0},null,null,{"$f":"Data_1!J749","v":0},{"$f":"Data_2!M749","v":0},{"$f":"Data_4!S749","v":0}]
[{"$f":"Data_1!G750","v":0},{"$f":"Data_2!G750","v":0},{"$f":"Data_2!J750","v":0},{"$f":"Data_4!G750","v":0},{"$f":"Data_4!J750","v":0},{"$f":"Data_4!M750","v":0},{"$f":"Data_4!P750","v":0},null,null,{"$f":"Data_1!J750","v":0},{"$f":"Data_2!M750","v":0},{"$f":"Data_4!S750","v":0}]
[{"$f":"Data_1!G751","v":0},{"$f":"Data_2!G751","v":0},{"$f":"Data_2!J751","v":0},{"$f":"Data_4!G751","v":0},{"$f":"Data_4!J751","v":0},{"$f":"Data_4!M751","v":0},{"$f":"Data_4!P751","v":0},null,null,{"$f":"Data_1!J751","v":0},{"$f":"Data_2!M751","v":0},{"$f":"Data_4!S751","v":0}]
[{"$f":"Data_1!G752","v":0},{"$f":"Data_2!G752","v":0},{"$f":"Data_2!J752","v":0},{"$f":"Data_4!G752","v":0},{"$f":"Data_4!J752","v":0},{"$f":"Data_4!M752","v":0},{"$f":"Data_4!P752","v":0},null,null,{"$f":"Data_1!J752","v":0},{"$f":"Data_2!M752","v":0},{"$f":"Data_4!S752","v":0}]
[{"$f":"Data_1!G753","v":0},{"$f":"Data_2!G753","v":0},{"$f":"Data_2!J753","v":0},{"$f":"Data_4!G753","v":0},{"$f":"Data_4!J753","v":0},{"$f":"Data_4!M753","v":0},{"$f":"Data_4!P753","v":0},null,null,{"$f":"Data_1!J753","v":0},{"$f":"Data_2!M753","v":0},{"$f":"Data_4!S753","v":0}]
[{"$f":"Data_1!G754","v":0},{"$f":"Data_2!G754","v":0},{"$f":"Data_2!J754","v":0},{"$f":"Data_4!G754","v":0},{"$f":"Data_4!J754","v":0},{"$f":"Data_4!M754","v":0},{"$f":"Data_4!P754","v":0},null,null,{"$f":"Data_1!J754","v":0},{"$f":"Data_2!M754","v":0},{"$f":"Data_4!S754","v":0}]
[{"$f":"Data_1!G755","v":0},{"$f":"Data_2!G755","v":0},{"$f":"Data_2!J755","v":0},{"$f":"Data_4!G755","v":0},{"$f":"Data_4!J755","v":0},{"$f":"Data_4!M755","v":0},{"$f":"Data_4!P755","v":0},null,null,{"$f":"Data_1!J755","v":0},{"$f":"Data_2!M755","v":0},{"$f":"Data_4!S755","v":0}]
[{"$f":"Data_1!G756","v":0},{"$f":"Data_2!G756","v":0},{"$f":"Data_2!J756","v":0},{"$f":"Data_4!G756","v":0},{"$f":"Data_4!J756","v":0},{"$f":"Data_4!M756","v":0},{"$f":"Data_4!P756","v":0},null,null,{"$f":"Data_1!J756","v":0},{"$f":"Data_2!M756","v":0},{"$f":"Data_4!S756","v":0}]
[{"$f":"Data_1!G757","v":0},{"$f":"Data_2!G757","v":0},{"$f":"Data_2!J757","v":0},{"$f":"Data_4!G757","v":0},{"$f":"Data_4!J757","v":0},{"$f":"Data_4!M757","v":0},{"$f":"Data_4!P757","v":0},null,null,{"$f":"Data_1!J757","v":0},{"$f":"Data_2!M757","v":0},{"$f":"Data_4!S757","v":0}]
[{"$f":"Data_1!G758","v":0},{"$f":"Data_2!G758","v":0},{"$f":"Data_2!J758","v":0},{"$f":"Data_4!G758","v":0},{"$f":"Data_4!J758","v":0},{"$f":"Data_4!M758","v":0},{"$f":"Data_4!P758","v":0},null,null,{"$f":"Data_1!J758","v":0},{"$f":"Data_2!M758","v":0},{"$f":"Data_4!S758","v":0}]
[{"$f":"Data_1!G759","v":0},{"$f":"Data_2!G759","v":0},{"$f":"Data_2!J759","v":0},{"$f":"Data_4!G759","v":0},{"$f":"Data_4!J759","v":0},{"$f":"Data_4!M759","v":0},{"$f":"Data_4!P759","v":0},null,null,{"$f":"Data_1!J759","v":0},{"$f":"Data_2!M759","v":0},{"$f":"Data_4!S759","v":0}]
[{"$f":"Data_1!G760","v":0},{"$f":"Data_2!G760","v":0},{"$f":"Data_2!J760","v":0},{"$f":"Data_4!G760","v":0},{"$f":"Data_4!J760","v":0},{"$f":"Data_4!M760","v":0},{"$f":"Data_4!P760","v":0},null,null,{"$f":"Data_1!J760","v":0},{"$f":"Data_2!M760","v":0},{"$f":"Data_4!S760","v":0}]
[{"$f":"Data_1!G761","v":0},{"$f":"Data_2!G761","v":0},{"$f":"Data_2!J761","v":0},{"$f":"Data_4!G761","v":0},{"$f":"Data_4!J761","v":0},{"$f":"Data_4!M761","v":0},{"$f":"Data_4!P761","v":0},null,null,{"$f":"Data_1!J761","v":0},{"$f":"Data_2!M761","v":0},{"$f":"Data_4!S761","v":0}]
[{"$f":"Data_1!G762","v":0},{"$f":"Data_2!G762","v":0},{"$f":"Data_2!J762","v":0},{"$f":"Data_4!G762","v":0},{"$f":"Data_4!J762","v":0},{"$f":"Data_4!M762","v":0},{"$f":"Data_4!P762","v":0},null,null,{"$f":"Data_1!J762","v":0},{"$f":"Data_2!M762","v":0},{"$f":"Data_4!S762","v":0}]
[{"$f":"Data_1!G763","v":0},{"$f":"Data_2!G763","v":0},{"$f":"Data_2!J763","v":0},{"$f":"Data_4!G763","v":0},{"$f":"Data_4!J763","v":0},{"$f":"Data_4!M763","v":0},{"$f":"Data_4!P763","v":0},null,null,{"$f":"Data_1!J763","v":0},{"$f":"Data_2!M763","v":0},{"$f":"Data_4!S763","v":0}]
[{"$f":"Data_1!G764","v":0},{"$f":"Data_2!G764","v":0},{"$f":"Data_2!J764","v":0},{"$f":"Data_4!G764","v":0},{"$f":"Data_4!J764","v":0},{"$f":"Data_4!M764","v":0},{"$f":"Data_4!P764","v":0},null,null,{"$f":"Data_1!J764","v":0},{"$f":"Data_2!M764","v":0},{"$f":"Data_4!S764","v":0}]
[{"$f":"Data_1!G765","v":0},{"$f":"Data_2!G765","v":0},{"$f":"Data_2!J765","v":0},{"$f":"Data_4!G765","v":0},{"$f":"Data_4!J765","v":0},{"$f":"Data_4!M765","v":0},{"$f":"Data_4!P765","v":0},null,null,{"$f":"Data_1!J765","v":0},{"$f":"Data_2!M765","v":0},{"$f":"Data_4!S765","v":0}]
[{"$f":"Data_1!G766","v":0},{"$f":"Data_2!G766","v":0},{"$f":"Data_2!J766","v":0},{"$f":"Data_4!G766","v":0},{"$f":"Data_4!J766","v":0},{"$f":"Data_4!M766","v":0},{"$f":"Data_4!P766","v":0},null,null,{"$f":"Data_1!J766","v":0},{"$f":"Data_2!M766","v":0},{"$f":"Data_4!S766","v":0}]
[{"$f":"Data_1!G767","v":0},{"$f":"Data_2!G767","v":0},{"$f":"Data_2!J767","v":0},{"$f":"Data_4!G767","v":0},{"$f":"Data_4!J767","v":0},{"$f":"Data_4!M767","v":0},{"$f":"Data_4!P767","v":0},null,null,{"$f":"Data_1!J767","v":0},{"$f":"Data_2!M767","v":0},{"$f":"Data_4!S767","v":0}]
[{"$f":"Data_1!G768","v":0},{"$f":"Data_2!G768","v":0},{"$f":"Data_2!J768","v":0},{"$f":"Data_4!G768","v":0},{"$f":"Data_4!J768","v":0},{"$f":"Data_4!M768","v":0},{"$f":"Data_4!P768","v":0},null,null,{"$f":"Data_1!J768","v":0},{"$f":"Data_2!M768","v":0},{"$f":"Data_4!S768","v":0}]
[{"$f":"Data_1!G769","v":0},{"$f":"Data_2!G769","v":0},{"$f":"Data_2!J769","v":0},{"$f":"Data_4!G769","v":0},{"$f":"Data_4!J769","v":0},{"$f":"Data_4!M769","v":0},{"$f":"Data_4!P769","v":0},null,null,{"$f":"Data_1!J769","v":0},{"$f":"Data_2!M769","v":0},{"$f":"Data_4!S769","v":0}]
[{"$f":"Data_1!G770","v":0},{"$f":"Data_2!G770","v":0},{"$f":"Data_2!J770","v":0},{"$f":"Data_4!G770","v":0},{"$f":"Data_4!J770","v":0},{"$f":"Data_4!M770","v":0},{"$f":"Data_4!P770","v":0},null,null,{"$f":"Data_1!J770","v":0},{"$f":"Data_2!M770","v":0},{"$f":"Data_4!S770","v":0}]
[{"$f":"Data_1!G771","v":0},{"$f":"Data_2!G771","v":0},{"$f":"Data_2!J771","v":0},{"$f":"Data_4!G771","v":0},{"$f":"Data_4!J771","v":0},{"$f":"Data_4!M771","v":0},{"$f":"Data_4!P771","v":0},null,null,{"$f":"Data_1!J771","v":0},{"$f":"Data_2!M771","v":0},{"$f":"Data_4!S771","v":0}]
[{"$f":"Data_1!G772","v":0},{"$f":"Data_2!G772","v":0},{"$f":"Data_2!J772","v":0},{"$f":"Data_4!G772","v":0},{"$f":"Data_4!J772","v":0},{"$f":"Data_4!M772","v":0},{"$f":"Data_4!P772","v":0},null,null,{"$f":"Data_1!J772","v":0},{"$f":"Data_2!M772","v":0},{"$f":"Data_4!S772","v":0}]
[{"$f":"Data_1!G773","v":0},{"$f":"Data_2!G773","v":0},{"$f":"Data_2!J773","v":0},{"$f":"Data_4!G773","v":0},{"$f":"Data_4!J773","v":0},{"$f":"Data_4!M773","v":0},{"$f":"Data_4!P773","v":0},null,null,{"$f":"Data_1!J773","v":0},{"$f":"Data_2!M773","v":0},{"$f":"Data_4!S773","v":0}]
[{"$f":"Data_1!G774","v":0},{"$f":"Data_2!G774","v":0},{"$f":"Data_2!J774","v":0},{"$f":"Data_4!G774","v":0},{"$f":"Data_4!J774","v":0},{"$f":"Data_4!M774","v":0},{"$f":"Data_4!P774","v":0},null,null,{"$f":"Data_1!J774","v":0},{"$f":"Data_2!M774","v":0},{"$f":"Data_4!S774","v":0}]
[{"$f":"Data_1!G775","v":0},{"$f":"Data_2!G775","v":0},{"$f":"Data_2!J775","v":0},{"$f":"Data_4!G775","v":0},{"$f":"Data_4!J775","v":0},{"$f":"Data_4!M775","v":0},{"$f":"Data_4!P775","v":0},null,null,{"$f":"Data_1!J775","v":0},{"$f":"Data_2!M775","v":0},{"$f":"Data_4!S775","v":0}]
[{"$f":"Data_1!G776","v":0},{"$f":"Data_2!G776","v":0},{"$f":"Data_2!J776","v":0},{"$f":"Data_4!G776","v":0},{"$f":"Data_4!J776","v":0},{"$f":"Data_4!M776","v":0},{"$f":"Data_4!P776","v":0},null,null,{"$f":"Data_1!J776","v":0},{"$f":"Data_2!M776","v":0},{"$f":"Data_4!S776","v":0}]
[{"$f":"Data_1!G777","v":0},{"$f":"Data_2!G777","v":0},{"$f":"Data_2!J777","v":0},{"$f":"Data_4!G777","v":0},{"$f":"Data_4!J777","v":0},{"$f":"Data_4!M777","v":0},{"$f":"Data_4!P777","v":0},null,null,{"$f":"Data_1!J777","v":0},{"$f":"Data_2!M777","v":0},{"$f":"Data_4!S777","v":0}]
[{"$f":"Data_1!G778","v":0},{"$f":"Data_2!G778","v":0},{"$f":"Data_2!J778","v":0},{"$f":"Data_4!G778","v":0},{"$f":"Data_4!J778","v":0},{"$f":"Data_4!M778","v":0},{"$f":"Data_4!P778","v":0},null,null,{"$f":"Data_1!J778","v":0},{"$f":"Data_2!M778","v":0},{"$f":"Data_4!S778","v":0}]
[{"$f":"Data_1!G779","v":0},{"$f":"Data_2!G779","v":0},{"$f":"Data_2!J779","v":0},{"$f":"Data_4!G779","v":0},{"$f":"Data_4!J779","v":0},{"$f":"Data_4!M779","v":0},{"$f":"Data_4!P779","v":0},null,null,{"$f":"Data_1!J779","v":0},{"$f":"Data_2!M779","v":0},{"$f":"Data_4!S779","v":0}]
[{"$f":"Data_1!G780","v":0},{"$f":"Data_2!G780","v":0},{"$f":"Data_2!J780","v":0},{"$f":"Data_4!G780","v":0},{"$f":"Data_4!J780","v":0},{"$f":"Data_4!M780","v":0},{"$f":"Data_4!P780","v":0},null,null,{"$f":"Data_1!J780","v":0},{"$f":"Data_2!M780","v":0},{"$f":"Data_4!S780","v":0}]
[{"$f":"Data_1!G781","v":0},{"$f":"Data_2!G781","v":0},{"$f":"Data_2!J781","v":0},{"$f":"Data_4!G781","v":0},{"$f":"Data_4!J781","v":0},{"$f":"Data_4!M781","v":0},{"$f":"Data_4!P781","v":0},null,null,{"$f":"Data_1!J781","v":0},{"$f":"Data_2!M781","v":0},{"$f":"Data_4!S781","v":0}]
[{"$f":"Data_1!G782","v":0},{"$f":"Data_2!G782","v":0},{"$f":"Data_2!J782","v":0},{"$f":"Data_4!G782","v":0},{"$f":"Data_4!J782","v":0},{"$f":"Data_4!M782","v":0},{"$f":"Data_4!P782","v":0},null,null,{"$f":"Data_1!J782","v":0},{"$f":"Data_2!M782","v":0},{"$f":"Data_4!S782","v":0}]
[{"$f":"Data_1!G783","v":0},{"$f":"Data_2!G783","v":0},{"$f":"Data_2!J783","v":0},{"$f":"Data_4!G783","v":0},{"$f":"Data_4!J783","v":0},{"$f":"Data_4!M783","v":0},{"$f":"Data_4!P783","v":0},null,null,{"$f":"Data_1!J783","v":0},{"$f":"Data_2!M783","v":0},{"$f":"Data_4!S783","v":0}]
[{"$f":"Data_1!G784","v":0},{"$f":"Data_2!G784","v":0},{"$f":"Data_2!J784","v":0},{"$f":"Data_4!G784","v":0},{"$f":"Data_4!J784","v":0},{"$f":"Data_4!M784","v":0},{"$f":"Data_4!P784","v":0},null,null,{"$f":"Data_1!J784","v":0},{"$f":"Data_2!M784","v":0},{"$f":"Data_4!S784","v":0}]
[{"$f":"Data_1!G785","v":0},{"$f":"Data_2!G785","v":0},{"$f":"Data_2!J785","v":0},{"$f":"Data_4!G785","v":0},{"$f":"Data_4!J785","v":0},{"$f":"Data_4!M785","v":0},{"$f":"Data_4!P785","v":0},null,null,{"$f":"Data_1!J785","v":0},{"$f":"Data_2!M785","v":0},{"$f":"Data_4!S785","v":0}]
[{"$f":"Data_1!G786","v":0},{"$f":"Data_2!G786","v":0},{"$f":"Data_2!J786","v":0},{"$f":"Data_4!G786","v":0},{"$f":"Data_4!J786","v":0},{"$f":"Data_4!M786","v":0},{"$f":"Data_4!P786","v":0},null,null,{"$f":"Data_1!J786","v":0},{"$f":"Data_2!M786","v":0},{"$f":"Data_4!S786","v":0}]
[{"$f":"Data_1!G787","v":0},{"$f":"Data_2!G787","v":0},{"$f":"Data_2!J787","v":0},{"$f":"Data_4!G787","v":0},{"$f":"Data_4!J787","v":0},{"$f":"Data_4!M787","v":0},{"$f":"Data_4!P787","v":0},null,null,{"$f":"Data_1!J787","v":0},{"$f":"Data_2!M787","v":0},{"$f":"Data_4!S787","v":0}]
[{"$f":"Data_1!G788","v":0},{"$f":"Data_2!G788","v":0},{"$f":"Data_2!J788","v":0},{"$f":"Data_4!G788","v":0},{"$f":"Data_4!J788","v":0},{"$f":"Data_4!M788","v":0},{"$f":"Data_4!P788","v":0},null,null,{"$f":"Data_1!J788","v":0},{"$f":"Data_2!M788","v":0},{"$f":"Data_4!S788","v":0}]
[{"$f":"Data_1!G789","v":0},{"$f":"Data_2!G789","v":0},{"$f":"Data_2!J789","v":0},{"$f":"Data_4!G789","v":0},{"$f":"Data_4!J789","v":0},{"$f":"Data_4!M789","v":0},{"$f":"Data_4!P789","v":0},null,null,{"$f":"Data_1!J789","v":0},{"$f":"Data_2!M789","v":0},{"$f":"Data_4!S789","v":0}]
[{"$f":"Data_1!G790","v":0},{"$f":"Data_2!G790","v":0},{"$f":"Data_2!J790","v":0},{"$f":"Data_4!G790","v":0},{"$f":"Data_4!J790","v":0},{"$f":"Data_4!M790","v":0},{"$f":"Data_4!P790","v":0},null,null,{"$f":"Data_1!J790","v":0},{"$f":"Data_2!M790","v":0},{"$f":"Data_4!S790","v":0}]
[{"$f":"Data_1!G791","v":0},{"$f":"Data_2!G791","v":0},{"$f":"Data_2!J791","v":0},{"$f":"Data_4!G791","v":0},{"$f":"Data_4!J791","v":0},{"$f":"Data_4!M791","v":0},{"$f":"Data_4!P791","v":0},null,null,{"$f":"Data_1!J791","v":0},{"$f":"Data_2!M791","v":0},{"$f":"Data_4!S791","v":0}]
[{"$f":"Data_1!G792","v":0},{"$f":"Data_2!G792","v":0},{"$f":"Data_2!J792","v":0},{"$f":"Data_4!G792","v":0},{"$f":"Data_4!J792","v":0},{"$f":"Data_4!M792","v":0},{"$f":"Data_4!P792","v":0},null,null,{"$f":"Data_1!J792","v":0},{"$f":"Data_2!M792","v":0},{"$f":"Data_4!S792","v":0}]
[{"$f":"Data_1!G793","v":0},{"$f":"Data_2!G793","v":0},{"$f":"Data_2!J793","v":0},{"$f":"Data_4!G793","v":0},{"$f":"Data_4!J793","v":0},{"$f":"Data_4!M793","v":0},{"$f":"Data_4!P793","v":0},null,null,{"$f":"Data_1!J793","v":0},{"$f":"Data_2!M793","v":0},{"$f":"Data_4!S793","v":0}]
[{"$f":"Data_1!G794","v":0},{"$f":"Data_2!G794","v":0},{"$f":"Data_2!J794","v":0},{"$f":"Data_4!G794","v":0},{"$f":"Data_4!J794","v":0},{"$f":"Data_4!M794","v":0},{"$f":"Data_4!P794","v":0},null,null,{"$f":"Data_1!J794","v":0},{"$f":"Data_2!M794","v":0},{"$f":"Data_4!S794","v":0}]
[{"$f":"Data_1!G795","v":0},{"$f":"Data_2!G795","v":0},{"$f":"Data_2!J795","v":0},{"$f":"Data_4!G795","v":0},{"$f":"Data_4!J795","v":0},{"$f":"Data_4!M795","v":0},{"$f":"Data_4!P795","v":0},null,null,{"$f":"Data_1!J795","v":0},{"$f":"Data_2!M795","v":0},{"$f":"Data_4!S795","v":0}]
[{"$f":"Data_1!G796","v":0},{"$f":"Data_2!G796","v":0},{"$f":"Data_2!J796","v":0},{"$f":"Data_4!G796","v":0},{"$f":"Data_4!J796","v":0},{"$f":"Data_4!M796","v":0},{"$f":"Data_4!P796","v":0},null,null,{"$f":"Data_1!J796","v":0},{"$f":"Data_2!M796","v":0},{"$f":"Data_4!S796","v":0}]
[{"$f":"Data_1!G797","v":0},{"$f":"Data_2!G797","v":0},{"$f":"Data_2!J797","v":0},{"$f":"Data_4!G797","v":0},{"$f":"Data_4!J797","v":0},{"$f":"Data_4!M797","v":0},{"$f":"Data_4!P797","v":0},null,null,{"$f":"Data_1!J797","v":0},{"$f":"Data_2!M797","v":0},{"$f":"Data_4!S797","v":0}]
[{"$f":"Data_1!G798","v":0},{"$f":"Data_2!G798","v":0},{"$f":"Data_2!J798","v":0},{"$f":"Data_4!G798","v":0},{"$f":"Data_4!J798","v":0},{"$f":"Data_4!M798","v":0},{"$f":"Data_4!P798","v":0},null,null,{"$f":"Data_1!J798","v":0},{"$f":"Data_2!M798","v":0},{"$f":"Data_4!S798","v":0}]
[{"$f":"Data_1!G799","v":0},{"$f":"Data_2!G799","v":0},{"$f":"Data_2!J799","v":0},{"$f":"Data_4!G799","v":0},{"$f":"Data_4!J799","v":0},{"$f":"Data_4!M799","v":0},{"$f":"Data_4!P799","v":0},null,null,{"$f":"Data_1!J799","v":0},{"$f":"Data_2!M799","v":0},{"$f":"Data_4!S799","v":0}]
[{"$f":"Data_1!G800","v":0},{"$f":"Data_2!G800","v":0},{"$f":"Data_2!J800","v":0},{"$f":"Data_4!G800","v":0},{"$f":"Data_4!J800","v":0},{"$f":"Data_4!M800","v":0},{"$f":"Data_4!P800","v":0},null,null,{"$f":"Data_1!J800","v":0},{"$f":"Data_2!M800","v":0},{"$f":"Data_4!S800","v":0}]
[{"$f":"Data_1!G801","v":0},{"$f":"Data_2!G801","v":0},{"$f":"Data_2!J801","v":0},{"$f":"Data_4!G801","v":0},{"$f":"Data_4!J801","v":0},{"$f":"Data_4!M801","v":0},{"$f":"Data_4!P801","v":0},null,null,{"$f":"Data_1!J801","v":0},{"$f":"Data_2!M801","v":0},{"$f":"Data_4!S801","v":0}]
[{"$f":"Data_1!G802","v":0},{"$f":"Data_2!G802","v":0},{"$f":"Data_2!J802","v":0},{"$f":"Data_4!G802","v":0},{"$f":"Data_4!J802","v":0},{"$f":"Data_4!M802","v":0},{"$f":"Data_4!P802","v":0},null,null,{"$f":"Data_1!J802","v":0},{"$f":"Data_2!M802","v":0},{"$f":"Data_4!S802","v":0}]
[{"$f":"Data_1!G803","v":0},{"$f":"Data_2!G803","v":0},{"$f":"Data_2!J803","v":0},{"$f":"Data_4!G803","v":0},{"$f":"Data_4!J803","v":0},{"$f":"Data_4!M803","v":0},{"$f":"Data_4!P803","v":0},null,null,{"$f":"Data_1!J803","v":0},{"$f":"Data_2!M803","v":0},{"$f":"Data_4!S803","v":0}]
[{"$f":"Data_1!G804","v":0},{"$f":"Data_2!G804","v":0},{"$f":"Data_2!J804","v":0},{"$f":"Data_4!G804","v":0},{"$f":"Data_4!J804","v":0},{"$f":"Data_4!M804","v":0},{"$f":"Data_4!P804","v":0},null,null,{"$f":"Data_1!J804","v":0},{"$f":"Data_2!M804","v":0},{"$f":"Data_4!S804","v":0}]
[{"$f":"Data_1!G805","v":0},{"$f":"Data_2!G805","v":0},{"$f":"Data_2!J805","v":0},{"$f":"Data_4!G805","v":0},{"$f":"Data_4!J805","v":0},{"$f":"Data_4!M805","v":0},{"$f":"Data_4!P805","v":0},null,null,{"$f":"Data_1!J805","v":0},{"$f":"Data_2!M805","v":0},{"$f":"Data_4!S805","v":0}]
[{"$f":"Data_1!G806","v":0},{"$f":"Data_2!G806","v":0},{"$f":"Data_2!J806","v":0},{"$f":"Data_4!G806","v":0},{"$f":"Data_4!J806","v":0},{"$f":"Data_4!M806","v":0},{"$f":"Data_4!P806","v":0},null,null,{"$f":"Data_1!J806","v":0},{"$f":"Data_2!M806","v":0},{"$f":"Data_4!S806","v":0}]
[{"$f":"Data_1!G807","v":0},{"$f":"Data_2!G807","v":0},{"$f":"Data_2!J807","v":0},{"$f":"Data_4!G807","v":0},{"$f":"Data_4!J807","v":0},{"$f":"Data_4!M807","v":0},{"$f":"Data_4!P807","v":0},null,null,{"$f":"Data_1!J807","v":0},{"$f":"Data_2!M807","v":0},{"$f":"Data_4!S807","v":0}]
[{"$f":"Data_1!G808","v":0},{"$f":"Data_2!G808","v":0},{"$f":"Data_2!J808","v":0},{"$f":"Data_4!G808","v":0},{"$f":"Data_4!J808","v":0},{"$f":"Data_4!M808","v":0},{"$f":"Data_4!P808","v":0},null,null,{"$f":"Data_1!J808","v":0},{"$f":"Data_2!M808","v":0},{"$f":"Data_4!S808","v":0}]
[{"$f":"Data_1!G809","v":0},{"$f":"Data_2!G809","v":0},{"$f":"Data_2!J809","v":0},{"$f":"Data_4!G809","v":0},{"$f":"Data_4!J809","v":0},{"$f":"Data_4!M809","v":0},{"$f":"Data_4!P809","v":0},null,null,{"$f":"Data_1!J809","v":0},{"$f":"Data_2!M809","v":0},{"$f":"Data_4!S809","v":0}]
[{"$f":"Data_1!G810","v":0},{"$f":"Data_2!G810","v":0},{"$f":"Data_2!J810","v":0},{"$f":"Data_4!G810","v":0},{"$f":"Data_4!J810","v":0},{"$f":"Data_4!M810","v":0},{"$f":"Data_4!P810","v":0},null,null,{"$f":"Data_1!J810","v":0},{"$f":"Data_2!M810","v":0},{"$f":"Data_4!S810","v":0}]
[{"$f":"Data_1!G811","v":0},{"$f":"Data_2!G811","v":0},{"$f":"Data_2!J811","v":0},{"$f":"Data_4!G811","v":0},{"$f":"Data_4!J811","v":0},{"$f":"Data_4!M811","v":0},{"$f":"Data_4!P811","v":0},null,null,{"$f":"Data_1!J811","v":0},{"$f":"Data_2!M811","v":0},{"$f":"Data_4!S811","v":0}]
[{"$f":"Data_1!G812","v":0},{"$f":"Data_2!G812","v":0},{"$f":"Data_2!J812","v":0},{"$f":"Data_4!G812","v":0},{"$f":"Data_4!J812","v":0},{"$f":"Data_4!M812","v":0},{"$f":"Data_4!P812","v":0},null,null,{"$f":"Data_1!J812","v":0},{"$f":"Data_2!M812","v":0},{"$f":"Data_4!S812","v":0}]
[{"$f":"Data_1!G813","v":0},{"$f":"Data_2!G813","v":0},{"$f":"Data_2!J813","v":0},{"$f":"Data_4!G813","v":0},{"$f":"Data_4!J813","v":0},{"$f":"Data_4!M813","v":0},{"$f":"Data_4!P813","v":0},null,null,{"$f":"Data_1!J813","v":0},{"$f":"Data_2!M813","v":0},{"$f":"Data_4!S813","v":0}]
[{"$f":"Data_1!G814","v":0},{"$f":"Data_2!G814","v":0},{"$f":"Data_2!J814","v":0},{"$f":"Data_4!G814","v":0},{"$f":"Data_4!J814","v":0},{"$f":"Data_4!M814","v":0},{"$f":"Data_4!P814","v":0},null,null,{"$f":"Data_1!J814","v":0},{"$f":"Data_2!M814","v":0},{"$f":"Data_4!S814","v":0}]
[{"$f":"Data_1!G815","v":0},{"$f":"Data_2!G815","v":0},{"$f":"Data_2!J815","v":0},{"$f":"Data_4!G815","v":0},{"$f":"Data_4!J815","v":0},{"$f":"Data_4!M815","v":0},{"$f":"Data_4!P815","v":0},null,null,{"$f":"Data_1!J815","v":0},{"$f":"Data_2!M815","v":0},{"$f":"Data_4!S815","v":0}]
[{"$f":"Data_1!G816","v":0},{"$f":"Data_2!G816","v":0},{"$f":"Data_2!J816","v":0},{"$f":"Data_4!G816","v":0},{"$f":"Data_4!J816","v":0},{"$f":"Data_4!M816","v":0},{"$f":"Data_4!P816","v":0},null,null,{"$f":"Data_1!J816","v":0},{"$f":"Data_2!M816","v":0},{"$f":"Data_4!S816","v":0}]
[{"$f":"Data_1!G817","v":0},{"$f":"Data_2!G817","v":0},{"$f":"Data_2!J817","v":0},{"$f":"Data_4!G817","v":0},{"$f":"Data_4!J817","v":0},{"$f":"Data_4!M817","v":0},{"$f":"Data_4!P817","v":0},null,null,{"$f":"Data_1!J817","v":0},{"$f":"Data_2!M817","v":0},{"$f":"Data_4!S817","v":0}]
[{"$f":"Data_1!G818","v":0},{"$f":"Data_2!G818","v":0},{"$f":"Data_2!J818","v":0},{"$f":"Data_4!G818","v":0},{"$f":"Data_4!J818","v":0},{"$f":"Data_4!M818","v":0},{"$f":"Data_4!P818","v":0},null,null,{"$f":"Data_1!J818","v":0},{"$f":"Data_2!M818","v":0},{"$f":"Data_4!S818","v":0}]
[{"$f":"Data_1!G819","v":0},{"$f":"Data_2!G819","v":0},{"$f":"Data_2!J819","v":0},{"$f":"Data_4!G819","v":0},{"$f":"Data_4!J819","v":0},{"$f":"Data_4!M819","v":0},{"$f":"Data_4!P819","v":0},null,null,{"$f":"Data_1!J819","v":0},{"$f":"Data_2!M819","v":0},{"$f":"Data_4!S819","v":0}]
[{"$f":"Data_1!G820","v":0},{"$f":"Data_2!G820","v":0},{"$f":"Data_2!J820","v":0},{"$f":"Data_4!G820","v":0},{"$f":"Data_4!J820","v":0},{"$f":"Data_4!M820","v":0},{"$f":"Data_4!P820","v":0},null,null,{"$f":"Data_1!J820","v":0},{"$f":"Data_2!M820","v":0},{"$f":"Data_4!S820","v":0}]
[{"$f":"Data_1!G821","v":0},{"$f":"Data_2!G821","v":0},{"$f":"Data_2!J821","v":0},{"$f":"Data_4!G821","v":0},{"$f":"Data_4!J821","v":0},{"$f":"Data_4!M821","v":0},{"$f":"Data_4!P821","v":0},null,null,{"$f":"Data_1!J821","v":0},{"$f":"Data_2!M821","v":0},{"$f":"Data_4!S821","v":0}]
[{"$f":"Data_1!G822","v":0},{"$f":"Data_2!G822","v":0},{"$f":"Data_2!J822","v":0},{"$f":"Data_4!G822","v":0},{"$f":"Data_4!J822","v":0},{"$f":"Data_4!M822","v":0},{"$f":"Data_4!P822","v":0},null,null,{"$f":"Data_1!J822","v":0},{"$f":"Data_2!M822","v":0},{"$f":"Data_4!S822","v":0}]
[{"$f":"Data_1!G823","v":0},{"$f":"Data_2!G823","v":0},{"$f":"Data_2!J823","v":0},{"$f":"Data_4!G823","v":0},{"$f":"Data_4!J823","v":0},{"$f":"Data_4!M823","v":0},{"$f":"Data_4!P823","v":0},null,null,{"$f":"Data_1!J823","v":0},{"$f":"Data_2!M823","v":0},{"$f":"Data_4!S823","v":0}]
[{"$f":"Data_1!G824","v":0},{"$f":"Data_2!G824","v":0},{"$f":"Data_2!J824","v":0},{"$f":"Data_4!G824","v":0},{"$f":"Data_4!J824","v":0},{"$f":"Data_4!M824","v":0},{"$f":"Data_4!P824","v":0},null,null,{"$f":"Data_1!J824","v":0},{"$f":"Data_2!M824","v":0},{"$f":"Data_4!S824","v":0}]
[{"$f":"Data_1!G825","v":0},{"$f":"Data_2!G825","v":0},{"$f":"Data_2!J825","v":0},{"$f":"Data_4!G825","v":0},{"$f":"Data_4!J825","v":0},{"$f":"Data_4!M825","v":0},{"$f":"Data_4!P825","v":0},null,null,{"$f":"Data_1!J825","v":0},{"$f":"Data_2!M825","v":0},{"$f":"Data_4!S825","v":0}]
[{"$f":"Data_1!G826","v":0},{"$f":"Data_2!G826","v":0},{"$f":"Data_2!J826","v":0},{"$f":"Data_4!G826","v":0},{"$f":"Data_4!J826","v":0},{"$f":"Data_4!M826","v":0},{"$f":"Data_4!P826","v":0},null,null,{"$f":"Data_1!J826","v":0},{"$f":"Data_2!M826","v":0},{"$f":"Data_4!S826","v":0}]
[{"$f":"Data_1!G827","v":0},{"$f":"Data_2!G827","v":0},{"$f":"Data_2!J827","v":0},{"$f":"Data_4!G827","v":0},{"$f":"Data_4!J827","v":0},{"$f":"Data_4!M827","v":0},{"$f":"Data_4!P827","v":0},null,null,{"$f":"Data_1!J827","v":0},{"$f":"Data_2!M827","v":0},{"$f":"Data_4!S827","v":0}]
[{"$f":"Data_1!G828","v":0},{"$f":"Data_2!G828","v":0},{"$f":"Data_2!J828","v":0},{"$f":"Data_4!G828","v":0},{"$f":"Data_4!J828","v":0},{"$f":"Data_4!M828","v":0},{"$f":"Data_4!P828","v":0},null,null,{"$f":"Data_1!J828","v":0},{"$f":"Data_2!M828","v":0},{"$f":"Data_4!S828","v":0}]
[{"$f":"Data_1!G829","v":0},{"$f":"Data_2!G829","v":0},{"$f":"Data_2!J829","v":0},{"$f":"Data_4!G829","v":0},{"$f":"Data_4!J829","v":0},{"$f":"Data_4!M829","v":0},{"$f":"Data_4!P829","v":0},null,null,{"$f":"Data_1!J829","v":0},{"$f":"Data_2!M829","v":0},{"$f":"Data_4!S829","v":0}]
[{"$f":"Data_1!G830","v":0},{"$f":"Data_2!G830","v":0},{"$f":"Data_2!J830","v":0},{"$f":"Data_4!G830","v":0},{"$f":"Data_4!J830","v":0},{"$f":"Data_4!M830","v":0},{"$f":"Data_4!P830","v":0},null,null,{"$f":"Data_1!J830","v":0},{"$f":"Data_2!M830","v":0},{"$f":"Data_4!S830","v":0}]
[{"$f":"Data_1!G831","v":0},{"$f":"Data_2!G831","v":0},{"$f":"Data_2!J831","v":0},{"$f":"Data_4!G831","v":0},{"$f":"Data_4!J831","v":0},{"$f":"Data_4!M831","v":0},{"$f":"Data_4!P831","v":0},null,null,{"$f":"Data_1!J831","v":0},{"$f":"Data_2!M831","v":0},{"$f":"Data_4!S831","v":0}]
[{"$f":"Data_1!G832","v":0},{"$f":"Data_2!G832","v":0},{"$f":"Data_2!J832","v":0},{"$f":"Data_4!G832","v":0},{"$f":"Data_4!J832","v":0},{"$f":"Data_4!M832","v":0},{"$f":"Data_4!P832","v":0},null,null,{"$f":"Data_1!J832","v":0},{"$f":"Data_2!M832","v":0},{"$f":"Data_4!S832","v":0}]
[{"$f":"Data_1!G833","v":0},{"$f":"Data_2!G833","v":0},{"$f":"Data_2!J833","v":0},{"$f":"Data_4!G833","v":0},{"$f":"Data_4!J833","v":0},{"$f":"Data_4!M833","v":0},{"$f":"Data_4!P833","v":0},null,null,{"$f":"Data_1!J833","v":0},{"$f":"Data_2!M833","v":0},{"$f":"Data_4!S833","v":0}]
[{"$f":"Data_1!G834","v":0},{"$f":"Data_2!G834","v":0},{"$f":"Data_2!J834","v":0},{"$f":"Data_4!G834","v":0},{"$f":"Data_4!J834","v":0},{"$f":"Data_4!M834","v":0},{"$f":"Data_4!P834","v":0},null,null,{"$f":"Data_1!J834","v":0},{"$f":"Data_2!M834","v":0},{"$f":"Data_4!S834","v":0}]
[{"$f":"Data_1!G835","v":0},{"$f":"Data_2!G835","v":0},{"$f":"Data_2!J835","v":0},{"$f":"Data_4!G835","v":0},{"$f":"Data_4!J835","v":0},{"$f":"Data_4!M835","v":0},{"$f":"Data_4!P835","v":0},null,null,{"$f":"Data_1!J835","v":0},{"$f":"Data_2!M835","v":0},{"$f":"Data_4!S835","v":0}]
[{"$f":"Data_1!G836","v":0},{"$f":"Data_2!G836","v":0},{"$f":"Data_2!J836","v":0},{"$f":"Data_4!G836","v":0},{"$f":"Data_4!J836","v":0},{"$f":"Data_4!M836","v":0},{"$f":"Data_4!P836","v":0},null,null,{"$f":"Data_1!J836","v":0},{"$f":"Data_2!M836","v":0},{"$f":"Data_4!S836","v":0}]
[{"$f":"Data_1!G837","v":0},{"$f":"Data_2!G837","v":0},{"$f":"Data_2!J837","v":0},{"$f":"Data_4!G837","v":0},{"$f":"Data_4!J837","v":0},{"$f":"Data_4!M837","v":0},{"$f":"Data_4!P837","v":0},null,null,{"$f":"Data_1!J837","v":0},{"$f":"Data_2!M837","v":0},{"$f":"Data_4!S837","v":0}]
[{"$f":"Data_1!G838","v":0},{"$f":"Data_2!G838","v":0},{"$f":"Data_2!J838","v":0},{"$f":"Data_4!G838","v":0},{"$f":"Data_4!J838","v":0},{"$f":"Data_4!M838","v":0},{"$f":"Data_4!P838","v":0},null,null,{"$f":"Data_1!J838","v":0},{"$f":"Data_2!M838","v":0},{"$f":"Data_4!S838","v":0}]
[{"$f":"Data_1!G839","v":0},{"$f":"Data_2!G839","v":0},{"$f":"Data_2!J839","v":0},{"$f":"Data_4!G839","v":0},{"$f":"Data_4!J839","v":0},{"$f":"Data_4!M839","v":0},{"$f":"Data_4!P839","v":0},null,null,{"$f":"Data_1!J839","v":0},{"$f":"Data_2!M839","v":0},{"$f":"Data_4!S839","v":0}]
[{"$f":"Data_1!G840","v":0},{"$f":"Data_2!G840","v":0},{"$f":"Data_2!J840","v":0},{"$f":"Data_4!G840","v":0},{"$f":"Data_4!J840","v":0},{"$f":"Data_4!M840","v":0},{"$f":"Data_4!P840","v":0},null,null,{"$f":"Data_1!J840","v":0},{"$f":"Data_2!M840","v":0},{"$f":"Data_4!S840","v":0}]
[{"$f":"Data_1!G841","v":0},{"$f":"Data_2!G841","v":0},{"$f":"Data_2!J841","v":0},{"$f":"Data_4!G841","v":0},{"$f":"Data_4!J841","v":0},{"$f":"Data_4!M841","v":0},{"$f":"Data_4!P841","v":0},null,null,{"$f":"Data_1!J841","v":0},{"$f":"Data_2!M841","v":0},{"$f":"Data_4!S841","v":0}]
[{"$f":"Data_1!G842","v":0},{"$f":"Data_2!G842","v":0},{"$f":"Data_2!J842","v":0},{"$f":"Data_4!G842","v":0},{"$f":"Data_4!J842","v":0},{"$f":"Data_4!M842","v":0},{"$f":"Data_4!P842","v":0},null,null,{"$f":"Data_1!J842","v":0},{"$f":"Data_2!M842","v":0},{"$f":"Data_4!S842","v":0}]
[{"$f":"Data_1!G843","v":0},{"$f":"Data_2!G843","v":0},{"$f":"Data_2!J843","v":0},{"$f":"Data_4!G843","v":0},{"$f":"Data_4!J843","v":0},{"$f":"Data_4!M843","v":0},{"$f":"Data_4!P843","v":0},null,null,{"$f":"Data_1!J843","v":0},{"$f":"Data_2!M843","v":0},{"$f":"Data_4!S843","v":0}]
[{"$f":"Data_1!G844","v":0},{"$f":"Data_2!G844","v":0},{"$f":"Data_2!J844","v":0},{"$f":"Data_4!G844","v":0},{"$f":"Data_4!J844","v":0},{"$f":"Data_4!M844","v":0},{"$f":"Data_4!P844","v":0},null,null,{"$f":"Data_1!J844","v":0},{"$f":"Data_2!M844","v":0},{"$f":"Data_4!S844","v":0}]
[{"$f":"Data_1!G845","v":0},{"$f":"Data_2!G845","v":0},{"$f":"Data_2!J845","v":0},{"$f":"Data_4!G845","v":0},{"$f":"Data_4!J845","v":0},{"$f":"Data_4!M845","v":0},{"$f":"Data_4!P845","v":0},null,null,{"$f":"Data_1!J845","v":0},{"$f":"Data_2!M845","v":0},{"$f":"Data_4!S845","v":0}]
[{"$f":"Data_1!G846","v":0},{"$f":"Data_2!G846","v":0},{"$f":"Data_2!J846","v":0},{"$f":"Data_4!G846","v":0},{"$f":"Data_4!J846","v":0},{"$f":"Data_4!M846","v":0},{"$f":"Data_4!P846","v":0},null,null,{"$f":"Data_1!J846","v":0},{"$f":"Data_2!M846","v":0},{"$f":"Data_4!S846","v":0}]
[{"$f":"Data_1!G847","v":0},{"$f":"Data_2!G847","v":0},{"$f":"Data_2!J847","v":0},{"$f":"Data_4!G847","v":0},{"$f":"Data_4!J847","v":0},{"$f":"Data_4!M847","v":0},{"$f":"Data_4!P847","v":0},null,null,{"$f":"Data_1!J847","v":0},{"$f":"Data_2!M847","v":0},{"$f":"Data_4!S847","v":0}]
[{"$f":"Data_1!G848","v":0},{"$f":"Data_2!G848","v":0},{"$f":"Data_2!J848","v":0},{"$f":"Data_4!G848","v":0},{"$f":"Data_4!J848","v":0},{"$f":"Data_4!M848","v":0},{"$f":"Data_4!P848","v":0},null,null,{"$f":"Data_1!J848","v":0},{"$f":"Data_2!M848","v":0},{"$f":"Data_4!S848","v":0}]
[{"$f":"Data_1!G849","v":0},{"$f":"Data_2!G849","v":0},{"$f":"Data_2!J849","v":0},{"$f":"Data_4!G849","v":0},{"$f":"Data_4!J849","v":0},{"$f":"Data_4!M849","v":0},{"$f":"Data_4!P849","v":0},null,null,{"$f":"Data_1!J849","v":0},{"$f":"Data_2!M849","v":0},{"$f":"Data_4!S849","v":0}]
[{"$f":"Data_1!G850","v":0},{"$f":"Data_2!G850","v":0},{"$f":"Data_2!J850","v":0},{"$f":"Data_4!G850","v":0},{"$f":"Data_4!J850","v":0},{"$f":"Data_4!M850","v":0},{"$f":"Data_4!P850","v":0},null,null,{"$f":"Data_1!J850","v":0},{"$f":"Data_2!M850","v":0},{"$f":"Data_4!S850","v":0}]
[{"$f":"Data_1!G851","v":0},{"$f":"Data_2!G851","v":0},{"$f":"Data_2!J851","v":0},{"$f":"Data_4!G851","v":0},{"$f":"Data_4!J851","v":0},{"$f":"Data_4!M851","v":0},{"$f":"Data_4!P851","v":0},null,null,{"$f":"Data_1!J851","v":0},{"$f":"Data_2!M851","v":0},{"$f":"Data_4!S851","v":0}]
[{"$f":"Data_1!G852","v":0},{"$f":"Data_2!G852","v":0},{"$f":"Data_2!J852","v":0},{"$f":"Data_4!G852","v":0},{"$f":"Data_4!J852","v":0},{"$f":"Data_4!M852","v":0},{"$f":"Data_4!P852","v":0},null,null,{"$f":"Data_1!J852","v":0},{"$f":"Data_2!M852","v":0},{"$f":"Data_4!S852","v":0}]
[{"$f":"Data_1!G853","v":0},{"$f":"Data_2!G853","v":0},{"$f":"Data_2!J853","v":0},{"$f":"Data_4!G853","v":0},{"$f":"Data_4!J853","v":0},{"$f":"Data_4!M853","v":0},{"$f":"Data_4!P853","v":0},null,null,{"$f":"Data_1!J853","v":0},{"$f":"Data_2!M853","v":0},{"$f":"Data_4!S853","v":0}]
[{"$f":"Data_1!G854","v":0},{"$f":"Data_2!G854","v":0},{"$f":"Data_2!J854","v":0},{"$f":"Data_4!G854","v":0},{"$f":"Data_4!J854","v":0},{"$f":"Data_4!M854","v":0},{"$f":"Data_4!P854","v":0},null,null,{"$f":"Data_1!J854","v":0},{"$f":"Data_2!M854","v":0},{"$f":"Data_4!S854","v":0}]
[{"$f":"Data_1!G855","v":0},{"$f":"Data_2!G855","v":0},{"$f":"Data_2!J855","v":0},{"$f":"Data_4!G855","v":0},{"$f":"Data_4!J855","v":0},{"$f":"Data_4!M855","v":0},{"$f":"Data_4!P855","v":0},null,null,{"$f":"Data_1!J855","v":0},{"$f":"Data_2!M855","v":0},{"$f":"Data_4!S855","v":0}]
[{"$f":"Data_1!G856","v":0},{"$f":"Data_2!G856","v":0},{"$f":"Data_2!J856","v":0},{"$f":"Data_4!G856","v":0},{"$f":"Data_4!J856","v":0},{"$f":"Data_4!M856","v":0},{"$f":"Data_4!P856","v":0},null,null,{"$f":"Data_1!J856","v":0},{"$f":"Data_2!M856","v":0},{"$f":"Data_4!S856","v":0}]
[{"$f":"Data_1!G857","v":0},{"$f":"Data_2!G857","v":0},{"$f":"Data_2!J857","v":0},{"$f":"Data_4!G857","v":0},{"$f":"Data_4!J857","v":0},{"$f":"Data_4!M857","v":0},{"$f":"Data_4!P857","v":0},null,null,{"$f":"Data_1!J857","v":0},{"$f":"Data_2!M857","v":0},{"$f":"Data_4!S857","v":0}]
[{"$f":"Data_1!G858","v":0},{"$f":"Data_2!G858","v":0},{"$f":"Data_2!J858","v":0},{"$f":"Data_4!G858","v":0},{"$f":"Data_4!J858","v":0},{"$f":"Data_4!M858","v":0},{"$f":"Data_4!P858","v":0},null,null,{"$f":"Data_1!J858","v":0},{"$f":"Data_2!M858","v":0},{"$f":"Data_4!S858","v":0}]
[{"$f":"Data_1!G859","v":0},{"$f":"Data_2!G859","v":0},{"$f":"Data_2!J859","v":0},{"$f":"Data_4!G859","v":0},{"$f":"Data_4!J859","v":0},{"$f":"Data_4!M859","v":0},{"$f":"Data_4!P859","v":0},null,null,{"$f":"Data_1!J859","v":0},{"$f":"Data_2!M859","v":0},{"$f":"Data_4!S859","v":0}]
[{"$f":"Data_1!G860","v":0},{"$f":"Data_2!G860","v":0},{"$f":"Data_2!J860","v":0},{"$f":"Data_4!G860","v":0},{"$f":"Data_4!J860","v":0},{"$f":"Data_4!M860","v":0},{"$f":"Data_4!P860","v":0},null,null,{"$f":"Data_1!J860","v":0},{"$f":"Data_2!M860","v":0},{"$f":"Data_4!S860","v":0}]
[{"$f":"Data_1!G861","v":0},{"$f":"Data_2!G861","v":0},{"$f":"Data_2!J861","v":0},{"$f":"Data_4!G861","v":0},{"$f":"Data_4!J861","v":0},{"$f":"Data_4!M861","v":0},{"$f":"Data_4!P861","v":0},null,null,{"$f":"Data_1!J861","v":0},{"$f":"Data_2!M861","v":0},{"$f":"Data_4!S861","v":0}]
[{"$f":"Data_1!G862","v":0},{"$f":"Data_2!G862","v":0},{"$f":"Data_2!J862","v":0},{"$f":"Data_4!G862","v":0},{"$f":"Data_4!J862","v":0},{"$f":"Data_4!M862","v":0},{"$f":"Data_4!P862","v":0},null,null,{"$f":"Data_1!J862","v":0},{"$f":"Data_2!M862","v":0},{"$f":"Data_4!S862","v":0}]
[{"$f":"Data_1!G863","v":0},{"$f":"Data_2!G863","v":0},{"$f":"Data_2!J863","v":0},{"$f":"Data_4!G863","v":0},{"$f":"Data_4!J863","v":0},{"$f":"Data_4!M863","v":0},{"$f":"Data_4!P863","v":0},null,null,{"$f":"Data_1!J863","v":0},{"$f":"Data_2!M863","v":0},{"$f":"Data_4!S863","v":0}]
[{"$f":"Data_1!G864","v":0},{"$f":"Data_2!G864","v":0},{"$f":"Data_2!J864","v":0},{"$f":"Data_4!G864","v":0},{"$f":"Data_4!J864","v":0},{"$f":"Data_4!M864","v":0},{"$f":"Data_4!P864","v":0},null,null,{"$f":"Data_1!J864","v":0},{"$f":"Data_2!M864","v":0},{"$f":"Data_4!S864","v":0}]
[{"$f":"Data_1!G865","v":0},{"$f":"Data_2!G865","v":0},{"$f":"Data_2!J865","v":0},{"$f":"Data_4!G865","v":0},{"$f":"Data_4!J865","v":0},{"$f":"Data_4!M865","v":0},{"$f":"Data_4!P865","v":0},null,null,{"$f":"Data_1!J865","v":0},{"$f":"Data_2!M865","v":0},{"$f":"Data_4!S865","v":0}]
[{"$f":"Data_1!G866","v":0},{"$f":"Data_2!G866","v":0},{"$f":"Data_2!J866","v":0},{"$f":"Data_4!G866","v":0},{"$f":"Data_4!J866","v":0},{"$f":"Data_4!M866","v":0},{"$f":"Data_4!P866","v":0},null,null,{"$f":"Data_1!J866","v":0},{"$f":"Data_2!M866","v":0},{"$f":"Data_4!S866","v":0}]
[{"$f":"Data_1!G867","v":0},{"$f":"Data_2!G867","v":0},{"$f":"Data_2!J867","v":0},{"$f":"Data_4!G867","v":0},{"$f":"Data_4!J867","v":0},{"$f":"Data_4!M867","v":0},{"$f":"Data_4!P867","v":0},null,null,{"$f":"Data_1!J867","v":0},{"$f":"Data_2!M867","v":0},{"$f":"Data_4!S867","v":0}]
[{"$f":"Data_1!G868","v":0},{"$f":"Data_2!G868","v":0},{"$f":"Data_2!J868","v":0},{"$f":"Data_4!G868","v":0},{"$f":"Data_4!J868","v":0},{"$f":"Data_4!M868","v":0},{"$f":"Data_4!P868","v":0},null,null,{"$f":"Data_1!J868","v":0},{"$f":"Data_2!M868","v":0},{"$f":"Data_4!S868","v":0}]
[{"$f":"Data_1!G869","v":0},{"$f":"Data_2!G869","v":0},{"$f":"Data_2!J869","v":0},{"$f":"Data_4!G869","v":0},{"$f":"Data_4!J869","v":0},{"$f":"Data_4!M869","v":0},{"$f":"Data_4!P869","v":0},null,null,{"$f":"Data_1!J869","v":0},{"$f":"Data_2!M869","v":0},{"$f":"Data_4!S869","v":0}]
[{"$f":"Data_1!G870","v":0},{"$f":"Data_2!G870","v":0},{"$f":"Data_2!J870","v":0},{"$f":"Data_4!G870","v":0},{"$f":"Data_4!J870","v":0},{"$f":"Data_4!M870","v":0},{"$f":"Data_4!P870","v":0},null,null,{"$f":"Data_1!J870","v":0},{"$f":"Data_2!M870","v":0},{"$f":"Data_4!S870","v":0}]
[{"$f":"Data_1!G871","v":0},{"$f":"Data_2!G871","v":0},{"$f":"Data_2!J871","v":0},{"$f":"Data_4!G871","v":0},{"$f":"Data_4!J871","v":0},{"$f":"Data_4!M871","v":0},{"$f":"Data_4!P871","v":0},null,null,{"$f":"Data_1!J871","v":0},{"$f":"Data_2!M871","v":0},{"$f":"Data_4!S871","v":0}]
[{"$f":"Data_1!G872","v":0},{"$f":"Data_2!G872","v":0},{"$f":"Data_2!J872","v":0},{"$f":"Data_4!G872","v":0},{"$f":"Data_4!J872","v":0},{"$f":"Data_4!M872","v":0},{"$f":"Data_4!P872","v":0},null,null,{"$f":"Data_1!J872","v":0},{"$f":"Data_2!M872","v":0},{"$f":"Data_4!S872","v":0}]
[{"$f":"Data_1!G873","v":0},{"$f":"Data_2!G873","v":0},{"$f":"Data_2!J873","v":0},{"$f":"Data_4!G873","v":0},{"$f":"Data_4!J873","v":0},{"$f":"Data_4!M873","v":0},{"$f":"Data_4!P873","v":0},null,null,{"$f":"Data_1!J873","v":0},{"$f":"Data_2!M873","v":0},{"$f":"Data_4!S873","v":0}]
[{"$f":"Data_1!G874","v":0},{"$f":"Data_2!G874","v":0},{"$f":"Data_2!J874","v":0},{"$f":"Data_4!G874","v":0},{"$f":"Data_4!J874","v":0},{"$f":"Data_4!M874","v":0},{"$f":"Data_4!P874","v":0},null,null,{"$f":"Data_1!J874","v":0},{"$f":"Data_2!M874","v":0},{"$f":"Data_4!S874","v":0}]
[{"$f":"Data_1!G875","v":0},{"$f":"Data_2!G875","v":0},{"$f":"Data_2!J875","v":0},{"$f":"Data_4!G875","v":0},{"$f":"Data_4!J875","v":0},{"$f":"Data_4!M875","v":0},{"$f":"Data_4!P875","v":0},null,null,{"$f":"Data_1!J875","v":0},{"$f":"Data_2!M875","v":0},{"$f":"Data_4!S875","v":0}]
[{"$f":"Data_1!G876","v":0},{"$f":"Data_2!G876","v":0},{"$f":"Data_2!J876","v":0},{"$f":"Data_4!G876","v":0},{"$f":"Data_4!J876","v":0},{"$f":"Data_4!M876","v":0},{"$f":"Data_4!P876","v":0},null,null,{"$f":"Data_1!J876","v":0},{"$f":"Data_2!M876","v":0},{"$f":"Data_4!S876","v":0}]
[{"$f":"Data_1!G877","v":0},{"$f":"Data_2!G877","v":0},{"$f":"Data_2!J877","v":0},{"$f":"Data_4!G877","v":0},{"$f":"Data_4!J877","v":0},{"$f":"Data_4!M877","v":0},{"$f":"Data_4!P877","v":0},null,null,{"$f":"Data_1!J877","v":0},{"$f":"Data_2!M877","v":0},{"$f":"Data_4!S877","v":0}]
[{"$f":"Data_1!G878","v":0},{"$f":"Data_2!G878","v":0},{"$f":"Data_2!J878","v":0},{"$f":"Data_4!G878","v":0},{"$f":"Data_4!J878","v":0},{"$f":"Data_4!M878","v":0},{"$f":"Data_4!P878","v":0},null,null,{"$f":"Data_1!J878","v":0},{"$f":"Data_2!M878","v":0},{"$f":"Data_4!S878","v":0}]
[{"$f":"Data_1!G879","v":0},{"$f":"Data_2!G879","v":0},{"$f":"Data_2!J879","v":0},{"$f":"Data_4!G879","v":0},{"$f":"Data_4!J879","v":0},{"$f":"Data_4!M879","v":0},{"$f":"Data_4!P879","v":0},null,null,{"$f":"Data_1!J879","v":0},{"$f":"Data_2!M879","v":0},{"$f":"Data_4!S879","v":0}]
[{"$f":"Data_1!G880","v":0},{"$f":"Data_2!G880","v":0},{"$f":"Data_2!J880","v":0},{"$f":"Data_4!G880","v":0},{"$f":"Data_4!J880","v":0},{"$f":"Data_4!M880","v":0},{"$f":"Data_4!P880","v":0},null,null,{"$f":"Data_1!J880","v":0},{"$f":"Data_2!M880","v":0},{"$f":"Data_4!S880","v":0}]
[{"$f":"Data_1!G881","v":0},{"$f":"Data_2!G881","v":0},{"$f":"Data_2!J881","v":0},{"$f":"Data_4!G881","v":0},{"$f":"Data_4!J881","v":0},{"$f":"Data_4!M881","v":0},{"$f":"Data_4!P881","v":0},null,null,{"$f":"Data_1!J881","v":0},{"$f":"Data_2!M881","v":0},{"$f":"Data_4!S881","v":0}]
[{"$f":"Data_1!G882","v":0},{"$f":"Data_2!G882","v":0},{"$f":"Data_2!J882","v":0},{"$f":"Data_4!G882","v":0},{"$f":"Data_4!J882","v":0},{"$f":"Data_4!M882","v":0},{"$f":"Data_4!P882","v":0},null,null,{"$f":"Data_1!J882","v":0},{"$f":"Data_2!M882","v":0},{"$f":"Data_4!S882","v":0}]
[{"$f":"Data_1!G883","v":0},{"$f":"Data_2!G883","v":0},{"$f":"Data_2!J883","v":0},{"$f":"Data_4!G883","v":0},{"$f":"Data_4!J883","v":0},{"$f":"Data_4!M883","v":0},{"$f":"Data_4!P883","v":0},null,null,{"$f":"Data_1!J883","v":0},{"$f":"Data_2!M883","v":0},{"$f":"Data_4!S883","v":0}]
[{"$f":"Data_1!G884","v":0},{"$f":"Data_2!G884","v":0},{"$f":"Data_2!J884","v":0},{"$f":"Data_4!G884","v":0},{"$f":"Data_4!J884","v":0},{"$f":"Data_4!M884","v":0},{"$f":"Data_4!P884","v":0},null,null,{"$f":"Data_1!J884","v":0},{"$f":"Data_2!M884","v":0},{"$f":"Data_4!S884","v":0}]
[{"$f":"Data_1!G885","v":0},{"$f":"Data_2!G885","v":0},{"$f":"Data_2!J885","v":0},{"$f":"Data_4!G885","v":0},{"$f":"Data_4!J885","v":0},{"$f":"Data_4!M885","v":0},{"$f":"Data_4!P885","v":0},null,null,{"$f":"Data_1!J885","v":0},{"$f":"Data_2!M885","v":0},{"$f":"Data_4!S885","v":0}]
[{"$f":"Data_1!G886","v":0},{"$f":"Data_2!G886","v":0},{"$f":"Data_2!J886","v":0},{"$f":"Data_4!G886","v":0},{"$f":"Data_4!J886","v":0},{"$f":"Data_4!M886","v":0},{"$f":"Data_4!P886","v":0},null,null,{"$f":"Data_1!J886","v":0},{"$f":"Data_2!M886","v":0},{"$f":"Data_4!S886","v":0}]
[{"$f":"Data_1!G887","v":0},{"$f":"Data_2!G887","v":0},{"$f":"Data_2!J887","v":0},{"$f":"Data_4!G887","v":0},{"$f":"Data_4!J887","v":0},{"$f":"Data_4!M887","v":0},{"$f":"Data_4!P887","v":0},null,null,{"$f":"Data_1!J887","v":0},{"$f":"Data_2!M887","v":0},{"$f":"Data_4!S887","v":0}]
[{"$f":"Data_1!G888","v":0},{"$f":"Data_2!G888","v":0},{"$f":"Data_2!J888","v":0},{"$f":"Data_4!G888","v":0},{"$f":"Data_4!J888","v":0},{"$f":"Data_4!M888","v":0},{"$f":"Data_4!P888","v":0},null,null,{"$f":"Data_1!J888","v":0},{"$f":"Data_2!M888","v":0},{"$f":"Data_4!S888","v":0}]
[{"$f":"Data_1!G889","v":0},{"$f":"Data_2!G889","v":0},{"$f":"Data_2!J889","v":0},{"$f":"Data_4!G889","v":0},{"$f":"Data_4!J889","v":0},{"$f":"Data_4!M889","v":0},{"$f":"Data_4!P889","v":0},null,null,{"$f":"Data_1!J889","v":0},{"$f":"Data_2!M889","v":0},{"$f":"Data_4!S889","v":0}]
[{"$f":"Data_1!G890","v":0},{"$f":"Data_2!G890","v":0},{"$f":"Data_2!J890","v":0},{"$f":"Data_4!G890","v":0},{"$f":"Data_4!J890","v":0},{"$f":"Data_4!M890","v":0},{"$f":"Data_4!P890","v":0},null,null,{"$f":"Data_1!J890","v":0},{"$f":"Data_2!M890","v":0},{"$f":"Data_4!S890","v":0}]
[{"$f":"Data_1!G891","v":0},{"$f":"Data_2!G891","v":0},{"$f":"Data_2!J891","v":0},{"$f":"Data_4!G891","v":0},{"$f":"Data_4!J891","v":0},{"$f":"Data_4!M891","v":0},{"$f":"Data_4!P891","v":0},null,null,{"$f":"Data_1!J891","v":0},{"$f":"Data_2!M891","v":0},{"$f":"Data_4!S891","v":0}]
[{"$f":"Data_1!G892","v":0},{"$f":"Data_2!G892","v":0},{"$f":"Data_2!J892","v":0},{"$f":"Data_4!G892","v":0},{"$f":"Data_4!J892","v":0},{"$f":"Data_4!M892","v":0},{"$f":"Data_4!P892","v":0},null,null,{"$f":"Data_1!J892","v":0},{"$f":"Data_2!M892","v":0},{"$f":"Data_4!S892","v":0}]
[{"$f":"Data_1!G893","v":0},{"$f":"Data_2!G893","v":0},{"$f":"Data_2!J893","v":0},{"$f":"Data_4!G893","v":0},{"$f":"Data_4!J893","v":0},{"$f":"Data_4!M893","v":0},{"$f":"Data_4!P893","v":0},null,null,{"$f":"Data_1!J893","v":0},{"$f":"Data_2!M893","v":0},{"$f":"Data_4!S893","v":0}]
[{"$f":"Data_1!G894","v":0},{"$f":"Data_2!G894","v":0},{"$f":"Data_2!J894","v":0},{"$f":"Data_4!G894","v":0},{"$f":"Data_4!J894","v":0},{"$f":"Data_4!M894","v":0},{"$f":"Data_4!P894","v":0},null,null,{"$f":"Data_1!J894","v":0},{"$f":"Data_2!M894","v":0},{"$f":"Data_4!S894","v":0}]
[{"$f":"Data_1!G895","v":0},{"$f":"Data_2!G895","v":0},{"$f":"Data_2!J895","v":0},{"$f":"Data_4!G895","v":0},{"$f":"Data_4!J895","v":0},{"$f":"Data_4!M895","v":0},{"$f":"Data_4!P895","v":0},null,null,{"$f":"Data_1!J895","v":0},{"$f":"Data_2!M895","v":0},{"$f":"Data_4!S895","v":0}]
[{"$f":"Data_1!G896","v":0},{"$f":"Data_2!G896","v":0},{"$f":"Data_2!J896","v":0},{"$f":"Data_4!G896","v":0},{"$f":"Data_4!J896","v":0},{"$f":"Data_4!M896","v":0},{"$f":"Data_4!P896","v":0},null,null,{"$f":"Data_1!J896","v":0},{"$f":"Data_2!M896","v":0},{"$f":"Data_4!S896","v":0}]
[{"$f":"Data_1!G897","v":0},{"$f":"Data_2!G897","v":0},{"$f":"Data_2!J897","v":0},{"$f":"Data_4!G897","v":0},{"$f":"Data_4!J897","v":0},{"$f":"Data_4!M897","v":0},{"$f":"Data_4!P897","v":0},null,null,{"$f":"Data_1!J897","v":0},{"$f":"Data_2!M897","v":0},{"$f":"Data_4!S897","v":0}]
[{"$f":"Data_1!G898","v":0},{"$f":"Data_2!G898","v":0},{"$f":"Data_2!J898","v":0},{"$f":"Data_4!G898","v":0},{"$f":"Data_4!J898","v":0},{"$f":"Data_4!M898","v":0},{"$f":"Data_4!P898","v":0},null,null,{"$f":"Data_1!J898","v":0},{"$f":"Data_2!M898","v":0},{"$f":"Data_4!S898","v":0}]
[{"$f":"Data_1!G899","v":0},{"$f":"Data_2!G899","v":0},{"$f":"Data_2!J899","v":0},{"$f":"Data_4!G899","v":0},{"$f":"Data_4!J899","v":0},{"$f":"Data_4!M899","v":0},{"$f":"Data_4!P899","v":0},null,null,{"$f":"Data_1!J899","v":0},{"$f":"Data_2!M899","v":0},{"$f":"Data_4!S899","v":0}]
[{"$f":"Data_1!G900","v":0},{"$f":"Data_2!G900","v":0},{"$f":"Data_2!J900","v":0},{"$f":"Data_4!G900","v":0},{"$f":"Data_4!J900","v":0},{"$f":"Data_4!M900","v":0},{"$f":"Data_4!P900","v":0},null,null,{"$f":"Data_1!J900","v":0},{"$f":"Data_2!M900","v":0},{"$f":"Data_4!S900","v":0}]
[{"$f":"Data_1!G901","v":0},{"$f":"Data_2!G901","v":0},{"$f":"Data_2!J901","v":0},{"$f":"Data_4!G901","v":0},{"$f":"Data_4!J901","v":0},{"$f":"Data_4!M901","v":0},{"$f":"Data_4!P901","v":0},null,null,{"$f":"Data_1!J901","v":0},{"$f":"Data_2!M901","v":0},{"$f":"Data_4!S901","v":0}]
[{"$f":"Data_1!G902","v":0},{"$f":"Data_2!G902","v":0},{"$f":"Data_2!J902","v":0},{"$f":"Data_4!G902","v":0},{"$f":"Data_4!J902","v":0},{"$f":"Data_4!M902","v":0},{"$f":"Data_4!P902","v":0},null,null,{"$f":"Data_1!J902","v":0},{"$f":"Data_2!M902","v":0},{"$f":"Data_4!S902","v":0}]
[{"$f":"Data_1!G903","v":0},{"$f":"Data_2!G903","v":0},{"$f":"Data_2!J903","v":0},{"$f":"Data_4!G903","v":0},{"$f":"Data_4!J903","v":0},{"$f":"Data_4!M903","v":0},{"$f":"Data_4!P903","v":0},null,null,{"$f":"Data_1!J903","v":0},{"$f":"Data_2!M903","v":0},{"$f":"Data_4!S903","v":0}]
[{"$f":"Data_1!G904","v":0},{"$f":"Data_2!G904","v":0},{"$f":"Data_2!J904","v":0},{"$f":"Data_4!G904","v":0},{"$f":"Data_4!J904","v":0},{"$f":"Data_4!M904","v":0},{"$f":"Data_4!P904","v":0},null,null,{"$f":"Data_1!J904","v":0},{"$f":"Data_2!M904","v":0},{"$f":"Data_4!S904","v":0}]
[{"$f":"Data_1!G905","v":0},{"$f":"Data_2!G905","v":0},{"$f":"Data_2!J905","v":0},{"$f":"Data_4!G905","v":0},{"$f":"Data_4!J905","v":0},{"$f":"Data_4!M905","v":0},{"$f":"Data_4!P905","v":0},null,null,{"$f":"Data_1!J905","v":0},{"$f":"Data_2!M905","v":0},{"$f":"Data_4!S905","v":0}]
[{"$f":"Data_1!G906","v":0},{"$f":"Data_2!G906","v":0},{"$f":"Data_2!J906","v":0},{"$f":"Data_4!G906","v":0},{"$f":"Data_4!J906","v":0},{"$f":"Data_4!M906","v":0},{"$f":"Data_4!P906","v":0},null,null,{"$f":"Data_1!J906","v":0},{"$f":"Data_2!M906","v":0},{"$f":"Data_4!S906","v":0}]
[{"$f":"Data_1!G907","v":0},{"$f":"Data_2!G907","v":0},{"$f":"Data_2!J907","v":0},{"$f":"Data_4!G907","v":0},{"$f":"Data_4!J907","v":0},{"$f":"Data_4!M907","v":0},{"$f":"Data_4!P907","v":0},null,null,{"$f":"Data_1!J907","v":0},{"$f":"Data_2!M907","v":0},{"$f":"Data_4!S907","v":0}]
[{"$f":"Data_1!G908","v":0},{"$f":"Data_2!G908","v":0},{"$f":"Data_2!J908","v":0},{"$f":"Data_4!G908","v":0},{"$f":"Data_4!J908","v":0},{"$f":"Data_4!M908","v":0},{"$f":"Data_4!P908","v":0},null,null,{"$f":"Data_1!J908","v":0},{"$f":"Data_2!M908","v":0},{"$f":"Data_4!S908","v":0}]
[{"$f":"Data_1!G909","v":0},{"$f":"Data_2!G909","v":0},{"$f":"Data_2!J909","v":0},{"$f":"Data_4!G909","v":0},{"$f":"Data_4!J909","v":0},{"$f":"Data_4!M909","v":0},{"$f":"Data_4!P909","v":0},null,null,{"$f":"Data_1!J909","v":0},{"$f":"Data_2!M909","v":0},{"$f":"Data_4!S909","v":0}]
[{"$f":"Data_1!G910","v":0},{"$f":"Data_2!G910","v":0},{"$f":"Data_2!J910","v":0},{"$f":"Data_4!G910","v":0},{"$f":"Data_4!J910","v":0},{"$f":"Data_4!M910","v":0},{"$f":"Data_4!P910","v":0},null,null,{"$f":"Data_1!J910","v":0},{"$f":"Data_2!M910","v":0},{"$f":"Data_4!S910","v":0}]
[{"$f":"Data_1!G911","v":0},{"$f":"Data_2!G911","v":0},{"$f":"Data_2!J911","v":0},{"$f":"Data_4!G911","v":0},{"$f":"Data_4!J911","v":0},{"$f":"Data_4!M911","v":0},{"$f":"Data_4!P911","v":0},null,null,{"$f":"Data_1!J911","v":0},{"$f":"Data_2!M911","v":0},{"$f":"Data_4!S911","v":0}]
[{"$f":"Data_1!G912","v":0},{"$f":"Data_2!G912","v":0},{"$f":"Data_2!J912","v":0},{"$f":"Data_4!G912","v":0},{"$f":"Data_4!J912","v":0},{"$f":"Data_4!M912","v":0},{"$f":"Data_4!P912","v":0},null,null,{"$f":"Data_1!J912","v":0},{"$f":"Data_2!M912","v":0},{"$f":"Data_4!S912","v":0}]
[{"$f":"Data_1!G913","v":0},{"$f":"Data_2!G913","v":0},{"$f":"Data_2!J913","v":0},{"$f":"Data_4!G913","v":0},{"$f":"Data_4!J913","v":0},{"$f":"Data_4!M913","v":0},{"$f":"Data_4!P913","v":0},null,null,{"$f":"Data_1!J913","v":0},{"$f":"Data_2!M913","v":0},{"$f":"Data_4!S913","v":0}]
[{"$f":"Data_1!G914","v":0},{"$f":"Data_2!G914","v":0},{"$f":"Data_2!J914","v":0},{"$f":"Data_4!G914","v":0},{"$f":"Data_4!J914","v":0},{"$f":"Data_4!M914","v":0},{"$f":"Data_4!P914","v":0},null,null,{"$f":"Data_1!J914","v":0},{"$f":"Data_2!M914","v":0},{"$f":"Data_4!S914","v":0}]
[{"$f":"Data_1!G915","v":0},{"$f":"Data_2!G915","v":0},{"$f":"Data_2!J915","v":0},{"$f":"Data_4!G915","v":0},{"$f":"Data_4!J915","v":0},{"$f":"Data_4!M915","v":0},{"$f":"Data_4!P915","v":0},null,null,{"$f":"Data_1!J915","v":0},{"$f":"Data_2!M915","v":0},{"$f":"Data_4!S915","v":0}]
[{"$f":"Data_1!G916","v":0},{"$f":"Data_2!G916","v":0},{"$f":"Data_2!J916","v":0},{"$f":"Data_4!G916","v":0},{"$f":"Data_4!J916","v":0},{"$f":"Data_4!M916","v":0},{"$f":"Data_4!P916","v":0},null,null,{"$f":"Data_1!J916","v":0},{"$f":"Data_2!M916","v":0},{"$f":"Data_4!S916","v":0}]
[{"$f":"Data_1!G917","v":0},{"$f":"Data_2!G917","v":0},{"$f":"Data_2!J917","v":0},{"$f":"Data_4!G917","v":0},{"$f":"Data_4!J917","v":0},{"$f":"Data_4!M917","v":0},{"$f":"Data_4!P917","v":0},null,null,{"$f":"Data_1!J917","v":0},{"$f":"Data_2!M917","v":0},{"$f":"Data_4!S917","v":0}]
[{"$f":"Data_1!G918","v":0},{"$f":"Data_2!G918","v":0},{"$f":"Data_2!J918","v":0},{"$f":"Data_4!G918","v":0},{"$f":"Data_4!J918","v":0},{"$f":"Data_4!M918","v":0},{"$f":"Data_4!P918","v":0},null,null,{"$f":"Data_1!J918","v":0},{"$f":"Data_2!M918","v":0},{"$f":"Data_4!S918","v":0}]
[{"$f":"Data_1!G919","v":0},{"$f":"Data_2!G919","v":0},{"$f":"Data_2!J919","v":0},{"$f":"Data_4!G919","v":0},{"$f":"Data_4!J919","v":0},{"$f":"Data_4!M919","v":0},{"$f":"Data_4!P919","v":0},null,null,{"$f":"Data_1!J919","v":0},{"$f":"Data_2!M919","v":0},{"$f":"Data_4!S919","v":0}]
[{"$f":"Data_1!G920","v":0},{"$f":"Data_2!G920","v":0},{"$f":"Data_2!J920","v":0},{"$f":"Data_4!G920","v":0},{"$f":"Data_4!J920","v":0},{"$f":"Data_4!M920","v":0},{"$f":"Data_4!P920","v":0},null,null,{"$f":"Data_1!J920","v":0},{"$f":"Data_2!M920","v":0},{"$f":"Data_4!S920","v":0}]
[{"$f":"Data_1!G921","v":0},{"$f":"Data_2!G921","v":0},{"$f":"Data_2!J921","v":0},{"$f":"Data_4!G921","v":0},{"$f":"Data_4!J921","v":0},{"$f":"Data_4!M921","v":0},{"$f":"Data_4!P921","v":0},null,null,{"$f":"Data_1!J921","v":0},{"$f":"Data_2!M921","v":0},{"$f":"Data_4!S921","v":0}]
[{"$f":"Data_1!G922","v":0},{"$f":"Data_2!G922","v":0},{"$f":"Data_2!J922","v":0},{"$f":"Data_4!G922","v":0},{"$f":"Data_4!J922","v":0},{"$f":"Data_4!M922","v":0},{"$f":"Data_4!P922","v":0},null,null,{"$f":"Data_1!J922","v":0},{"$f":"Data_2!M922","v":0},{"$f":"Data_4!S922","v":0}]
[{"$f":"Data_1!G923","v":0},{"$f":"Data_2!G923","v":0},{"$f":"Data_2!J923","v":0},{"$f":"Data_4!G923","v":0},{"$f":"Data_4!J923","v":0},{"$f":"Data_4!M923","v":0},{"$f":"Data_4!P923","v":0},null,null,{"$f":"Data_1!J923","v":0},{"$f":"Data_2!M923","v":0},{"$f":"Data_4!S923","v":0}]
[{"$f":"Data_1!G924","v":0},{"$f":"Data_2!G924","v":0},{"$f":"Data_2!J924","v":0},{"$f":"Data_4!G924","v":0},{"$f":"Data_4!J924","v":0},{"$f":"Data_4!M924","v":0},{"$f":"Data_4!P924","v":0},null,null,{"$f":"Data_1!J924","v":0},{"$f":"Data_2!M924","v":0},{"$f":"Data_4!S924","v":0}]
[{"$f":"Data_1!G925","v":0},{"$f":"Data_2!G925","v":0},{"$f":"Data_2!J925","v":0},{"$f":"Data_4!G925","v":0},{"$f":"Data_4!J925","v":0},{"$f":"Data_4!M925","v":0},{"$f":"Data_4!P925","v":0},null,null,{"$f":"Data_1!J925","v":0},{"$f":"Data_2!M925","v":0},{"$f":"Data_4!S925","v":0}]
[{"$f":"Data_1!G926","v":0},{"$f":"Data_2!G926","v":0},{"$f":"Data_2!J926","v":0},{"$f":"Data_4!G926","v":0},{"$f":"Data_4!J926","v":0},{"$f":"Data_4!M926","v":0},{"$f":"Data_4!P926","v":0},null,null,{"$f":"Data_1!J926","v":0},{"$f":"Data_2!M926","v":0},{"$f":"Data_4!S926","v":0}]
[{"$f":"Data_1!G927","v":0},{"$f":"Data_2!G927","v":0},{"$f":"Data_2!J927","v":0},{"$f":"Data_4!G927","v":0},{"$f":"Data_4!J927","v":0},{"$f":"Data_4!M927","v":0},{"$f":"Data_4!P927","v":0},null,null,{"$f":"Data_1!J927","v":0},{"$f":"Data_2!M927","v":0},{"$f":"Data_4!S927","v":0}]
[{"$f":"Data_1!G928","v":0},{"$f":"Data_2!G928","v":0},{"$f":"Data_2!J928","v":0},{"$f":"Data_4!G928","v":0},{"$f":"Data_4!J928","v":0},{"$f":"Data_4!M928","v":0},{"$f":"Data_4!P928","v":0},null,null,{"$f":"Data_1!J928","v":0},{"$f":"Data_2!M928","v":0},{"$f":"Data_4!S928","v":0}]
[{"$f":"Data_1!G929","v":0},{"$f":"Data_2!G929","v":0},{"$f":"Data_2!J929","v":0},{"$f":"Data_4!G929","v":0},{"$f":"Data_4!J929","v":0},{"$f":"Data_4!M929","v":0},{"$f":"Data_4!P929","v":0},null,null,{"$f":"Data_1!J929","v":0},{"$f":"Data_2!M929","v":0},{"$f":"Data_4!S929","v":0}]
[{"$f":"Data_1!G930","v":0},{"$f":"Data_2!G930","v":0},{"$f":"Data_2!J930","v":0},{"$f":"Data_4!G930","v":0},{"$f":"Data_4!J930","v":0},{"$f":"Data_4!M930","v":0},{"$f":"Data_4!P930","v":0},null,null,{"$f":"Data_1!J930","v":0},{"$f":"Data_2!M930","v":0},{"$f":"Data_4!S930","v":0}]
[{"$f":"Data_1!G931","v":0},{"$f":"Data_2!G931","v":0},{"$f":"Data_2!J931","v":0},{"$f":"Data_4!G931","v":0},{"$f":"Data_4!J931","v":0},{"$f":"Data_4!M931","v":0},{"$f":"Data_4!P931","v":0},null,null,{"$f":"Data_1!J931","v":0},{"$f":"Data_2!M931","v":0},{"$f":"Data_4!S931","v":0}]
[{"$f":"Data_1!G932","v":0},{"$f":"Data_2!G932","v":0},{"$f":"Data_2!J932","v":0},{"$f":"Data_4!G932","v":0},{"$f":"Data_4!J932","v":0},{"$f":"Data_4!M932","v":0},{"$f":"Data_4!P932","v":0},null,null,{"$f":"Data_1!J932","v":0},{"$f":"Data_2!M932","v":0},{"$f":"Data_4!S932","v":0}]
[{"$f":"Data_1!G933","v":0},{"$f":"Data_2!G933","v":0},{"$f":"Data_2!J933","v":0},{"$f":"Data_4!G933","v":0},{"$f":"Data_4!J933","v":0},{"$f":"Data_4!M933","v":0},{"$f":"Data_4!P933","v":0},null,null,{"$f":"Data_1!J933","v":0},{"$f":"Data_2!M933","v":0},{"$f":"Data_4!S933","v":0}]
[{"$f":"Data_1!G934","v":0},{"$f":"Data_2!G934","v":0},{"$f":"Data_2!J934","v":0},{"$f":"Data_4!G934","v":0},{"$f":"Data_4!J934","v":0},{"$f":"Data_4!M934","v":0},{"$f":"Data_4!P934","v":0},null,null,{"$f":"Data_1!J934","v":0},{"$f":"Data_2!M934","v":0},{"$f":"Data_4!S934","v":0}]
[{"$f":"Data_1!G935","v":0},{"$f":"Data_2!G935","v":0},{"$f":"Data_2!J935","v":0},{"$f":"Data_4!G935","v":0},{"$f":"Data_4!J935","v":0},{"$f":"Data_4!M935","v":0},{"$f":"Data_4!P935","v":0},null,null,{"$f":"Data_1!J935","v":0},{"$f":"Data_2!M935","v":0},{"$f":"Data_4!S935","v":0}]
[{"$f":"Data_1!G936","v":0},{"$f":"Data_2!G936","v":0},{"$f":"Data_2!J936","v":0},{"$f":"Data_4!G936","v":0},{"$f":"Data_4!J936","v":0},{"$f":"Data_4!M936","v":0},{"$f":"Data_4!P936","v":0},null,null,{"$f":"Data_1!J936","v":0},{"$f":"Data_2!M936","v":0},{"$f":"Data_4!S936","v":0}]
[{"$f":"Data_1!G937","v":0},{"$f":"Data_2!G937","v":0},{"$f":"Data_2!J937","v":0},{"$f":"Data_4!G937","v":0},{"$f":"Data_4!J937","v":0},{"$f":"Data_4!M937","v":0},{"$f":"Data_4!P937","v":0},null,null,{"$f":"Data_1!J937","v":0},{"$f":"Data_2!M937","v":0},{"$f":"Data_4!S937","v":0}]
[{"$f":"Data_1!G938","v":0},{"$f":"Data_2!G938","v":0},{"$f":"Data_2!J938","v":0},{"$f":"Data_4!G938","v":0},{"$f":"Data_4!J938","v":0},{"$f":"Data_4!M938","v":0},{"$f":"Data_4!P938","v":0},null,null,{"$f":"Data_1!J938","v":0},{"$f":"Data_2!M938","v":0},{"$f":"Data_4!S938","v":0}]
[{"$f":"Data_1!G939","v":0},{"$f":"Data_2!G939","v":0},{"$f":"Data_2!J939","v":0},{"$f":"Data_4!G939","v":0},{"$f":"Data_4!J939","v":0},{"$f":"Data_4!M939","v":0},{"$f":"Data_4!P939","v":0},null,null,{"$f":"Data_1!J939","v":0},{"$f":"Data_2!M939","v":0},{"$f":"Data_4!S939","v":0}]
[{"$f":"Data_1!G940","v":0},{"$f":"Data_2!G940","v":0},{"$f":"Data_2!J940","v":0},{"$f":"Data_4!G940","v":0},{"$f":"Data_4!J940","v":0},{"$f":"Data_4!M940","v":0},{"$f":"Data_4!P940","v":0},null,null,{"$f":"Data_1!J940","v":0},{"$f":"Data_2!M940","v":0},{"$f":"Data_4!S940","v":0}]
[{"$f":"Data_1!G941","v":0},{"$f":"Data_2!G941","v":0},{"$f":"Data_2!J941","v":0},{"$f":"Data_4!G941","v":0},{"$f":"Data_4!J941","v":0},{"$f":"Data_4!M941","v":0},{"$f":"Data_4!P941","v":0},null,null,{"$f":"Data_1!J941","v":0},{"$f":"Data_2!M941","v":0},{"$f":"Data_4!S941","v":0}]
[{"$f":"Data_1!G942","v":0},{"$f":"Data_2!G942","v":0},{"$f":"Data_2!J942","v":0},{"$f":"Data_4!G942","v":0},{"$f":"Data_4!J942","v":0},{"$f":"Data_4!M942","v":0},{"$f":"Data_4!P942","v":0},null,null,{"$f":"Data_1!J942","v":0},{"$f":"Data_2!M942","v":0},{"$f":"Data_4!S942","v":0}]
[{"$f":"Data_1!G943","v":0},{"$f":"Data_2!G943","v":0},{"$f":"Data_2!J943","v":0},{"$f":"Data_4!G943","v":0},{"$f":"Data_4!J943","v":0},{"$f":"Data_4!M943","v":0},{"$f":"Data_4!P943","v":0},null,null,{"$f":"Data_1!J943","v":0},{"$f":"Data_2!M943","v":0},{"$f":"Data_4!S943","v":0}]
[{"$f":"Data_1!G944","v":0},{"$f":"Data_2!G944","v":0},{"$f":"Data_2!J944","v":0},{"$f":"Data_4!G944","v":0},{"$f":"Data_4!J944","v":0},{"$f":"Data_4!M944","v":0},{"$f":"Data_4!P944","v":0},null,null,{"$f":"Data_1!J944","v":0},{"$f":"Data_2!M944","v":0},{"$f":"Data_4!S944","v":0}]
[{"$f":"Data_1!G945","v":0},{"$f":"Data_2!G945","v":0},{"$f":"Data_2!J945","v":0},{"$f":"Data_4!G945","v":0},{"$f":"Data_4!J945","v":0},{"$f":"Data_4!M945","v":0},{"$f":"Data_4!P945","v":0},null,null,{"$f":"Data_1!J945","v":0},{"$f":"Data_2!M945","v":0},{"$f":"Data_4!S945","v":0}]
[{"$f":"Data_1!G946","v":0},{"$f":"Data_2!G946","v":0},{"$f":"Data_2!J946","v":0},{"$f":"Data_4!G946","v":0},{"$f":"Data_4!J946","v":0},{"$f":"Data_4!M946","v":0},{"$f":"Data_4!P946","v":0},null,null,{"$f":"Data_1!J946","v":0},{"$f":"Data_2!M946","v":0},{"$f":"Data_4!S946","v":0}]
[{"$f":"Data_1!G947","v":0},{"$f":"Data_2!G947","v":0},{"$f":"Data_2!J947","v":0},{"$f":"Data_4!G947","v":0},{"$f":"Data_4!J947","v":0},{"$f":"Data_4!M947","v":0},{"$f":"Data_4!P947","v":0},null,null,{"$f":"Data_1!J947","v":0},{"$f":"Data_2!M947","v":0},{"$f":"Data_4!S947","v":0}]
[{"$f":"Data_1!G948","v":0},{"$f":"Data_2!G948","v":0},{"$f":"Data_2!J948","v":0},{"$f":"Data_4!G948","v":0},{"$f":"Data_4!J948","v":0},{"$f":"Data_4!M948","v":0},{"$f":"Data_4!P948","v":0},null,null,{"$f":"Data_1!J948","v":0},{"$f":"Data_2!M948","v":0},{"$f":"Data_4!S948","v":0}]
[{"$f":"Data_1!G949","v":0},{"$f":"Data_2!G949","v":0},{"$f":"Data_2!J949","v":0},{"$f":"Data_4!G949","v":0},{"$f":"Data_4!J949","v":0},{"$f":"Data_4!M949","v":0},{"$f":"Data_4!P949","v":0},null,null,{"$f":"Data_1!J949","v":0},{"$f":"Data_2!M949","v":0},{"$f":"Data_4!S949","v":0}]
[{"$f":"Data_1!G950","v":0},{"$f":"Data_2!G950","v":0},{"$f":"Data_2!J950","v":0},{"$f":"Data_4!G950","v":0},{"$f":"Data_4!J950","v":0},{"$f":"Data_4!M950","v":0},{"$f":"Data_4!P950","v":0},null,null,{"$f":"Data_1!J950","v":0},{"$f":"Data_2!M950","v":0},{"$f":"Data_4!S950","v":0}]
[{"$f":"Data_1!G951","v":0},{"$f":"Data_2!G951","v":0},{"$f":"Data_2!J951","v":0},{"$f":"Data_4!G951","v":0},{"$f":"Data_4!J951","v":0},{"$f":"Data_4!M951","v":0},{"$f":"Data_4!P951","v":0},null,null,{"$f":"Data_1!J951","v":0},{"$f":"Data_2!M951","v":0},{"$f":"Data_4!S951","v":0}]
[{"$f":"Data_1!G952","v":0},{"$f":"Data_2!G952","v":0},{"$f":"Data_2!J952","v":0},{"$f":"Data_4!G952","v":0},{"$f":"Data_4!J952","v":0},{"$f":"Data_4!M952","v":0},{"$f":"Data_4!P952","v":0},null,null,{"$f":"Data_1!J952","v":0},{"$f":"Data_2!M952","v":0},{"$f":"Data_4!S952","v":0}]
[{"$f":"Data_1!G953","v":0},{"$f":"Data_2!G953","v":0},{"$f":"Data_2!J953","v":0},{"$f":"Data_4!G953","v":0},{"$f":"Data_4!J953","v":0},{"$f":"Data_4!M953","v":0},{"$f":"Data_4!P953","v":0},null,null,{"$f":"Data_1!J953","v":0},{"$f":"Data_2!M953","v":0},{"$f":"Data_4!S953","v":0}]
[{"$f":"Data_1!G954","v":0},{"$f":"Data_2!G954","v":0},{"$f":"Data_2!J954","v":0},{"$f":"Data_4!G954","v":0},{"$f":"Data_4!J954","v":0},{"$f":"Data_4!M954","v":0},{"$f":"Data_4!P954","v":0},null,null,{"$f":"Data_1!J954","v":0},{"$f":"Data_2!M954","v":0},{"$f":"Data_4!S954","v":0}]
[{"$f":"Data_1!G955","v":0},{"$f":"Data_2!G955","v":0},{"$f":"Data_2!J955","v":0},{"$f":"Data_4!G955","v":0},{"$f":"Data_4!J955","v":0},{"$f":"Data_4!M955","v":0},{"$f":"Data_4!P955","v":0},null,null,{"$f":"Data_1!J955","v":0},{"$f":"Data_2!M955","v":0},{"$f":"Data_4!S955","v":0}]
[{"$f":"Data_1!G956","v":0},{"$f":"Data_2!G956","v":0},{"$f":"Data_2!J956","v":0},{"$f":"Data_4!G956","v":0},{"$f":"Data_4!J956","v":0},{"$f":"Data_4!M956","v":0},{"$f":"Data_4!P956","v":0},null,null,{"$f":"Data_1!J956","v":0},{"$f":"Data_2!M956","v":0},{"$f":"Data_4!S956","v":0}]
[{"$f":"Data_1!G957","v":0},{"$f":"Data_2!G957","v":0},{"$f":"Data_2!J957","v":0},{"$f":"Data_4!G957","v":0},{"$f":"Data_4!J957","v":0},{"$f":"Data_4!M957","v":0},{"$f":"Data_4!P957","v":0},null,null,{"$f":"Data_1!J957","v":0},{"$f":"Data_2!M957","v":0},{"$f":"Data_4!S957","v":0}]
[{"$f":"Data_1!G958","v":0},{"$f":"Data_2!G958","v":0},{"$f":"Data_2!J958","v":0},{"$f":"Data_4!G958","v":0},{"$f":"Data_4!J958","v":0},{"$f":"Data_4!M958","v":0},{"$f":"Data_4!P958","v":0},null,null,{"$f":"Data_1!J958","v":0},{"$f":"Data_2!M958","v":0},{"$f":"Data_4!S958","v":0}]
[{"$f":"Data_1!G959","v":0},{"$f":"Data_2!G959","v":0},{"$f":"Data_2!J959","v":0},{"$f":"Data_4!G959","v":0},{"$f":"Data_4!J959","v":0},{"$f":"Data_4!M959","v":0},{"$f":"Data_4!P959","v":0},null,null,{"$f":"Data_1!J959","v":0},{"$f":"Data_2!M959","v":0},{"$f":"Data_4!S959","v":0}]
[{"$f":"Data_1!G960","v":0},{"$f":"Data_2!G960","v":0},{"$f":"Data_2!J960","v":0},{"$f":"Data_4!G960","v":0},{"$f":"Data_4!J960","v":0},{"$f":"Data_4!M960","v":0},{"$f":"Data_4!P960","v":0},null,null,{"$f":"Data_1!J960","v":0},{"$f":"Data_2!M960","v":0},{"$f":"Data_4!S960","v":0}]
[{"$f":"Data_1!G961","v":0},{"$f":"Data_2!G961","v":0},{"$f":"Data_2!J961","v":0},{"$f":"Data_4!G961","v":0},{"$f":"Data_4!J961","v":0},{"$f":"Data_4!M961","v":0},{"$f":"Data_4!P961","v":0},null,null,{"$f":"Data_1!J961","v":0},{"$f":"Data_2!M961","v":0},{"$f":"Data_4!S961","v":0}]
[{"$f":"Data_1!G962","v":0},{"$f":"Data_2!G962","v":0},{"$f":"Data_2!J962","v":0},{"$f":"Data_4!G962","v":0},{"$f":"Data_4!J962","v":0},{"$f":"Data_4!M962","v":0},{"$f":"Data_4!P962","v":0},null,null,{"$f":"Data_1!J962","v":0},{"$f":"Data_2!M962","v":0},{"$f":"Data_4!S962","v":0}]
[{"$f":"Data_1!G963","v":0},{"$f":"Data_2!G963","v":0},{"$f":"Data_2!J963","v":0},{"$f":"Data_4!G963","v":0},{"$f":"Data_4!J963","v":0},{"$f":"Data_4!M963","v":0},{"$f":"Data_4!P963","v":0},null,null,{"$f":"Data_1!J963","v":0},{"$f":"Data_2!M963","v":0},{"$f":"Data_4!S963","v":0}]
[{"$f":"Data_1!G964","v":0},{"$f":"Data_2!G964","v":0},{"$f":"Data_2!J964","v":0},{"$f":"Data_4!G964","v":0},{"$f":"Data_4!J964","v":0},{"$f":"Data_4!M964","v":0},{"$f":"Data_4!P964","v":0},null,null,{"$f":"Data_1!J964","v":0},{"$f":"Data_2!M964","v":0},{"$f":"Data_4!S964","v":0}]
[{"$f":"Data_1!G965","v":0},{"$f":"Data_2!G965","v":0},{"$f":"Data_2!J965","v":0},{"$f":"Data_4!G965","v":0},{"$f":"Data_4!J965","v":0},{"$f":"Data_4!M965","v":0},{"$f":"Data_4!P965","v":0},null,null,{"$f":"Data_1!J965","v":0},{"$f":"Data_2!M965","v":0},{"$f":"Data_4!S965","v":0}]
[{"$f":"Data_1!G966","v":0},{"$f":"Data_2!G966","v":0},{"$f":"Data_2!J966","v":0},{"$f":"Data_4!G966","v":0},{"$f":"Data_4!J966","v":0},{"$f":"Data_4!M966","v":0},{"$f":"Data_4!P966","v":0},null,null,{"$f":"Data_1!J966","v":0},{"$f":"Data_2!M966","v":0},{"$f":"Data_4!S966","v":0}]
[{"$f":"Data_1!G967","v":0},{"$f":"Data_2!G967","v":0},{"$f":"Data_2!J967","v":0},{"$f":"Data_4!G967","v":0},{"$f":"Data_4!J967","v":0},{"$f":"Data_4!M967","v":0},{"$f":"Data_4!P967","v":0},null,null,{"$f":"Data_1!J967","v":0},{"$f":"Data_2!M967","v":0},{"$f":"Data_4!S967","v":0}]
[{"$f":"Data_1!G968","v":0},{"$f":"Data_2!G968","v":0},{"$f":"Data_2!J968","v":0},{"$f":"Data_4!G968","v":0},{"$f":"Data_4!J968","v":0},{"$f":"Data_4!M968","v":0},{"$f":"Data_4!P968","v":0},null,null,{"$f":"Data_1!J968","v":0},{"$f":"Data_2!M968","v":0},{"$f":"Data_4!S968","v":0}]
[{"$f":"Data_1!G969","v":0},{"$f":"Data_2!G969","v":0},{"$f":"Data_2!J969","v":0},{"$f":"Data_4!G969","v":0},{"$f":"Data_4!J969","v":0},{"$f":"Data_4!M969","v":0},{"$f":"Data_4!P969","v":0},null,null,{"$f":"Data_1!J969","v":0},{"$f":"Data_2!M969","v":0},{"$f":"Data_4!S969","v":0}]
[{"$f":"Data_1!G970","v":0},{"$f":"Data_2!G970","v":0},{"$f":"Data_2!J970","v":0},{"$f":"Data_4!G970","v":0},{"$f":"Data_4!J970","v":0},{"$f":"Data_4!M970","v":0},{"$f":"Data_4!P970","v":0},null,null,{"$f":"Data_1!J970","v":0},{"$f":"Data_2!M970","v":0},{"$f":"Data_4!S970","v":0}]
[{"$f":"Data_1!G971","v":0},{"$f":"Data_2!G971","v":0},{"$f":"Data_2!J971","v":0},{"$f":"Data_4!G971","v":0},{"$f":"Data_4!J971","v":0},{"$f":"Data_4!M971","v":0},{"$f":"Data_4!P971","v":0},null,null,{"$f":"Data_1!J971","v":0},{"$f":"Data_2!M971","v":0},{"$f":"Data_4!S971","v":0}]
[{"$f":"Data_1!G972","v":0},{"$f":"Data_2!G972","v":0},{"$f":"Data_2!J972","v":0},{"$f":"Data_4!G972","v":0},{"$f":"Data_4!J972","v":0},{"$f":"Data_4!M972","v":0},{"$f":"Data_4!P972","v":0},null,null,{"$f":"Data_1!J972","v":0},{"$f":"Data_2!M972","v":0},{"$f":"Data_4!S972","v":0}]
[{"$f":"Data_1!G973","v":0},{"$f":"Data_2!G973","v":0},{"$f":"Data_2!J973","v":0},{"$f":"Data_4!G973","v":0},{"$f":"Data_4!J973","v":0},{"$f":"Data_4!M973","v":0},{"$f":"Data_4!P973","v":0},null,null,{"$f":"Data_1!J973","v":0},{"$f":"Data_2!M973","v":0},{"$f":"Data_4!S973","v":0}]
[{"$f":"Data_1!G974","v":0},{"$f":"Data_2!G974","v":0},{"$f":"Data_2!J974","v":0},{"$f":"Data_4!G974","v":0},{"$f":"Data_4!J974","v":0},{"$f":"Data_4!M974","v":0},{"$f":"Data_4!P974","v":0},null,null,{"$f":"Data_1!J974","v":0},{"$f":"Data_2!M974","v":0},{"$f":"Data_4!S974","v":0}]
[{"$f":"Data_1!G975","v":0},{"$f":"Data_2!G975","v":0},{"$f":"Data_2!J975","v":0},{"$f":"Data_4!G975","v":0},{"$f":"Data_4!J975","v":0},{"$f":"Data_4!M975","v":0},{"$f":"Data_4!P975","v":0},null,null,{"$f":"Data_1!J975","v":0},{"$f":"Data_2!M975","v":0},{"$f":"Data_4!S975","v":0}]
[{"$f":"Data_1!G976","v":0},{"$f":"Data_2!G976","v":0},{"$f":"Data_2!J976","v":0},{"$f":"Data_4!G976","v":0},{"$f":"Data_4!J976","v":0},{"$f":"Data_4!M976","v":0},{"$f":"Data_4!P976","v":0},null,null,{"$f":"Data_1!J976","v":0},{"$f":"Data_2!M976","v":0},{"$f":"Data_4!S976","v":0}]
[{"$f":"Data_1!G977","v":0},{"$f":"Data_2!G977","v":0},{"$f":"Data_2!J977","v":0},{"$f":"Data_4!G977","v":0},{"$f":"Data_4!J977","v":0},{"$f":"Data_4!M977","v":0},{"$f":"Data_4!P977","v":0},null,null,{"$f":"Data_1!J977","v":0},{"$f":"Data_2!M977","v":0},{"$f":"Data_4!S977","v":0}]
[{"$f":"Data_1!G978","v":0},{"$f":"Data_2!G978","v":0},{"$f":"Data_2!J978","v":0},{"$f":"Data_4!G978","v":0},{"$f":"Data_4!J978","v":0},{"$f":"Data_4!M978","v":0},{"$f":"Data_4!P978","v":0},null,null,{"$f":"Data_1!J978","v":0},{"$f":"Data_2!M978","v":0},{"$f":"Data_4!S978","v":0}]
[{"$f":"Data_1!G979","v":0},{"$f":"Data_2!G979","v":0},{"$f":"Data_2!J979","v":0},{"$f":"Data_4!G979","v":0},{"$f":"Data_4!J979","v":0},{"$f":"Data_4!M979","v":0},{"$f":"Data_4!P979","v":0},null,null,{"$f":"Data_1!J979","v":0},{"$f":"Data_2!M979","v":0},{"$f":"Data_4!S979","v":0}]
[{"$f":"Data_1!G980","v":0},{"$f":"Data_2!G980","v":0},{"$f":"Data_2!J980","v":0},{"$f":"Data_4!G980","v":0},{"$f":"Data_4!J980","v":0},{"$f":"Data_4!M980","v":0},{"$f":"Data_4!P980","v":0},null,null,{"$f":"Data_1!J980","v":0},{"$f":"Data_2!M980","v":0},{"$f":"Data_4!S980","v":0}]
[{"$f":"Data_1!G981","v":0},{"$f":"Data_2!G981","v":0},{"$f":"Data_2!J981","v":0},{"$f":"Data_4!G981","v":0},{"$f":"Data_4!J981","v":0},{"$f":"Data_4!M981","v":0},{"$f":"Data_4!P981","v":0},null,null,{"$f":"Data_1!J981","v":0},{"$f":"Data_2!M981","v":0},{"$f":"Data_4!S981","v":0}]
[{"$f":"Data_1!G982","v":0},{"$f":"Data_2!G982","v":0},{"$f":"Data_2!J982","v":0},{"$f":"Data_4!G982","v":0},{"$f":"Data_4!J982","v":0},{"$f":"Data_4!M982","v":0},{"$f":"Data_4!P982","v":0},null,null,{"$f":"Data_1!J982","v":0},{"$f":"Data_2!M982","v":0},{"$f":"Data_4!S982","v":0}]
[{"$f":"Data_1!G983","v":0},{"$f":"Data_2!G983","v":0},{"$f":"Data_2!J983","v":0},{"$f":"Data_4!G983","v":0},{"$f":"Data_4!J983","v":0},{"$f":"Data_4!M983","v":0},{"$f":"Data_4!P983","v":0},null,null,{"$f":"Data_1!J983","v":0},{"$f":"Data_2!M983","v":0},{"$f":"Data_4!S983","v":0}]
[{"$f":"Data_1!G984","v":0},{"$f":"Data_2!G984","v":0},{"$f":"Data_2!J984","v":0},{"$f":"Data_4!G984","v":0},{"$f":"Data_4!J984","v":0},{"$f":"Data_4!M984","v":0},{"$f":"Data_4!P984","v":0},null,null,{"$f":"Data_1!J984","v":0},{"$f":"Data_2!M984","v":0},{"$f":"Data_4!S984","v":0}]
[{"$f":"Data_1!G985","v":0},{"$f":"Data_2!G985","v":0},{"$f":"Data_2!J985","v":0},{"$f":"Data_4!G985","v":0},{"$f":"Data_4!J985","v":0},{"$f":"Data_4!M985","v":0},{"$f":"Data_4!P985","v":0},null,null,{"$f":"Data_1!J985","v":0},{"$f":"Data_2!M985","v":0},{"$f":"Data_4!S985","v":0}]
[{"$f":"Data_1!G986","v":0},{"$f":"Data_2!G986","v":0},{"$f":"Data_2!J986","v":0},{"$f":"Data_4!G986","v":0},{"$f":"Data_4!J986","v":0},{"$f":"Data_4!M986","v":0},{"$f":"Data_4!P986","v":0},null,null,{"$f":"Data_1!J986","v":0},{"$f":"Data_2!M986","v":0},{"$f":"Data_4!S986","v":0}]
[{"$f":"Data_1!G987","v":0},{"$f":"Data_2!G987","v":0},{"$f":"Data_2!J987","v":0},{"$f":"Data_4!G987","v":0},{"$f":"Data_4!J987","v":0},{"$f":"Data_4!M987","v":0},{"$f":"Data_4!P987","v":0},null,null,{"$f":"Data_1!J987","v":0},{"$f":"Data_2!M987","v":0},{"$f":"Data_4!S987","v":0}]
[{"$f":"Data_1!G988","v":0},{"$f":"Data_2!G988","v":0},{"$f":"Data_2!J988","v":0},{"$f":"Data_4!G988","v":0},{"$f":"Data_4!J988","v":0},{"$f":"Data_4!M988","v":0},{"$f":"Data_4!P988","v":0},null,null,{"$f":"Data_1!J988","v":0},{"$f":"Data_2!M988","v":0},{"$f":"Data_4!S988","v":0}]
[{"$f":"Data_1!G989","v":0},{"$f":"Data_2!G989","v":0},{"$f":"Data_2!J989","v":0},{"$f":"Data_4!G989","v":0},{"$f":"Data_4!J989","v":0},{"$f":"Data_4!M989","v":0},{"$f":"Data_4!P989","v":0},null,null,{"$f":"Data_1!J989","v":0},{"$f":"Data_2!M989","v":0},{"$f":"Data_4!S989","v":0}]
[{"$f":"Data_1!G990","v":0},{"$f":"Data_2!G990","v":0},{"$f":"Data_2!J990","v":0},{"$f":"Data_4!G990","v":0},{"$f":"Data_4!J990","v":0},{"$f":"Data_4!M990","v":0},{"$f":"Data_4!P990","v":0},null,null,{"$f":"Data_1!J990","v":0},{"$f":"Data_2!M990","v":0},{"$f":"Data_4!S990","v":0}]
[{"$f":"Data_1!G991","v":0},{"$f":"Data_2!G991","v":0},{"$f":"Data_2!J991","v":0},{"$f":"Data_4!G991","v":0},{"$f":"Data_4!J991","v":0},{"$f":"Data_4!M991","v":0},{"$f":"Data_4!P991","v":0},null,null,{"$f":"Data_1!J991","v":0},{"$f":"Data_2!M991","v":0},{"$f":"Data_4!S991","v":0}]
[{"$f":"Data_1!G992","v":0},{"$f":"Data_2!G992","v":0},{"$f":"Data_2!J992","v":0},{"$f":"Data_4!G992","v":0},{"$f":"Data_4!J992","v":0},{"$f":"Data_4!M992","v":0},{"$f":"Data_4!P992","v":0},null,null,{"$f":"Data_1!J992","v":0},{"$f":"Data_2!M992","v":0},{"$f":"Data_4!S992","v":0}]
[{"$f":"Data_1!G993","v":0},{"$f":"Data_2!G993","v":0},{"$f":"Data_2!J993","v":0},{"$f":"Data_4!G993","v":0},{"$f":"Data_4!J993","v":0},{"$f":"Data_4!M993","v":0},{"$f":"Data_4!P993","v":0},null,null,{"$f":"Data_1!J993","v":0},{"$f":"Data_2!M993","v":0},{"$f":"Data_4!S993","v":0}]
[{"$f":"Data_1!G994","v":0},{"$f":"Data_2!G994","v":0},{"$f":"Data_2!J994","v":0},{"$f":"Data_4!G994","v":0},{"$f":"Data_4!J994","v":0},{"$f":"Data_4!M994","v":0},{"$f":"Data_4!P994","v":0},null,null,{"$f":"Data_1!J994","v":0},{"$f":"Data_2!M994","v":0},{"$f":"Data_4!S994","v":0}]
[{"$f":"Data_1!G995","v":0},{"$f":"Data_2!G995","v":0},{"$f":"Data_2!J995","v":0},{"$f":"Data_4!G995","v":0},{"$f":"Data_4!J995","v":0},{"$f":"Data_4!M995","v":0},{"$f":"Data_4!P995","v":0},null,null,{"$f":"Data_1!J995","v":0},{"$f":"Data_2!M995","v":0},{"$f":"Data_4!S995","v":0}]
[{"$f":"Data_1!G996","v":0},{"$f":"Data_2!G996","v":0},{"$f":"Data_2!J996","v":0},{"$f":"Data_4!G996","v":0},{"$f":"Data_4!J996","v":0},{"$f":"Data_4!M996","v":0},{"$f":"Data_4!P996","v":0},null,null,{"$f":"Data_1!J996","v":0},{"$f":"Data_2!M996","v":0},{"$f":"Data_4!S996","v":0}]
[{"$f":"Data_1!G997","v":0},{"$f":"Data_2!G997","v":0},{"$f":"Data_2!J997","v":0},{"$f":"Data_4!G997","v":0},{"$f":"Data_4!J997","v":0},{"$f":"Data_4!M997","v":0},{"$f":"Data_4!P997","v":0},null,null,{"$f":"Data_1!J997","v":0},{"$f":"Data_2!M997","v":0},{"$f":"Data_4!S997","v":0}]
[{"$f":"Data_1!G998","v":0},{"$f":"Data_2!G998","v":0},{"$f":"Data_2!J998","v":0},{"$f":"Data_4!G998","v":0},{"$f":"Data_4!J998","v":0},{"$f":"Data_4!M998","v":0},{"$f":"Data_4!P998","v":0},null,null,{"$f":"Data_1!J998","v":0},{"$f":"Data_2!M998","v":0},{"$f":"Data_4!S998","v":0}]
[{"$f":"Data_1!G999","v":0},{"$f":"Data_2!G999","v":0},{"$f":"Data_2!J999","v":0},{"$f":"Data_4!G999","v":0},{"$f":"Data_4!J999","v":0},{"$f":"Data_4!M999","v":0},{"$f":"Data_4!P999","v":0},null,null,{"$f":"Data_1!J999","v":0},{"$f":"Data_2!M999","v":0},{"$f":"Data_4!S999","v":0}]
[{"$f":"Data_1!G1000","v":0},{"$f":"Data_2!G1000","v":0},{"$f":"Data_2!J1000","v":0},{"$f":"Data_4!G1000","v":0},{"$f":"Data_4!J1000","v":0},{"$f":"Data_4!M1000","v":0},{"$f":"Data_4!P1000","v":0},null,null,{"$f":"Data_1!J1000","v":0},{"$f":"Data_2!M1000","v":0},{"$f":"Data_4!S1000","v":0}]